{"text_format":"1","workbook":"xlsx","n_sheets":4,"sheets":["入力画面","印刷画面","Sheet2","Sheet1"],"not_rendered":{"charts":0,"images":0,"macros":1,"external_links":0,"defined_names":1,"comments":1,"pivot_tables":0},"unopened":[],"bounds":{"document_bytes":16777216,"sheet_cells":100000,"rows_first":2000,"rows_last":500,"rows_between":2000,"halvings":0,"cell_chars":16384,"cell_head_chars":4096},"cells_cut":0,"cells_raw":0,"read":"whole","date_system":"1900"}

{"sheet":"入力画面","index":0,"n_rows":109,"n_cols":33,"rows_kept":109,"cut":false,"hidden":false,"merged":[[7,21,7,25],[3,26,3,30],[6,0,6,30],[1,0,2,30],[3,0,4,25],[4,26,4,30],[0,0,0,30],[1,32,1,38],[103,0,103,30],[59,3,59,9],[60,3,60,9],[61,3,61,9],[62,3,62,9],[63,3,63,9],[64,3,64,9],[68,10,68,13],[23,0,23,30],[30,0,44,1],[5,0,5,30],[17,0,17,30],[24,0,25,30],[7,14,7,15],[13,14,13,15],[54,0,54,30],[31,2,33,7],[106,0,106,30],[107,0,107,30],[108,0,108,30],[102,0,102,30],[74,10,74,13],[85,9,85,21],[46,21,46,24],[47,21,47,24],[48,21,48,24],[76,0,76,30],[58,10,58,13],[59,10,59,13],[70,12,70,13],[70,16,70,18],[70,20,70,21],[46,0,46,20],[47,0,47,20],[48,0,48,20],[57,3,57,9],[52,0,52,30],[83,0,83,30],[86,0,86,6],[88,0,89,8],[56,10,56,13],[57,10,57,13],[61,10,61,13],[63,10,63,13],[64,10,64,13],[66,0,66,30],[68,0,68,9],[57,14,57,15],[58,14,58,15],[59,14,59,15],[57,0,58,1],[57,2,58,2],[59,0,60,1],[61,0,62,1],[63,0,64,1],[59,2,60,2],[86,9,86,21],[99,0,99,8],[93,0,93,30],[95,0,95,8],[90,9,90,21],[104,0,104,30],[105,0,105,30],[100,0,100,8],[91,0,91,8],[97,10,97,12],[97,14,97,17],[98,9,98,30],[100,9,100,30],[96,9,96,21],[99,9,99,21],[95,9,95,21],[96,0,96,8],[90,0,90,8],[88,14,88,17],[89,9,89,30],[91,9,91,30],[97,0,98,8],[87,0,87,6],[88,10,88,12],[78,21,78,22],[79,21,79,22],[87,9,87,21],[81,0,81,30],[60,14,60,15],[61,14,61,15],[62,14,62,15],[63,14,63,15],[64,14,64,15],[69,0,69,2],[72,3,72,9],[71,0,71,9],[73,3,73,9],[72,0,73,2],[85,0,85,8],[74,0,74,2],[74,4,74,8],[70,14,70,15],[71,10,71,13],[86,7,86,8],[87,7,87,8],[72,10,72,13],[72,14,72,15],[73,14,73,15],[74,14,74,15],[21,10,21,17],[61,2,62,2],[63,2,64,2],[27,25,27,26],[27,28,27,29],[27,0,28,7],[28,8,28,20],[27,21,27,23],[31,21,31,24],[32,21,32,24],[33,21,33,24],[31,8,31,20],[32,8,32,20],[33,8,33,20],[30,2,30,20],[27,8,27,20],[73,10,73,13],[60,10,60,13],[62,10,62,13],[35,2,37,7],[71,14,71,15],[58,3,58,9],[56,0,56,9],[14,0,14,9],[13,0,13,9],[36,8,36,20],[37,8,37,20],[43,8,43,20],[44,8,44,20],[39,21,39,24],[40,21,40,24],[41,21,41,24],[21,0,21,9],[42,21,42,24],[43,21,43,24],[44,21,44,24],[39,8,41,13],[39,2,44,7],[35,8,35,20],[19,10,19,17],[20,10,20,17],[30,21,30,24],[28,21,28,24],[35,21,35,24],[36,21,36,24],[37,21,37,24],[20,0,20,9],[11,0,11,9],[10,0,10,9],[9,0,9,9],[8,0,8,9],[7,0,7,7],[7,8,7,9],[7,10,7,12],[7,17,7,18],[8,10,8,19],[9,10,9,19],[10,10,10,19],[11,10,11,19],[12,0,12,9],[12,10,12,19],[14,10,14,18],[78,0,79,6],[78,7,78,9],[79,7,79,9],[78,17,78,20],[79,17,79,20],[78,10,78,12],[79,10,79,12],[78,14,78,15],[79,14,79,15],[13,10,13,12],[49,0,50,20],[42,8,42,20],[39,14,39,20],[40,14,40,20],[41,14,41,20],[13,17,13,18],[70,0,70,9],[15,10,15,25],[19,0,19,9],[49,21,50,24],[15,0,15,9]]}
["＜この証明書に関する問合せ先> 　　　　　　　　　　　　　　　　　　　　　　　                         RI管理室　　(電話)072-451-2616  (メール) rim@rri.kyoto-u.ac.jp　　　　　                                 (住所)〒5900494  大阪府泉南郡熊取町朝代西2丁目1010   京都大学複合原子力科学研究所　RI管理室"]
["★最初にマクロを有効にしてください。エラーが出て審査で訂正が入る場合もあります！！",null,null,null,null,null,null,null,null,null,null,null,null,null,null,null,null,null,null,null,null,null,null,null,null,null,null,null,null,null,null,null,"<放射線業務従事者証明書提出の流れ>"]
[null,null,null,null,null,null,null,null,null,null,null,null,null,null,null,null,null,null,null,null,null,null,null,null,null,null,null,null,null,null,null,null,"①「入力画面」シートの黄色の部分に入力してください。"]
["　　　放射線業務従事者証明書",null,null,null,null,null,null,null,null,null,null,null,null,null,null,null,null,null,null,null,null,null,null,null,null,null,"障-様式-002",null,null,null,null,null,"②入力終了後黄色の箇所が無いことを確認してください。"]
[null,null,null,null,null,null,null,null,null,null,null,null,null,null,null,null,null,null,null,null,null,null,null,null,null,null,null,null,null,null,null,null,"（プルダウンで✓を選択する欄は「✓」マークか「空欄」かどちらか必ず選択してください。）"]
["基本情報",null,null,null,null,null,null,null,null,null,null,null,null,null,null,null,null,null,null,null,null,null,null,null,null,null,null,null,null,null,null,null,"③このエクセルファイルをKWFSに添付しワークフローを開始してください。"]
["※黄色のセルは必須項目です。必ず入力してください。",null,null,null,null,null,null,null,null,null,null,null,null,null,null,null,null,null,null,null,null,null,null,null,null,null,null,null,null,null,null,null,"④KWFSで承認がおりましたら、このエクセルファイルの「印刷画面」シートを開き"]
["記入日",null,null,null,null,null,null,null,"(西暦)",null,null,null,null,"年",null,null,"月",null,null,"日","(",{"$f":"IF(K8=\"\",\"\",(YEAR(EDATE(AF8,-3))))","v":""},null,null,null,null,"年度分）",null,null,null,null,{"$f":"DATE($K$8,$O$8,$R$8)","v":{"$error":"#NUM!"}},"   印刷してください。"]
["ふりがな(姓）",null,null,null,null,null,null,null,null,null,null,null,null,null,null,null,null,null,null,null,null,null,null,null,null,null,null,null,null,null,null,null,"  (承認がおりていますのでここでの内容修正は絶対にしないでください。"]
["ふりがな(名）",null,null,null,null,null,null,null,null,null,null,null,null,null,null,null,null,null,null,null,null,null,null,null,null,null,null,null,null,null,null,null,"   　　　内容に変更がある場合はRI管理室まで御連絡ください。)"]
["氏名（姓）",null,null,null,null,null,null,null,null,null,null,null,null,null,null,null,null,null,null,null,null,null,null,null,null,null,null,null,null,null,null,null,"⑤④で印刷した証明書の「管理責任者(放射線取扱主任者)」の欄に押印の上"]
["氏名（名）",null,null,null,null,null,null,null,null,null,null,null,null,null,null,null,null,null,null,null,null,null,null,null,null,null,null,null,null,null,null,null,"　RI管理室まで郵送してください。"]
["性別",null,null,null,null,null,null,null,null,null,null,null,null,null,null,null,null,null,null,null,null,null,null,null,null,null,null,null,null,null,null,null,"※このシートの最下部に記載しております<脚注>をご一読ください"]
["生年月日(西暦)",null,null,null,null,null,null,null,null,null,null,null,null,"年",null,null,"月",null,null,"日"]
["職名・身分"]
["所属機関・部局(学部・課等)"]
[]
["複合研での利用予定施設"]
[]
["RI施設"]
["原子炉施設"]
["X線発生装置等"]
[]
["所属機関における健康診断・教育の詳細"]
["研究所において放射線業務に従事する者は、以下の、所属機関における健康診断判定日・診断結果と教育訓練受講項目・受講時間数・受講日、ならびに被ばく歴を記入すること。"]
[]
[]
["健康診断",null,null,null,null,null,null,null,"健康診断判定日(西暦)",null,null,null,null,null,null,null,null,null,null,null,null,null,null,null,"年",null,null,"月",null,null,"日"]
[null,null,null,null,null,null,null,null,"放射線業務従事"]
[]
["教育訓練受講項目・時間数",null,"教育区分"]
[null,null,"①放射線の人体に与える影響",null,null,null,null,null,"教育時間(初回のみ入力：教育時間30分以上)",null,null,null,null,null,null,null,null,null,null,null,null,null,null,null,null,"分"]
[null,null,null,null,null,null,null,null,"教育受講日"]
[null,null,null,null,null,null,null,null,"教育の省略"]
[]
[null,null,"②放射線予防規程等",null,null,null,null,null,"教育時間(初回のみ入力：教育時間30分以上)",null,null,null,null,null,null,null,null,null,null,null,null,null,null,null,null,"分"]
[null,null,null,null,null,null,null,null,"教育受講日"]
[null,null,null,null,null,null,null,null,"教育の省略"]
[]
[null,null,"③放射性同位元素放射性発生装置の安全取扱",null,null,null,null,null,"教育内容",null,null,null,null,null,"   非密封RI"]
[null,null,null,null,null,null,null,null,null,null,null,null,null,null,"   密封RI"]
[null,null,null,null,null,null,null,null,null,null,null,null,null,null,"   加速器"]
[null,null,null,null,null,null,null,null,"教育時間(初回のみ入力：教育時間60分以上)",null,null,null,null,null,null,null,null,null,null,null,null,null,null,null,null,"分"]
[null,null,null,null,null,null,null,null,"教育受講日"]
[null,null,null,null,null,null,null,null,"教育の省略"]
[]
["Ⓐ　原子炉等規制法の業務従事者登録に必要な教育"]
["   原子炉等規制法の業務従事者登録に必要な教育受講日"]
["Ⓑ労働安全衛生法に基づくX線発生装置等の利用に必要な教育"]
["証明書添付　(上記の教育の省略に「✓」した場合は教育訓練に関する証明書を添付してください)"]
[]
[]
["最近の被ばく歴"]
[]
["①前年度までの過去４年間の線量"]
[]
["被ばく歴"]
[{"$f":"$AF$58","v":{"$error":"#NUM!"}},null,"年度","実効線量",null,null,null,null,null,null,null,null,null,null,"mSv",null,null,null,null,null,null,null,null,null,null,null,null,null,null,null,null,{"$f":"YEAR(EDATE($AF$8,-15))","v":{"$error":"#NUM!"}}]
[null,null,null,"眼の水晶体",null,null,null,null,null,null,null,null,null,null,"mSv"]
[{"$f":"$AF$58-1","v":{"$error":"#NUM!"}},null,"年度","実効線量",null,null,null,null,null,null,null,null,null,null,"mSv"]
[null,null,null,"眼の水晶体",null,null,null,null,null,null,null,null,null,null,"mSv"]
[{"$f":"$AF$58-2","v":{"$error":"#NUM!"}},null,"年度","実効線量",null,null,null,null,null,null,null,null,null,null,"mSv"]
[null,null,null,"眼の水晶体",null,null,null,null,null,null,null,null,null,null,"mSv"]
[{"$f":"$AF$58-3","v":{"$error":"#NUM!"}},null,"年度","実効線量",null,null,null,null,null,null,null,null,null,null,"mSv"]
[null,null,null,"眼の水晶体",null,null,null,null,null,null,null,null,null,null,"mSv"]
[]
["②今年度の線量"]
[]
["被ばく歴"]
[null,null,null,null,null,null,null,null,null,null,null,null,"↓"]
["該当ありの場合の期間(西暦)",null,null,null,null,null,null,null,null,null,null,"年",null,null,"月～",null,null,null,null,"年",null,null,"月"]
["今年度の実効線量",null,null,null,null,null,null,null,null,null,null,null,null,null,"mSv"]
["等価線量",null,null,"皮膚",null,null,null,null,null,null,null,null,null,null,"mSv"]
[null,null,null,"眼の水晶体",null,null,null,null,null,null,null,null,null,null,"mSv"]
["その他",null,null,"(",null,null,null,null,null,")",null,null,null,null,"mSv"]
[]
["③先月までの過去2か月間の実効線量　(女子のみ)"]
[]
["直近月を上段に入力してください",null,null,null,null,null,null,"(西暦)",null,null,null,null,null,"年",null,null,"月",null,null,null,null,"mSv"]
[null,null,null,null,null,null,null,"(西暦)",null,null,null,null,null,"年",null,null,"月",null,null,null,null,"mSv"]
[]
["所属機関情報"]
[]
["①管理責任者（放射線取扱主任者）"]
[]
["管理機関名"]
["管理責任者",null,null,null,null,null,null,"職名"]
["(放射線取扱主任者)",null,null,null,null,null,null,"氏名"]
["住所",null,null,null,null,null,null,null,null,"〒",null,null,null,"-"]
[]
["電話番号"]
["E-mail"]
[]
["②事務担当者の連絡先"]
[]
["管理機関名"]
["担当者名"]
["住所",null,null,null,null,null,null,null,null,"〒",null,null,null,"-"]
[]
["電話番号"]
["E-mail"]
[]
["<脚注> 外来者及びその所属機関の責任者は、研究所・作業に際して、以下の事項を承諾するものとする。"]
["１．研究所における諸規定及びその細則等に定める規則に従うこと。"]
["２．管理区域に立ち入る際には、研究所において貸出するガラス線量計を装着すること。貸与した線量計は退所時に返却すること。"]
["３．研究所の「年度教育訓練実施計画」に定められた教育を受講すること。"]
["４．本証明書提出後に、特別の線量管理が必要となった場合は、直ちに研究所に連絡すること。"]
["５．放射線業務従事者は当該年度にあらためて所属機関において健康診断又は教育訓練を受けた場合、この証明書を改めて速やかに提出すること。"]
["６．Ｘ線作業主任者免状の写し又は、人体に対する放射線の影響及びＸ線装置の安全取扱に関する項目並びに労働安全衛生法令を受講している旨を記した初回又は再教育に関する証明書類"]

{"sheet":"印刷画面","index":1,"n_rows":54,"n_cols":41,"rows_kept":54,"cut":false,"hidden":false,"merged":[[0,1,0,7],[0,30,0,37],[1,2,1,37],[2,2,2,12],[2,27,2,29],[2,31,2,32],[2,34,2,35],[12,39,12,44],[11,28,12,30],[11,31,12,31],[11,32,12,37],[12,1,12,3],[12,4,12,9],[12,10,12,15],[11,1,11,3],[11,4,11,9],[11,10,11,15],[11,16,12,17],[11,18,12,18],[11,19,12,22],[11,23,12,23],[11,24,12,26],[5,39,5,42],[7,1,7,12],[3,1,3,37],[4,1,4,37],[13,1,13,11],[13,12,13,37],[15,1,15,37],[16,1,16,6],[16,7,16,9],[16,27,16,34],[16,35,16,36],[8,1,8,37],[10,1,10,3],[10,4,10,9],[10,10,10,15],[10,16,10,17],[10,18,10,31],[10,32,10,37],[16,10,16,12],[16,14,16,16],[16,18,16,20],[16,22,16,26],[11,27,12,27],[18,1,18,24],[18,25,18,31],[18,32,18,35],[18,36,18,37],[19,2,19,24],[19,25,19,28],[19,29,19,30],[19,32,19,35],[17,24,17,28],[17,31,17,37],[17,1,17,4],[17,5,17,11],[17,12,17,16],[17,19,17,21],[23,27,23,31],[23,32,23,37],[19,39,19,44],[20,2,20,24],[20,25,20,28],[20,29,20,30],[20,32,20,35],[21,2,21,24],[21,25,22,28],[21,29,22,30],[21,31,22,31],[21,32,22,35],[21,36,22,36],[21,37,22,37],[22,5,22,8],[22,11,22,13],[22,16,22,18],[28,39,28,44],[29,22,29,24],[29,25,29,26],[29,27,29,29],[29,30,29,31],[29,33,29,34],[29,35,29,36],[29,39,29,43],[24,2,24,29],[24,30,24,35],[24,36,24,37],[27,1,27,9],[28,22,28,24],[28,25,28,26],[28,27,28,29],[28,30,28,31],[28,33,28,34],[28,35,28,36],[30,39,32,41],[30,42,32,44],[31,22,31,24],[31,25,31,26],[31,27,31,29],[31,30,31,31],[31,33,31,34],[31,35,31,36],[30,22,30,24],[30,25,30,26],[30,27,30,29],[30,30,30,31],[30,33,30,34],[30,35,30,36],[33,26,33,27],[33,28,33,30],[33,31,33,32],[33,33,33,34],[33,35,33,36],[33,39,33,44],[33,1,33,10],[33,12,33,16],[33,17,33,19],[33,20,33,21],[33,22,33,23],[33,24,33,25],[34,27,34,31],[34,32,34,34],[34,35,34,36],[35,6,35,8],[35,9,35,11],[35,12,35,13],[35,14,35,17],[35,18,35,20],[35,21,35,22],[35,24,35,26],[38,22,38,24],[38,27,38,28],[38,30,38,32],[40,1,40,5],[40,6,40,23],[40,24,40,37],[35,27,35,30],[35,32,35,34],[35,35,35,36],[37,19,37,21],[37,22,37,24],[37,27,37,28],[37,30,37,32],[42,26,42,34],[43,1,43,2],[43,3,43,12],[43,13,43,15],[43,16,43,34],[41,1,42,2],[41,3,41,4],[41,5,41,7],[41,9,41,12],[41,24,41,25],[41,26,41,34],[2,15,2,18],[49,2,49,37],[50,2,50,37],[51,2,51,37],[52,2,52,37],[53,2,53,37],[46,1,46,2],[46,3,46,12],[46,13,46,15],[46,16,46,37],[47,1,47,37],[48,2,48,37],[44,1,44,9],[44,10,44,12],[44,13,44,26],[44,27,44,30],[44,31,44,37],[45,3,45,4],[45,5,45,6],[45,8,45,10],[45,12,45,37],[41,35,43,37],[42,3,42,23],[42,24,42,25]]}
[null,"2021/4/1改定",null,null,null,null,null,null,null,null,null,null,null,null,null,null,null,null,null,null,null,null,null,null,null,null,null,null,null,null,"障-様式-002",null,null,null,null,null,null,null,null,null,"2024/12/23修正"]
[null,null,"放射線業務従事者証明書"]
[null,null,null,null,null,null,null,null,null,null,null,null,null,null,"(",{"$f":"IF(入力画面!V8=\"\",\"\",入力画面!V8)","v":""},null,null,null,"年度分)",null,null,null,null,null,null,"記入日",{"$f":"IF(入力画面!K8=\"\",\"\",入力画面!K8)","v":""},null,null,"年",{"$f":"IF(入力画面!O8=\"\",\"\",入力画面!O8)","v":""},null,"月",{"$f":"IF(入力画面!R8=\"\",\"\",入力画面!R8)","v":""},null,"日"]
[null,"京都大学複合原子力科学研究所"]
[null," ＲＩ管理室長　中央管理室長　核燃料管理室長　放射線取扱主任者　殿"]
[]
[null,null,"下記の者は、当所属機関において放射線等の取扱業務に従事可能であることを証明します。"]
[]
[]
[]
[null,null,null,null,"姓",null,null,null,null,null,"名",null,null,null,null,null,"性別",null,"生　年　月　日",null,null,null,null,null,null,null,null,null,null,null,null,null,"職名・身分"]
[null,"ふりがな",null,null,{"$f":"IF(入力画面!K9=\"\",\"\",入力画面!K9)","v":""},null,null,null,null,null,{"$f":"IF(入力画面!K10=\"\",\"\",入力画面!K10)","v":""},null,null,null,null,null,{"$f":"IF(入力画面!K13=\"\",\"\",入力画面!K13)","v":""},null,"西暦　　　　",{"$f":"IF(入力画面!K14=\"\",\"\",入力画面!K14)","v":""},null,null,null,"年",{"$f":"IF(入力画面!O14=\"\",\"\",入力画面!O14)","v":""},null,null,"月",{"$f":"IF(入力画面!R14=\"\",\"\",入力画面!R14)","v":""},null,null,"日",{"$f":"IF(入力画面!K15=\"\",\"\",入力画面!K15)","v":""}]
[null,"氏名",null,null,{"$f":"IF(入力画面!K11=\"\",\"\",入力画面!K11)","v":""},null,null,null,null,null,{"$f":"IF(入力画面!K12=\"\",\"\",入力画面!K12)","v":""}]
[null,"所属機関・部局（学部・課等）",null,null,null,null,null,null,null,null,null,null,{"$f":"IF(入力画面!K16=\"\",\"\",入力画面!K16)","v":""}]
[]
[null,"研究所において放射線業務に従事する者は、以下の、所属機関における健康診断判定日・診断結果と教育訓練受講項目・受講時間数・受講日、ならびに被ばく歴を記入すること。"]
[null,"健康診断判定日",null,null,null,null,null,"西暦",null,null,{"$f":"IF(入力画面!V28=\"\",\"\",入力画面!V28)","v":""},null,null,"年",{"$f":"IF(入力画面!Z28=\"\",\"\",入力画面!Z28)","v":""},null,null,"月",{"$f":"IF(入力画面!AC28=\"\",\"\",入力画面!AC28)","v":""},null,null,"日","健康診断結果",null,null,null,null,"放射線業務従事（",null,null,null,null,null,null,null,{"$f":"IF(入力画面!V29=\"\",\"\",入力画面!V29)","v":""},null,"）"]
[null,"教育区分",null,null,null,{"$f":"IF(入力画面!V31=\"\",\"\",入力画面!V31)","v":""},null,null,null,null,null,null,"利用施設",null,null,null,null,null,{"$f":"IF(Sheet1!C1=\"\",\"\",Sheet1!C1)","v":""},"RI施設",null,null,null,{"$f":"IF(Sheet1!C2=\"\",\"\",Sheet1!C2)","v":""},"原子炉施設",null,null,null,null,null,{"$f":"IF(Sheet1!C3=\"\",\"\",Sheet1!C3)","v":""},"X線発生装置等"]
[null,"教育訓練受講項目・時間数（該当する項目すべてマーク)",null,null,null,null,null,null,null,null,null,null,null,null,null,null,null,null,null,null,null,null,null,null,null,"教育時間(初回のみ)",null,null,null,null,null,null,"教育受講日",null,null,null,"省略"]
[null,"①","放射線の人体に与える影響",null,null,null,null,null,null,null,null,null,null,null,null,null,null,null,null,null,null,null,null,null,null,"30分以上",null,null,null,{"$f":"IF(入力画面!V32=\"\",\"\",入力画面!V32)","v":""},null,"分",{"$f":"IF(入力画面!V33=\"\",\"\",入力画面!V33)","v":""},null,null,null,{"$f":"IF(入力画面!V34=\"\",\"\",入力画面!V34)","v":""},"※"]
[null,"②","放射性同位元素等規制法及び放射線障害予防規程等",null,null,null,null,null,null,null,null,null,null,null,null,null,null,null,null,null,null,null,null,null,null,"30分以上",null,null,null,{"$f":"IF(入力画面!V36=\"\",\"\",入力画面!V36)","v":""},null,"分",{"$f":"IF(入力画面!V37=\"\",\"\",入力画面!V37)","v":""},null,null,null,{"$f":"IF(入力画面!V38=\"\",\"\",入力画面!V38)","v":""},"※"]
[null,"③","放射性同位元素又は放射線発生装置の安全取扱",null,null,null,null,null,null,null,null,null,null,null,null,null,null,null,null,null,null,null,null,null,null,"60分以上",null,null,null,{"$f":"IF(入力画面!V43=\"\",\"\",入力画面!V43)","v":""},null,"分",{"$f":"IF(入力画面!V44=\"\",\"\",入力画面!V44)","v":""},null,null,null,{"$f":"IF(入力画面!V45=\"\",\"\",入力画面!V45)","v":""},"※"]
[null,null,null,null,{"$f":"IF(Sheet1!C5=\"\",\"\",Sheet1!C5)","v":""},"非密封RI",null,null,null,null,{"$f":"IF(Sheet1!C6=\"\",\"\",Sheet1!C6)","v":""},"密封RI",null,null,null,{"$f":"IF(Sheet1!C7=\"\",\"\",Sheet1!C7)","v":""},"加速器"]
[null,{"$f":"IF(入力画面!V47=\"\",\"\",入力画面!V47)","v":""}," 原子炉等規制法の業務従事者登録に必要な教育（原子炉施設利用者のみ）",null,null,null,null,null,null,null,null,null,null,null,null,null,null,null,null,null,null,null,null,null,null,null,null,"教育受講日",null,null,null,null,{"$f":"IF(入力画面!V48=\"\",\"\",入力画面!V48)","v":""}]
[null,{"$f":"IF(入力画面!V49=\"\",\"\",入力画面!V49)","v":""},"労働安全衛生法に基づくX線発生装置等の利用に必要な教育（X線発生装置利用者）",null,null,null,null,null,null,null,null,null,null,null,null,null,null,null,null,null,null,null,null,null,null,null,null,null,null,null,"証明書添付",null,null,null,null,null,{"$f":"IF(入力画面!V50=\"\",\"\",入力画面!V50)","v":""}]
[null,"受講した項目に✓してください。",null,null,null,null,null,null,null,null,null,null,"※","省略に☑した場合は教育訓練省略に関する証明書を添付すること"]
[]
[null,"最近の被ばく歴",null,null,null,null,null,null,null,null,null,null,null,null,null,null,null,null,null,null,null,null,null,null,null,null,null,"実効線量",null,null,null,null,"眼の水晶体"]
[null,"①前年度までの過去４年間の線量",null,null,null,null,null,null,null,null,null,null,null,null,null,null,null,null,null,null,null,"西暦(直近)",{"$f":"IF(入力画面!A58=\"\",\"\",入力画面!A58)","v":{"$error":"#NUM!"}},null,null,"年度",null,{"$f":"IF(入力画面!K58=\"\",\"\",入力画面!K58)","v":""},null,null,"mSv",null,null,{"$f":"IF(入力画面!K59=\"\",\"\",入力画面!K59)","v":""},null,"mSv"]
[null,null,null,null,"（",{"$f":"IF(Sheet1!C10=\"\",\"\",Sheet1!C10)","v":""},"該当なしの場合はチェック）",null,null,null,null,null,null,null,null,null,null,null,null,null,null,null,{"$f":"IF(入力画面!A60=\"\",\"\",入力画面!A60)","v":{"$error":"#NUM!"}},null,null,"年度",null,{"$f":"IF(入力画面!K60=\"\",\"\",入力画面!K60)","v":""},null,null,"mSv",null,null,{"$f":"IF(入力画面!K61=\"\",\"\",入力画面!K61)","v":""},null,"mSv"]
[null,null,null,null,null,null,null,null,null,null,null,null,null,null,null,null,null,null,null,null,null,null,{"$f":"IF(入力画面!A62=\"\",\"\",入力画面!A62)","v":{"$error":"#NUM!"}},null,null,"年度",null,{"$f":"IF(入力画面!K62=\"\",\"\",入力画面!K62)","v":""},null,null,"mSv",null,null,{"$f":"IF(入力画面!K63=\"\",\"\",入力画面!K63)","v":""},null,"mSv"]
[null,null,null,null,null,null,null,null,null,null,null,null,null,null,null,null,null,null,null,null,null,null,{"$f":"IF(入力画面!A64=\"\",\"\",入力画面!A64)","v":{"$error":"#NUM!"}},null,null,"年度",null,{"$f":"IF(入力画面!K64=\"\",\"\",入力画面!K64)","v":""},null,null,"mSv",null,null,{"$f":"IF(入力画面!K65=\"\",\"\",入力画面!K65)","v":""},null,"mSv"]
[]
[null,"②今年度の線量",null,null,null,null,null,null,null,null,null,null,"期間(西暦)",null,null,null,null,{"$f":"IF(入力画面!K71=\"\",\"\",入力画面!K71)","v":""},null,null,"年",null,{"$f":"IF(入力画面!M71=\"\",\"\",入力画面!M71)","v":""},null,"月",null,"～",null,{"$f":"IF(入力画面!Q71=\"\",\"\",入力画面!Q71)","v":""},null,null,"年",null,{"$f":"IF(入力画面!U71=\"\",\"\",入力画面!U71)","v":""},null,"月）"]
[null,null,null,null,"（",{"$f":"IF(Sheet1!C13=\"\",\"\",Sheet1!C13)","v":""},"該当なしの場合はチェック）",null,null,null,null,null,null,null,null,null,null,null,null,null,null,null,null,null,null,null,null,"実効線量",null,null,null,null,{"$f":"IF(入力画面!K72=\"\",\"\",入力画面!K72)","v":""},null,null,"mSv"]
[null,null,"等価線量",null,null,null,"皮膚",null,null,{"$f":"IF(入力画面!K73=\"\",\"\",入力画面!K73)","v":""},null,null,"mSv",null,"眼の水晶体",null,null,null,{"$f":"IF(入力画面!K74=\"\",\"\",入力画面!K74)","v":""},null,null,"mSv",null,null,"その他(",null,null,{"$f":"IF(入力画面!E75=\"\",\"\",入力画面!E75)","v":""},null,null,null,"）",{"$f":"IF(入力画面!K75=\"\",\"\",入力画面!K75)","v":""},null,null,"mSv"]
[]
[null,"③先月までの過去2か月間の実効線量",null,null,null,null,null,null,null,null,null,null,null,null,null,null,null,null,null,"西暦",null,null,{"$f":"IF(入力画面!K79=\"\",\"\",入力画面!K79)","v":""},null,null,"年",null,{"$f":"IF(入力画面!O79=\"\",\"\",入力画面!O79)","v":""},null,"月",{"$f":"IF(入力画面!R79=\"\",\"\",入力画面!R79)","v":""},null,null,"mSv"]
[null,null,null,null,null,null,null,null,null,null,null,null,null,null,null,null,null,null,null,null,null,null,{"$f":"IF(入力画面!K80=\"\",\"\",入力画面!K80)","v":""},null,null,"年",null,{"$f":"IF(入力画面!O80=\"\",\"\",入力画面!O80)","v":""},null,"月",{"$f":"IF(入力画面!R80=\"\",\"\",入力画面!R80)","v":""},null,null,"mSv"]
[]
[null,"管理機関名",null,null,null,null,{"$f":"IF(入力画面!J86=\"\",\"\",入力画面!J86)","v":""},null,null,null,null,null,null,null,null,null,null,null,null,null,null,null,null,null,"管理責任者（放射線取扱主任者）"]
[null,"住所",null,"（〒",null,{"$f":"IF(Sheet1!B15=\"\",\"\",Sheet1!B15)","v":0},null,null,"-",{"$f":"IF(Sheet1!C15=\"\",\"\",Sheet1!C15)","v":0},null,null,null,"）",null,null,null,null,null,null,null,null,null,null,"職名",null,{"$f":"IF(入力画面!J87=\"\",\"\",入力画面!J87)","v":""},null,null,null,null,null,null,null,null,"印"]
[null,null,null,{"$f":"IF(入力画面!J90=\"\",\"\",入力画面!J90)","v":""},null,null,null,null,null,null,null,null,null,null,null,null,null,null,null,null,null,null,null,null,"氏名",null,{"$f":"IF(入力画面!J88=\"\",\"\",入力画面!J88)","v":""}]
[null,"Tel",null,{"$f":"IF(Sheet1!B16=\"\",\"\",Sheet1!B16)","v":0},null,null,null,null,null,null,null,null,null,"E-mail",null,null,{"$f":"IF(Sheet1!B17=\"\",\"\",Sheet1!B17)","v":0}]
[null,"事務担当者の連絡先",null,null,null,null,null,null,null,null,"機関名",null,null,{"$f":"IF(入力画面!J96=\"\",\"\",(入力画面!J96))","v":""},null,null,null,null,null,null,null,null,null,null,null,null,null,"担当者名",null,null,null,{"$f":"IF(入力画面!J97=\"\",\"\",入力画面!J97)","v":""}]
[null,"住所",null,"（〒",null,{"$f":"IF(Sheet1!B19=\"\",\"\",Sheet1!B19)","v":0},null,"-",{"$f":"IF(Sheet1!C19=\"\",\"\",Sheet1!C19)","v":0},null,null,"）",{"$f":"IF(入力画面!J99=\"\",\"\",入力画面!J99)","v":""}]
[null,"Tel",null,{"$f":"IF(Sheet1!B20=\"\",\"\",Sheet1!B20)","v":0},null,null,null,null,null,null,null,null,null,"E-mail",null,null,{"$f":"IF(Sheet1!B21=\"\",\"\",Sheet1!B21)","v":0}]
[null,"外来者及びその所属機関の責任者は、研究所・作業に際して、以下の事項を承諾するものとする。"]
[null,null,"１．研究所における諸規定及びその細則等に定める規則に従うこと。"]
[null,null,"２．管理区域に立ち入る際には、研究所において貸出するガラス線量計を装着すること。貸与した線量計は退所時に返却すること。"]
[null,null,"３．研究所の「年度教育訓練実施計画」に定められた教育を受講すること。"]
[null,null,"４．本証明書提出後に、特別の線量管理が必要となった場合は、直ちに研究所に連絡すること。"]
[null,null,"５．放射線業務従事者は当該年度にあらためて所属機関において健康診断又は教育訓練を受けた場合、この証明書を改めて速やかに提出すること。"]
[null,null,"６．Ｘ線作業主任者免状の写し又は、人体に対する放射線の影響及びＸ線装置の安全取扱に関する項目並びに労働安全衛生法令を受講している旨を記した初回又は再教育に関する証明書類"]

{"sheet":"Sheet2","index":2,"n_rows":3,"n_cols":85,"rows_kept":3,"cut":false,"hidden":true,"merged":[]}
[]
[null,"提出日・年","提出日・月","提出日・日","放射性同位元素等規制法","原子炉等規制法","ふりがな(性）","ふりがな(名）","氏名（性）","氏名（名）","性別","生年月日・年","生年月日・月","生年月日・日","職名・身分","所属機関・部局","健康診断判定・年","健康診断判定・月","健康診断判定・日","教育区分","放射線業務従事","放射線の人体に与える影響教育時間","放射線の人体に与える影響教育受講日","教育の省略","放射線障害予防規程等教育時間","放射線障害予防規程等教育教育受講日","教育の省略","放射性同位元素放射性発生装置の安全取扱教育時間","放射性同位元素放射性発生装置の安全取扱教育受講日","教育の省略","非密封RI","密封RI","加速器","原子炉等規制法の業務従事者登録に必要な教育","原子炉等規制法の業務従事者登録に必要な教育受講日","被ばく歴該当なし","被ばく歴・年1","被ばく歴・実効線量1","被ばく歴・水晶体1","被ばく歴・年2","被ばく歴・実効線量2","被ばく歴・水晶体2","被ばく歴・年3","被ばく歴・実効線量3","被ばく歴・水晶体3","被ばく歴・年4","被ばく歴・実効線量4","被ばく歴・水晶体4","被ばく歴該当なし(女子）","今年度の線量・期間・年（自）","今年度の線量・期間・月（自）","今年度の線量・期間・年（至）","今年度の線量・期間・月（至）","今年度の線量・実効線量","今年度の線量・検出限界（X)","今年度の線量・等価線量 皮膚","今年度の線量・等価線量 目の水晶体","今年度の線量・その他　部位","今年度の線量・線量","女子年度1","女子月1","女子線量1","女子年度2","女子月2","女子線量2","管理機関名","管理者・職名","管理者・氏名","郵便番号前3ケタ","郵便番号後4ケタ","住所","電話番号","E-mail","事務担当連絡先　機関名","担当者","事務担当郵便番号前3ケタ","事務担当郵便番号後4ケタ","事務担当住所","事務担当電話番号","事務担当E-mail","RI施設","原子炉施設","X線発生装置等","労働安全衛生法に基づくX線発生装置等の利用に必要な教育","証明書添付"]
["生データ",{"$f":"ASC(入力画面!$K8)","v":""},{"$f":"ASC(入力画面!$O8)","v":""},{"$f":"ASC(入力画面!$R8)","v":""},null,null,{"$f":"入力画面!$K9","v":0},{"$f":"入力画面!$K10","v":0},{"$f":"入力画面!$K11","v":0},{"$f":"入力画面!$K12","v":0},{"$f":"入力画面!$K13","v":0},{"$f":"ASC(入力画面!$K14)","v":""},{"$f":"ASC(入力画面!$O14)","v":""},{"$f":"ASC(入力画面!$R14)","v":""},{"$f":"入力画面!$K15","v":0},{"$f":"入力画面!$K16","v":0},{"$f":"入力画面!$V28","v":0},{"$f":"入力画面!$Z28","v":0},{"$f":"入力画面!$AC28","v":0},{"$f":"入力画面!$V31","v":0},{"$f":"入力画面!$V29","v":0},{"$f":"入力画面!$V32","v":0},{"$f":"入力画面!$V33","v":"00:00:00"},{"$f":"入力画面!$V34","v":0},{"$f":"入力画面!$V36","v":0},{"$f":"入力画面!$V37","v":"00:00:00"},{"$f":"入力画面!$V38","v":0},{"$f":"入力画面!$V43","v":0},{"$f":"入力画面!$V44","v":"00:00:00"},{"$f":"入力画面!$V45","v":0},{"$f":"入力画面!$V40","v":0},{"$f":"入力画面!$V41","v":0},{"$f":"入力画面!$V42","v":0},{"$f":"入力画面!$V47","v":0},{"$f":"入力画面!$V48","v":"00:00:00"},{"$f":"入力画面!$K57","v":0},{"$f":"入力画面!$A58","v":{"$error":"#NUM!"}},{"$f":"入力画面!$K58","v":0},{"$f":"入力画面!$K59","v":0},{"$f":"入力画面!$A60","v":{"$error":"#NUM!"}},{"$f":"入力画面!$K60","v":0},{"$f":"入力画面!$K61","v":0},{"$f":"入力画面!$A62","v":{"$error":"#NUM!"}},{"$f":"入力画面!$K62","v":0},{"$f":"入力画面!$K63","v":0},{"$f":"入力画面!$A64","v":{"$error":"#NUM!"}},{"$f":"入力画面!$K64","v":0},{"$f":"入力画面!$K65","v":0},{"$f":"入力画面!$K69","v":0},{"$f":"入力画面!$K71","v":0},{"$f":"入力画面!$M71","v":0},{"$f":"入力画面!$Q71","v":0},{"$f":"入力画面!$U71","v":0},{"$f":"入力画面!$K72","v":0},null,{"$f":"入力画面!$K73","v":0},{"$f":"入力画面!$K74","v":0},{"$f":"入力画面!$E75","v":0},{"$f":"入力画面!$K75","v":0},{"$f":"入力画面!$K79","v":0},{"$f":"入力画面!$O79","v":0},{"$f":"入力画面!$R79","v":0},{"$f":"入力画面!$K80","v":0},{"$f":"入力画面!$O80","v":0},{"$f":"入力画面!$R80","v":0},{"$f":"入力画面!$J86","v":0},{"$f":"入力画面!$J87","v":0},{"$f":"入力画面!$J88","v":0},{"$f":"入力画面!K89","v":0},{"$f":"入力画面!O89","v":0},{"$f":"入力画面!J90","v":0},{"$f":"入力画面!J91","v":0},{"$f":"入力画面!J92","v":0},{"$f":"入力画面!$J96","v":0},{"$f":"入力画面!$J97","v":0},{"$f":"入力画面!K98","v":0},{"$f":"入力画面!O98","v":0},{"$f":"入力画面!$J99","v":0},{"$f":"入力画面!J100","v":0},{"$f":"入力画面!J101","v":0},{"$f":"入力画面!$K20","v":0},{"$f":"入力画面!$K21","v":0},{"$f":"入力画面!$K22","v":0},{"$f":"入力画面!$V49","v":0},{"$f":"入力画面!$V50","v":0}]

{"sheet":"Sheet1","index":3,"n_rows":21,"n_cols":3,"rows_kept":21,"cut":false,"hidden":true,"merged":[[14,0,16,0],[18,0,20,0]]}
["RI施設",{"$f":"入力画面!K20","v":0},{"$f":"IF(AND(B1=\"利用する\"),\"✓\",\"\")","v":""}]
["原子炉施設",{"$f":"入力画面!K21","v":0},{"$f":"IF(AND(B2=\"利用する\"),\"✓\",\"\")","v":""}]
["X線発生装置等",{"$f":"入力画面!K22","v":0},""]
[]
["   非密封RI",{"$f":"入力画面!V40","v":0},{"$f":"IF(AND(B5=\"✓\"),\"✓\",\"\")","v":""}]
["   密封RI",{"$f":"入力画面!V41","v":0},{"$f":"IF(AND(B6=\"✓\"),\"✓\",\"\")","v":""}]
["   加速器",{"$f":"入力画面!V42","v":0},""]
[]
["①前年度までの過去４年間の線量"]
["被ばく歴",{"$f":"入力画面!K57","v":0},{"$f":"IF(AND(B10=\"該当なし\"),\"✓\",\"\")","v":""}]
[]
["②今年度の線量"]
["被ばく歴",{"$f":"入力画面!K69","v":0},{"$f":"IF(AND(B13=\"該当なし\"),\"✓\",\"\")","v":""}]
[]
["管理機関",{"$f":"入力画面!K89","v":0},{"$f":"入力画面!O89","v":0}]
[null,{"$f":"入力画面!J91","v":0}]
[null,{"$f":"入力画面!J92","v":0}]
[]
["事務担当者",{"$f":"入力画面!K98","v":0},{"$f":"入力画面!O98","v":0}]
[null,{"$f":"入力画面!J100","v":0}]
[null,{"$f":"入力画面!J101","v":0}]