{"text_format":"1","workbook":"xlsx","n_sheets":2,"sheets":["照射試料の誘導放射能の計算書","Sheet1"],"not_rendered":{"charts":0,"images":0,"macros":1,"external_links":0,"defined_names":13,"comments":0,"pivot_tables":0},"unopened":[],"bounds":{"document_bytes":16777216,"sheet_cells":100000,"rows_first":2000,"rows_last":500,"rows_between":2000,"halvings":0,"cell_chars":16384,"cell_head_chars":4096},"cells_cut":0,"cells_raw":0,"read":"whole","date_system":"1900"}

{"sheet":"照射試料の誘導放射能の計算書","index":0,"n_rows":46,"n_cols":36,"rows_kept":46,"cut":false,"hidden":false,"merged":[[44,0,44,1],[45,0,45,11],[21,9,21,10],[21,7,21,8],[28,32,28,33],[21,0,21,2],[27,5,29,5],[27,34,29,34],[27,27,29,27],[27,28,29,28],[27,29,29,29],[27,30,29,30],[28,31,29,31],[5,25,5,26],[48,0,48,1],[48,7,48,8],[48,9,48,11],[27,11,29,11],[27,0,29,0],[27,1,29,1],[27,2,29,2],[27,3,29,3],[27,4,29,4],[28,9,28,10],[24,7,25,9],[27,6,29,6],[48,2,48,6],[19,7,19,8],[42,0,42,11],[26,5,26,6],[27,7,29,7],[1,5,1,8],[24,0,25,2],[11,0,11,10],[20,9,20,10],[5,0,5,10],[7,0,7,10],[6,0,6,10],[13,0,16,2],[20,7,20,8],[28,8,29,8],[0,1,0,8],[20,0,20,2],[3,0,3,1],[3,2,3,3],[18,5,18,6],[19,3,19,4],[18,7,18,11],[10,0,10,11],[9,0,9,2],[9,3,9,10],[13,7,14,8],[13,9,14,11],[16,9,16,10],[16,7,16,8],[1,1,1,4],[19,9,19,10]]}
[null,"入力の際の注意事項"]
[null,"この色のセルには直接入力を、",null,null,null,"この色のセルは選択肢から選んで下さい。"]
[]
["受付番号№　　　　 　　 　"]
[]
["照射試料の誘導放射能の計算書",null,null,null,null,null,null,null,null,null,null,null,null,null,null,null,null,null,null,null,"ID","照射設備","熱中性子","熱外中性子","速中性子","取り出しまでの時間"]
[null,null,null,null,null,null,null,null,null,null,null,null,null,null,null,null,null,null,null,null,1,"水圧輸送管",81500000000000,5950000000000,39000000000000,5,"min"]
["〔KUR照射記録等　安全に関する説明添付資料〕",null,null,null,null,null,null,null,null,null,null,null,null,null,null,null,null,null,null,null,2,"圧気輸送管　№１",19300000000000,645000000000,3200000000000,5,"s"]
[null,null,null,null,null,null,null,null,null,null,null,null,null,null,null,null,null,null,null,null,3,"圧気輸送管　№２",27500000000000,1090000000000,6000000000000,5,"s"]
["試  料  略  称",null,null,null,null,null,null,null,null,null,null,null,null,null,null,null,null,null,null,null,4,"圧気輸送管　№３",23400000000000,840000000000,4800000000000,5,"s"]
["別紙　KUR実験記録、KUR照射記録の試料を照射した際の予想誘導放射能は下表のようになります。",null,null,null,null,null,null,null,null,null,null,null,null,null,null,null,null,null,null,null,5,"傾斜照射孔",3920000000000,7950000000,440000000000,1,"min"]
["ただし、照射の条件は以下の通りです。",null,null,null,null,null,null,null,null,null,null,null,null,null,null,null,null,null,null,null,6,"長期照射プラグ",46500000000000,1710000000000,null,1,"d"]
[null,null,null,null,null,null,null,null,null,null,null,null,null,null,null,null,null,null,null,null,7,"重水レール/台車",4900000000,130000000,47000000,5,"min"]
["成　分                        （1回分)",null,null,"化学組成","重量","単位",null,"照射設備",null,null,null,null,null,null,null,null,null,null,null,null,8,"黒鉛設備圧気輸送管",400000000000,600000000,80000000,5,"s"]
[null,null,null,null,null,null,null,null,null,null,null,null,null,null,null,null,null,null,null,null,9,"精密制御照射(SSS)",{"$f":"12000000000000*5","v":60000000000000},0,{"$f":"34000000000005","v":34000000000005},4,"d"]
[]
[null,null,null,null,null,null,null,"照射回数（本数）",null,null,null,"回",null,null,null,null,null,null,null,null,"成分重量単位","KUR出力比",null,null,null,null,null,"単位変換",null,"1回分の重量"]
[null,null,null,null,null,null,null,null,null,null,null,null,null,null,null,null,null,null,null,null,"g",{"$f":"D21/5","v":0},null,"照射時間①",null,{"$f":"F21*AB18","v":0},"s",{"$f":"IF(G21=\"min\",60,IF(G21=\"s\",1,IF(G21=\"h\",3600,IF(G21=\"d\",86400,IF(G21=\"y\",31536000)))))","v":false},null,"全回数分の重量"]
[null,null,null,null,null,"照　射　時　間",null,"中性子束(n/s・cm2)",null,null,null,null,null,null,null,null,null,null,null,null,"mg",{"$f":"D22/5","v":0},null,null,null,null,null,"単位変換"]
[null,null,null,"KUR出力",null,"数値","単位","熱中性子",null,"熱外中性子",null,"速中性子",null,null,null,null,null,null,null,null,"照射設備ID",null,null,"照射時間②",null,{"$f":"F22*AB20","v":0},"s",{"$f":"IF(G22=\"min\",60,IF(G22=\"s\",1,IF(G22=\"h\",3600,IF(G22=\"d\",86400,IF(G22=\"y\",31536000)))))","v":false}]
["照射条件①",null,null,null,"MW",null,null,{"$f":"IFERROR(CHOOSE($U$21,$W$7,$W$8,$W$9,$W$10,$W$11,$W$12,$W$13,$W$14,$W$15)*$V$18,\"\")","v":""},null,{"$f":"IFERROR(CHOOSE($U$21,$X$7,$X$8,$X$9,$X$10,$X$11,$X$12,$X$13,$X$14,$X$15)*$V$18,\"\")","v":""},null,{"$f":"IFERROR(CHOOSE($U$21,$Y$7,$Y$8,$Y$9,$Y$10,$Y$11,$Y$12,$Y$13,$Y$14,$Y$15)*$V$18,\"\")","v":""},null,null,null,null,null,null,null,null,{"$f":"IF(J14=V7,1,IF(J14=\"\",0,IF(J14=V8,2,IF(J14=V9,3,IF(J14=V10,4,IF(J14=V11,5,IF(J14=V12,6,IF(J14=V13,7,IF(J14=V14,8,IF(J14=V15,9))))))))))","v":0},{"$f":"IF(OR($U$21=2,$U$21=3,$U$21=4,$U$21=8),0,\"\")","v":""}]
["照射条件②※",null,null,null,"MW",null,null,{"$f":"IFERROR(CHOOSE($U$21,$W$7,$W$8,$W$9,$W$10,$W$11,$W$12,$W$13,$W$14,$W$15)*$V$19,\"\")","v":""},null,{"$f":"IFERROR(CHOOSE($U$21,$X$7,$X$8,$X$9,$X$10,$X$11,$X$12,$X$13,$X$14,$X$15)*$V$19,\"\")","v":""},null,{"$f":"IFERROR(CHOOSE($U$21,$Y$7,$Y$8,$Y$9,$Y$10,$Y$11,$Y$12,$Y$13,$Y$14,$Y$15)*$V$19,\"\")","v":""}]
["※２つの出力をまたいで照射する場合のみ入力",null,null,null,null,null,null,null,null,null,null,null,null,null,null,null,null,null,null,null,null,null,null,"単位変換"]
[null,null,null,null,null,null,null,null,null,null,null,null,null,null,null,null,null,null,null,null,"取り出しまでの時間",{"$f":"D26*X24","v":{"$error":"#VALUE!"}},"s",{"$f":"IF(E26=\"min\",60,IF(E26=\"s\",1,IF(E26=\"h\",3600,IF(E26=\"d\",86400,IF(E26=\"y\",31536000)))))","v":false}]
["照射後取出しまでの時間(自動入力)",null,null,"数値","単位",null,null,"取り扱いまでの時間　　　",null,null,"数値","単位",null,null,null,null,null,null,null,null,null,null,null,"単位変換"]
[null,null,null,{"$f":"IFERROR(CHOOSE(U21,Z7,Z8,Z9,Z10,Z11,Z12,Z13,Z14,Z15),\"\")","v":""},{"$f":"IFERROR(CHOOSE(U21,AA7,AA8,AA9,AA10,AA11,AA12,AA13,AA14,AA15),\"\")","v":""},null,null,null,null,null,null,null,null,null,null,null,null,null,null,null,"取扱いまでの時間",{"$f":"X26*K26","v":0},"s",{"$f":"IF(L26=\"min\",60,IF(L26=\"s\",1,IF(L26=\"h\",3600,IF(L26=\"d\",86400,IF(L26=\"y\",31536000)))))","v":false}]
[null,null,null,null,null,"全回数分"]
["No","反応を\nおこす\n核種","存在比\n(％)","生成\n核反応","生成核種","生成核\n放射能\n(Bq)","取扱い\n放射能\n(Bq)","元素重量(mg)　　　[1回分]",null,null,null,"反応\n中性子",null,null,null,null,null,null,null,null,null,null,null,null,null,null,null,"存在比\n(％)","生成核種","生成核\n放射能\n(Bq)","取扱い\n放射能\n(Bq)",null,null,null,"反応\n中性子"]
[null,null,null,null,null,null,null,null,"断面積\n(barn)","半減期",null,null,null,null,null,null,null,null,null,null,null,null,null,null,null,null,null,null,null,null,null,"断面積\n(barn)","半減期"]
[null,null,null,null,null,null,null,null,null,"数値","単位",null,null,null,null,null,null,null,null,null,"中性子密度①","中性子密度②","半減期",null,"単位変換","質量数",null,null,null,null,null,null,"数値","単位"]
[1,null,{"$f":"IF(B31=\"\",\"\",VLOOKUP(B31,Sheet1!$E$3:$F$261,2,FALSE))","v":""},null,{"$f":"IFERROR(IF(Sheet1!W7>1,\"\",VLOOKUP(B31&D31,Sheet1!$K$3:$V$261,12,FALSE)),\"\")","v":""},{"$f":"IFERROR(IF(E31=\"\",\"\",($J$17*I31*C31/100*(H31/1000/Z31*6.02E+23)*U31*(1E-24)*(1-EXP(-0.693*$Z$18/W31))*EXP(-0.693*($V$24+$Z$20)/W31))+($J$17*I31*C31/100*(H31/1000/Z31*6.02E+23)*V31*(1E-24)*(1-EXP(-0.693*$Z$20/W31))*EXP(-0.693*$V$24/W31))),0)","v":""},{"$f":"IFERROR(IF(E31=\"\",\"\",($J$17*I31*C31/100*(H31/1000/Z31*6.02E+23)*U31*(1E-24)*(1-EXP(-0.693*$Z$18/W31))*EXP(-0.693*($V$24+$V$26+$Z$20)/W31))+($J$17*I31*C31/100*(H31/1000/Z31*6.02E+23)*V31*(1E-24)*(1-EXP(-0.693*$Z$20/W31))*EXP(-0.693*($V$24+$V$26)/W31))),0)","v":""},null,{"$f":"IF($AJ$31=\"\",\"\",VLOOKUP($AJ$31,Sheet1!$W$3:$Z$261,2,FALSE))","v":""},{"$f":"IF(E31=\"\",\"\",VLOOKUP(E31,Sheet1!$V$3:$Y$261,4,FALSE))","v":""},{"$f":"IF(E31=\"\",\"\",VLOOKUP(E31,Sheet1!$V$3:$Z$261,5,FALSE))","v":""},{"$f":"IF(D31=\"(n,γ)\",\"熱中性子\",\"\")","v":""},null,null,null,null,null,null,null,null,{"$f":"IF(L31=\"熱中性子\",$H$21,IF(L31=\"熱外中性子\",$J$21,IF(L31=\"速中性子\",$L$21)))","v":false},{"$f":"IF(L31=\"熱中性子\",$H$22,IF(L31=\"熱外中性子\",$J$22,IF(L31=\"速中性子\",$L$22)))","v":false},{"$f":"J31*Y31","v":{"$error":"#VALUE!"}},"s",{"$f":"IF(K31=\"min\",60,IF(K31=\"s\",1,IF(K31=\"h\",3600,IF(K31=\"d\",86400,IF(K31=\"y\",31536000)))))","v":false},{"$f":"RIGHT(B31,LEN(B31)-FIND(\"-\",B31))","v":{"$error":"#VALUE!"}},{"$f":"IF(Sheet1!AC7=0,\"生成核種\",\"核種1\")","v":"生成核種"},{"$f":"IF(AA31=\"\",\"\",VLOOKUP(AA31,Sheet1!$E$3:$F$261,2,FALSE))","v":{"$error":"#N/A"}},{"$f":"IFERROR(IF(Sheet1!AU7>1,\"\",VLOOKUP(Z31&AB31,Sheet1!$K$3:$V$261,12,FALSE)),\"\")","v":""},{"$f":"IFERROR(IF(AC31=\"\",\"\",($J$17*AG31*AA31/100*(AF31/1000/AX31*6.02E+23)*AS31*(1E-24)*(1-EXP(-0.693*$Z$18/AU31))*EXP(-0.693*($V$24+$Z$20)/AU31))+($J$17*AG31*AA31/100*(AF31/1000/AX31*6.02E+23)*AT31*(1E-24)*(1-EXP(-0.693*$Z$20/AU31))*EXP(-0.693*$V$24/AU31))),0)","v":""},{"$f":"IFERROR(IF(AC31=\"\",\"\",($J$17*AG31*AA31/100*(AF31/1000/AX31*6.02E+23)*AS31*(1E-24)*(1-EXP(-0.693*$Z$18/AU31))*EXP(-0.693*($V$24+$V$26+$Z$20)/AU31))+($J$17*AG31*AA31/100*(AF31/1000/AX31*6.02E+23)*AT31*(1E-24)*(1-EXP(-0.693*$Z$20/AU31))*EXP(-0.693*($V$24+$V$26)/AU31))),0)","v":""},{"$f":"IF($AJ$31=\"\",\"\",VLOOKUP($AJ$31,Sheet1!$W$3:$Z$261,2,FALSE))","v":""},{"$f":"IF(AB31=\"\",\"\",VLOOKUP(AB31,Sheet1!$V$3:$Y$261,4,FALSE))","v":{"$error":"#N/A"}},{"$f":"IF(AB31=\"\",\"\",VLOOKUP(AB31,Sheet1!$V$3:$Z$261,5,FALSE))","v":{"$error":"#N/A"}},{"$f":"IF(AA31=\"(n,γ)\",\"熱中性子\",\"\")","v":""},{"$f":"D31&E31","v":""}]
[2,null,null,null,null,null,null,null,null,null,null,null,null,null,null,null,null,null,null,null,false,false,0,"s",{"$f":"IF(K32=\"min\",60,IF(K32=\"s\",1,IF(K32=\"h\",3600,IF(K32=\"d\",86400,IF(K32=\"y\",31536000)))))","v":false},{"$f":"RIGHT(B32,LEN(B32)-FIND(\"-\",B32))","v":{"$error":"#VALUE!"}},{"$f":"IF(Sheet1!AC8=0,\"生成核種\",\"核種2\")","v":"生成核種"},{"$f":"IF(AA32=\"\",\"\",VLOOKUP(AA32,Sheet1!$E$3:$F$261,2,FALSE))","v":{"$error":"#N/A"}},{"$f":"IFERROR(IF(Sheet1!AU8>1,\"\",VLOOKUP(Z32&AB32,Sheet1!$K$3:$V$261,12,FALSE)),\"\")","v":""},{"$f":"IFERROR(IF(AC32=\"\",\"\",($J$17*AG32*AA32/100*(AF32/1000/AX32*6.02E+23)*AS32*(1E-24)*(1-EXP(-0.693*$Z$18/AU32))*EXP(-0.693*($V$24+$Z$20)/AU32))+($J$17*AG32*AA32/100*(AF32/1000/AX32*6.02E+23)*AT32*(1E-24)*(1-EXP(-0.693*$Z$20/AU32))*EXP(-0.693*$V$24/AU32))),0)","v":""},{"$f":"IFERROR(IF(AC32=\"\",\"\",($J$17*AG32*AA32/100*(AF32/1000/AX32*6.02E+23)*AS32*(1E-24)*(1-EXP(-0.693*$Z$18/AU32))*EXP(-0.693*($V$24+$V$26+$Z$20)/AU32))+($J$17*AG32*AA32/100*(AF32/1000/AX32*6.02E+23)*AT32*(1E-24)*(1-EXP(-0.693*$Z$20/AU32))*EXP(-0.693*($V$24+$V$26)/AU32))),0)","v":""},{"$f":"IF($AJ$32=\"\",\"\",VLOOKUP($AJ$32,Sheet1!$W$3:$Z$261,2,FALSE))","v":""},{"$f":"IF(AB32=\"\",\"\",VLOOKUP(AB32,Sheet1!$V$3:$Y$261,4,FALSE))","v":{"$error":"#N/A"}},{"$f":"IF(AB32=\"\",\"\",VLOOKUP(AB32,Sheet1!$V$3:$Z$261,5,FALSE))","v":{"$error":"#N/A"}},{"$f":"IF(AA32=\"(n,γ)\",\"熱中性子\",\"\")","v":""},{"$f":"D32&E32","v":""}]
[3,null,null,null,null,null,null,null,null,null,null,{"$f":"IF(D33=\"(n,γ)\",\"熱中性子\",\"\")","v":""},null,null,null,null,null,null,null,null,false,false,0,"s",{"$f":"IF(K33=\"min\",60,IF(K33=\"s\",1,IF(K33=\"h\",3600,IF(K33=\"d\",86400,IF(K33=\"y\",31536000)))))","v":false},{"$f":"RIGHT(B33,LEN(B33)-FIND(\"-\",B33))","v":{"$error":"#VALUE!"}},{"$f":"IF(Sheet1!AC9=0,\"生成核種\",\"核種3\")","v":"生成核種"},{"$f":"IF(AA33=\"\",\"\",VLOOKUP(AA33,Sheet1!$E$3:$F$261,2,FALSE))","v":{"$error":"#N/A"}},{"$f":"IFERROR(IF(Sheet1!AU9>1,\"\",VLOOKUP(Z33&AB33,Sheet1!$K$3:$V$261,12,FALSE)),\"\")","v":""},"","",{"$f":"IF($AJ$33=\"\",\"\",VLOOKUP($AJ$33,Sheet1!$W$3:$Z$261,2,FALSE))","v":""},{"$f":"IF(AB33=\"\",\"\",VLOOKUP(AB33,Sheet1!$V$3:$Y$261,4,FALSE))","v":{"$error":"#N/A"}},{"$f":"IF(AB33=\"\",\"\",VLOOKUP(AB33,Sheet1!$V$3:$Z$261,5,FALSE))","v":{"$error":"#N/A"}},"",""]
[4,null,null,null,null,null,null,null,null,null,null,"",null,null,null,null,null,null,null,null,false,false,0,"s",{"$f":"IF(K34=\"min\",60,IF(K34=\"s\",1,IF(K34=\"h\",3600,IF(K34=\"d\",86400,IF(K34=\"y\",31536000)))))","v":false},{"$f":"RIGHT(B34,LEN(B34)-FIND(\"-\",B34))","v":{"$error":"#VALUE!"}},{"$f":"IF(Sheet1!AC10=0,\"生成核種\",\"核種4\")","v":"生成核種"},{"$f":"IF(AA34=\"\",\"\",VLOOKUP(AA34,Sheet1!$E$3:$F$261,2,FALSE))","v":{"$error":"#N/A"}},{"$f":"IFERROR(IF(Sheet1!AU10>1,\"\",VLOOKUP(Z34&AB34,Sheet1!$K$3:$V$261,12,FALSE)),\"\")","v":""},"","",{"$f":"IF($AJ$34=\"\",\"\",VLOOKUP($AJ$34,Sheet1!$W$3:$Z$261,2,FALSE))","v":""},{"$f":"IF(AB34=\"\",\"\",VLOOKUP(AB34,Sheet1!$V$3:$Y$261,4,FALSE))","v":{"$error":"#N/A"}},{"$f":"IF(AB34=\"\",\"\",VLOOKUP(AB34,Sheet1!$V$3:$Z$261,5,FALSE))","v":{"$error":"#N/A"}},"",""]
[5,null,null,null,null,null,null,null,null,null,null,{"$f":"IF(D35=\"(n,γ)\",\"熱中性子\",\"\")","v":""},null,null,null,null,null,null,null,null,false,false,0,"s",{"$f":"IF(K35=\"min\",60,IF(K35=\"s\",1,IF(K35=\"h\",3600,IF(K35=\"d\",86400,IF(K35=\"y\",31536000)))))","v":false},{"$f":"RIGHT(B35,LEN(B35)-FIND(\"-\",B35))","v":{"$error":"#VALUE!"}},{"$f":"IF(Sheet1!AC11=0,\"生成核種\",\"核種5\")","v":"生成核種"},{"$f":"IF(AA35=\"\",\"\",VLOOKUP(AA35,Sheet1!$E$3:$F$261,2,FALSE))","v":{"$error":"#N/A"}},{"$f":"IFERROR(IF(Sheet1!AU11>1,\"\",VLOOKUP(Z35&AB35,Sheet1!$K$3:$V$261,12,FALSE)),\"\")","v":""},"","",{"$f":"IF($AJ$35=\"\",\"\",VLOOKUP($AJ$35,Sheet1!$W$3:$Z$261,2,FALSE))","v":""},{"$f":"IF(AB35=\"\",\"\",VLOOKUP(AB35,Sheet1!$V$3:$Y$261,4,FALSE))","v":{"$error":"#N/A"}},{"$f":"IF(AB35=\"\",\"\",VLOOKUP(AB35,Sheet1!$V$3:$Z$261,5,FALSE))","v":{"$error":"#N/A"}},"",""]
[6,null,null,null,null,null,null,null,null,null,null,"",null,null,null,null,null,null,null,null,false,false,0,"s",false,{"$error":"#VALUE!"},{"$f":"IF(Sheet1!AC12=0,\"生成核種\",\"核種6\")","v":"生成核種"},{"$f":"IF(AA36=\"\",\"\",VLOOKUP(AA36,Sheet1!$E$3:$F$261,2,FALSE))","v":{"$error":"#N/A"}},{"$f":"IFERROR(IF(Sheet1!AU12>1,\"\",VLOOKUP(Z36&AB36,Sheet1!$K$3:$V$261,12,FALSE)),\"\")","v":""},"","",{"$f":"IF($AJ$36=\"\",\"\",VLOOKUP($AJ$36,Sheet1!$W$3:$Z$261,2,FALSE))","v":""},{"$f":"IF(AB36=\"\",\"\",VLOOKUP(AB36,Sheet1!$V$3:$Y$261,4,FALSE))","v":{"$error":"#N/A"}},{"$f":"IF(AB36=\"\",\"\",VLOOKUP(AB36,Sheet1!$V$3:$Z$261,5,FALSE))","v":{"$error":"#N/A"}},"",""]
[7,null,null,null,null,null,null,null,null,null,null,null,null,null,null,null,null,null,null,null,false,false,0,"s",false,{"$error":"#VALUE!"},{"$f":"IF(Sheet1!AC13=0,\"生成核種\",\"核種7\")","v":"生成核種"},{"$f":"IF(AA37=\"\",\"\",VLOOKUP(AA37,Sheet1!$E$3:$F$261,2,FALSE))","v":{"$error":"#N/A"}},{"$f":"IFERROR(IF(Sheet1!AU13>1,\"\",VLOOKUP(Z37&AB37,Sheet1!$K$3:$V$261,12,FALSE)),\"\")","v":""},"","",{"$f":"IF($AJ$37=\"\",\"\",VLOOKUP($AJ$37,Sheet1!$W$3:$Z$261,2,FALSE))","v":""},{"$f":"IF(AB37=\"\",\"\",VLOOKUP(AB37,Sheet1!$V$3:$Y$261,4,FALSE))","v":{"$error":"#N/A"}},{"$f":"IF(AB37=\"\",\"\",VLOOKUP(AB37,Sheet1!$V$3:$Z$261,5,FALSE))","v":{"$error":"#N/A"}},"",""]
[8,null,null,null,null,null,null,null,null,null,null,null,null,null,null,null,null,null,null,null,false,false,0,"s",false,{"$error":"#VALUE!"},{"$f":"IF(Sheet1!AC14=0,\"生成核種\",\"核種8\")","v":"生成核種"},{"$f":"IF(AA38=\"\",\"\",VLOOKUP(AA38,Sheet1!$E$3:$F$261,2,FALSE))","v":{"$error":"#N/A"}},{"$f":"IFERROR(IF(Sheet1!AU14>1,\"\",VLOOKUP(Z38&AB38,Sheet1!$K$3:$V$261,12,FALSE)),\"\")","v":""},"","",{"$f":"IF($AJ$38=\"\",\"\",VLOOKUP($AJ$38,Sheet1!$W$3:$Z$261,2,FALSE))","v":""},{"$f":"IF(AB38=\"\",\"\",VLOOKUP(AB38,Sheet1!$V$3:$Y$261,4,FALSE))","v":{"$error":"#N/A"}},{"$f":"IF(AB38=\"\",\"\",VLOOKUP(AB38,Sheet1!$V$3:$Z$261,5,FALSE))","v":{"$error":"#N/A"}},"",""]
[9,null,null,null,null,null,null,null,null,null,null,null,null,null,null,null,null,null,null,null,false,false,0,"s",false,{"$error":"#VALUE!"},{"$f":"IF(Sheet1!AC15=0,\"生成核種\",\"核種9\")","v":"生成核種"},{"$f":"IF(AA39=\"\",\"\",VLOOKUP(AA39,Sheet1!$E$3:$F$261,2,FALSE))","v":{"$error":"#N/A"}},{"$f":"IFERROR(IF(Sheet1!AU15>1,\"\",VLOOKUP(Z39&AB39,Sheet1!$K$3:$V$261,12,FALSE)),\"\")","v":""},"","",{"$f":"IF($AJ$39=\"\",\"\",VLOOKUP($AJ$39,Sheet1!$W$3:$Z$261,2,FALSE))","v":""},{"$f":"IF(AB39=\"\",\"\",VLOOKUP(AB39,Sheet1!$V$3:$Y$261,4,FALSE))","v":{"$error":"#N/A"}},{"$f":"IF(AB39=\"\",\"\",VLOOKUP(AB39,Sheet1!$V$3:$Z$261,5,FALSE))","v":{"$error":"#N/A"}},"",""]
[10,null,null,null,null,null,null,null,null,null,null,null,null,null,null,null,null,null,null,null,false,false,0,"s",false,{"$error":"#VALUE!"},{"$f":"IF(Sheet1!AC16=0,\"生成核種\",\"核種10\")","v":"生成核種"},{"$f":"IF(AA40=\"\",\"\",VLOOKUP(AA40,Sheet1!$E$3:$F$261,2,FALSE))","v":{"$error":"#N/A"}},{"$f":"IFERROR(IF(Sheet1!AU16>1,\"\",VLOOKUP(Z40&AB40,Sheet1!$K$3:$V$261,12,FALSE)),\"\")","v":""},"","",{"$f":"IF($AJ$40=\"\",\"\",VLOOKUP($AJ$40,Sheet1!$W$3:$Z$261,2,FALSE))","v":""},{"$f":"IF(AB40=\"\",\"\",VLOOKUP(AB40,Sheet1!$V$3:$Y$261,4,FALSE))","v":{"$error":"#N/A"}},{"$f":"IF(AB40=\"\",\"\",VLOOKUP(AB40,Sheet1!$V$3:$Z$261,5,FALSE))","v":{"$error":"#N/A"}},"",""]
["生成核種が自動で入力されない場合は手動で選択、入力してください。"]
[null,null,null,null,null,null,null,null,null,null,null,null,null,null,null,null,null,null,null,null,1,"s","熱中性子","(n,γ)"]
["・特別な容器、付属物を用いる場合はこれらについても計算する。生成核の娘核がさらに放射性の場合にはそのことを明記し、結果のみを記入する。　核燃料物質を照射する場合の誘導放射能の計算は別様式を用いる。",null,null,null,null,null,null,null,null,null,null,null,null,null,null,null,null,null,null,null,2,"min","熱外中性子","(n,p)"]
["・実験等に使用する核種で取扱い放射能の上位3種をKUR照射記録等に記載する。",null,null,null,null,null,null,null,null,null,null,null,null,null,null,null,null,null,null,null,3,"h","速中性子","(n,α)"]
["備考",null,null,null,null,null,null,null,null,null,null,null,null,null,null,null,null,null,null,null,4,"d",null,"(n,n)"]
[null,null,null,null,null,null,null,null,null,null,null,null,null,null,null,null,null,null,null,null,5,"y"]

{"sheet":"Sheet1","index":1,"n_rows":261,"n_cols":37,"rows_kept":261,"cut":false,"hidden":false,"merged":[]}
[]
["原子番号",null,"元素","質量数","反応核種","存在比","核反応","Prd",null,null,null,11,10,9,8,7,6,5,4,3,2,"生成核種",null,"断面積","T1/2","unit",null,1,2,3,4,5,6,7,8,9,10]
[1,"H-2","H",2,{"$f":"CONCATENATE(C3,\"-\",D3)","v":"H-2"},1.15E-2,{"$f":"IF(C3=I3,\"(n,γ)\",\"(n,p)\")","v":"(n,γ)"},"H3",{"$f":"LEFT(H3,1)","v":"H"},{"$f":"RIGHT(H3,1)","v":"3"},{"$f":"E3&G3","v":"H-2(n,γ)"},{"$f":"IF($K3=照射試料の誘導放射能の計算書!$B$31&照射試料の誘導放射能の計算書!$D$31,COUNTIF($K3:$K261,照射試料の誘導放射能の計算書!$B$31&照射試料の誘導放射能の計算書!$D$31),\"\")","v":""},{"$f":"IF($K3=照射試料の誘導放射能の計算書!$B$32&照射試料の誘導放射能の計算書!$D$32,COUNTIF($K3:$K261,照射試料の誘導放射能の計算書!$B$32&照射試料の誘導放射能の計算書!$D$32),\"\")","v":""},{"$f":"IF($K3=照射試料の誘導放射能の計算書!$B$33&照射試料の誘導放射能の計算書!$D$33,COUNTIF($K3:$K261,照射試料の誘導放射能の計算書!$B$33&照射試料の誘導放射能の計算書!$D$33),\"\")","v":""},{"$f":"IF($K3=照射試料の誘導放射能の計算書!$B$34&照射試料の誘導放射能の計算書!$D$34,COUNTIF($K3:$K261,照射試料の誘導放射能の計算書!$B$34&照射試料の誘導放射能の計算書!$D$34),\"\")","v":""},{"$f":"IF($K3=照射試料の誘導放射能の計算書!$B$35&照射試料の誘導放射能の計算書!$D$35,COUNTIF($K3:$K261,照射試料の誘導放射能の計算書!$B$35&照射試料の誘導放射能の計算書!$D$35),\"\")","v":""},{"$f":"IF($K3=照射試料の誘導放射能の計算書!$B$36&照射試料の誘導放射能の計算書!$D$36,COUNTIF($K3:$K261,照射試料の誘導放射能の計算書!$B$36&照射試料の誘導放射能の計算書!$D$36),\"\")","v":""},{"$f":"IF($K3=照射試料の誘導放射能の計算書!$B$37&照射試料の誘導放射能の計算書!$D$37,COUNTIF($K3:$K261,照射試料の誘導放射能の計算書!$B$37&照射試料の誘導放射能の計算書!$D$37),\"\")","v":""},{"$f":"IF($K3=照射試料の誘導放射能の計算書!$B$38&照射試料の誘導放射能の計算書!$D$38,COUNTIF($K3:$K261,照射試料の誘導放射能の計算書!$B$38&照射試料の誘導放射能の計算書!$D$38),\"\")","v":""},{"$f":"IF($K3=照射試料の誘導放射能の計算書!$B$39&照射試料の誘導放射能の計算書!$D$39,COUNTIF($K3:$K261,照射試料の誘導放射能の計算書!$B$39&照射試料の誘導放射能の計算書!$D$39),\"\")","v":""},{"$f":"IF($K3=照射試料の誘導放射能の計算書!$B$40&照射試料の誘導放射能の計算書!$D$40,COUNTIF($K3:$K261,照射試料の誘導放射能の計算書!$B$40&照射試料の誘導放射能の計算書!$D$40),\"\")","v":""},{"$f":"CONCATENATE(I3,\"-\",J3)","v":"H-3"},{"$f":"G3&V3","v":"(n,γ)H-3"},5.1999999999999995E-4,12.323,"y",null,{"$f":"IFERROR(VLOOKUP(1,L$3:$V$261,L$2,FALSE),\"\")","v":""},{"$f":"IFERROR(VLOOKUP(1,M$3:$V$261,M$2,FALSE),\"\")","v":""},{"$f":"IFERROR(VLOOKUP(1,N$3:$V$261,N$2,FALSE),\"\")","v":""},{"$f":"IFERROR(VLOOKUP(1,O$3:$V$261,O$2,FALSE),\"\")","v":""},{"$f":"IFERROR(VLOOKUP(1,P$3:$V$261,P$2,FALSE),\"\")","v":""},{"$f":"IFERROR(VLOOKUP(1,Q$3:$V$261,Q$2,FALSE),\"\")","v":""},{"$f":"IFERROR(VLOOKUP(1,R$3:$V$261,R$2,FALSE),\"\")","v":""},{"$f":"IFERROR(VLOOKUP(1,S$3:$V$261,S$2,FALSE),\"\")","v":""},{"$f":"IFERROR(VLOOKUP(1,T$3:$V$261,T$2,FALSE),\"\")","v":""},{"$f":"IFERROR(VLOOKUP(1,U$3:$V$261,U$2,FALSE),\"\")","v":""}]
[3,"Li-7","Li",7,"Li-7",92.41,"(n,γ)","Li8",{"$f":"LEFT(H4,2)","v":"Li"},{"$f":"RIGHT(H4,1)","v":"8"},{"$f":"E4&G4","v":"Li-7(n,γ)"},{"$f":"IF($K4=照射試料の誘導放射能の計算書!$B$31&照射試料の誘導放射能の計算書!$D$31,COUNTIF($K4:$K262,照射試料の誘導放射能の計算書!$B$31&照射試料の誘導放射能の計算書!$D$31),\"\")","v":""},{"$f":"IF($K4=照射試料の誘導放射能の計算書!$B$32&照射試料の誘導放射能の計算書!$D$32,COUNTIF($K4:$K262,照射試料の誘導放射能の計算書!$B$32&照射試料の誘導放射能の計算書!$D$32),\"\")","v":""},{"$f":"IF($K4=照射試料の誘導放射能の計算書!$B$33&照射試料の誘導放射能の計算書!$D$33,COUNTIF($K4:$K262,照射試料の誘導放射能の計算書!$B$33&照射試料の誘導放射能の計算書!$D$33),\"\")","v":""},{"$f":"IF($K4=照射試料の誘導放射能の計算書!$B$34&照射試料の誘導放射能の計算書!$D$34,COUNTIF($K4:$K262,照射試料の誘導放射能の計算書!$B$34&照射試料の誘導放射能の計算書!$D$34),\"\")","v":""},{"$f":"IF($K4=照射試料の誘導放射能の計算書!$B$35&照射試料の誘導放射能の計算書!$D$35,COUNTIF($K4:$K262,照射試料の誘導放射能の計算書!$B$35&照射試料の誘導放射能の計算書!$D$35),\"\")","v":""},{"$f":"IF($K4=照射試料の誘導放射能の計算書!$B$36&照射試料の誘導放射能の計算書!$D$36,COUNTIF($K4:$K262,照射試料の誘導放射能の計算書!$B$36&照射試料の誘導放射能の計算書!$D$36),\"\")","v":""},{"$f":"IF($K4=照射試料の誘導放射能の計算書!$B$37&照射試料の誘導放射能の計算書!$D$37,COUNTIF($K4:$K262,照射試料の誘導放射能の計算書!$B$37&照射試料の誘導放射能の計算書!$D$37),\"\")","v":""},{"$f":"IF($K4=照射試料の誘導放射能の計算書!$B$38&照射試料の誘導放射能の計算書!$D$38,COUNTIF($K4:$K262,照射試料の誘導放射能の計算書!$B$38&照射試料の誘導放射能の計算書!$D$38),\"\")","v":""},{"$f":"IF($K4=照射試料の誘導放射能の計算書!$B$39&照射試料の誘導放射能の計算書!$D$39,COUNTIF($K4:$K262,照射試料の誘導放射能の計算書!$B$39&照射試料の誘導放射能の計算書!$D$39),\"\")","v":""},{"$f":"IF($K4=照射試料の誘導放射能の計算書!$B$40&照射試料の誘導放射能の計算書!$D$40,COUNTIF($K4:$K262,照射試料の誘導放射能の計算書!$B$40&照射試料の誘導放射能の計算書!$D$40),\"\")","v":""},"Li-8","(n,γ)Li-8",4.4999999999999998E-2,0.84,"s",null,{"$f":"IFERROR(VLOOKUP(2,L$3:$V$261,L$2,FALSE),\"\")","v":""},{"$f":"IFERROR(VLOOKUP(2,M$3:$V$261,M$2,FALSE),\"\")","v":""},{"$f":"IFERROR(VLOOKUP(2,N$3:$V$261,N$2,FALSE),\"\")","v":""},{"$f":"IFERROR(VLOOKUP(2,O$3:$V$261,O$2,FALSE),\"\")","v":""},{"$f":"IFERROR(VLOOKUP(2,P$3:$V$261,P$2,FALSE),\"\")","v":""},{"$f":"IFERROR(VLOOKUP(2,Q$3:$V$261,Q$2,FALSE),\"\")","v":""},{"$f":"IFERROR(VLOOKUP(2,R$3:$V$261,R$2,FALSE),\"\")","v":""},{"$f":"IFERROR(VLOOKUP(2,S$3:$V$261,S$2,FALSE),\"\")","v":""},{"$f":"IFERROR(VLOOKUP(2,T$3:$V$261,T$2,FALSE),\"\")","v":""},{"$f":"IFERROR(VLOOKUP(2,U$3:$V$261,U$2,FALSE),\"\")","v":""}]
[4,"Be-9","Be",9,"Be-9",100,"(n,γ)","Be10","Be",{"$f":"RIGHT(H5,2)","v":"10"},"Be-9(n,γ)",{"$f":"IF($K5=照射試料の誘導放射能の計算書!$B$31&照射試料の誘導放射能の計算書!$D$31,COUNTIF($K5:$K263,照射試料の誘導放射能の計算書!$B$31&照射試料の誘導放射能の計算書!$D$31),\"\")","v":""},{"$f":"IF($K5=照射試料の誘導放射能の計算書!$B$32&照射試料の誘導放射能の計算書!$D$32,COUNTIF($K5:$K263,照射試料の誘導放射能の計算書!$B$32&照射試料の誘導放射能の計算書!$D$32),\"\")","v":""},{"$f":"IF($K5=照射試料の誘導放射能の計算書!$B$33&照射試料の誘導放射能の計算書!$D$33,COUNTIF($K5:$K263,照射試料の誘導放射能の計算書!$B$33&照射試料の誘導放射能の計算書!$D$33),\"\")","v":""},{"$f":"IF($K5=照射試料の誘導放射能の計算書!$B$34&照射試料の誘導放射能の計算書!$D$34,COUNTIF($K5:$K263,照射試料の誘導放射能の計算書!$B$34&照射試料の誘導放射能の計算書!$D$34),\"\")","v":""},{"$f":"IF($K5=照射試料の誘導放射能の計算書!$B$35&照射試料の誘導放射能の計算書!$D$35,COUNTIF($K5:$K263,照射試料の誘導放射能の計算書!$B$35&照射試料の誘導放射能の計算書!$D$35),\"\")","v":""},{"$f":"IF($K5=照射試料の誘導放射能の計算書!$B$36&照射試料の誘導放射能の計算書!$D$36,COUNTIF($K5:$K263,照射試料の誘導放射能の計算書!$B$36&照射試料の誘導放射能の計算書!$D$36),\"\")","v":""},{"$f":"IF($K5=照射試料の誘導放射能の計算書!$B$37&照射試料の誘導放射能の計算書!$D$37,COUNTIF($K5:$K263,照射試料の誘導放射能の計算書!$B$37&照射試料の誘導放射能の計算書!$D$37),\"\")","v":""},{"$f":"IF($K5=照射試料の誘導放射能の計算書!$B$38&照射試料の誘導放射能の計算書!$D$38,COUNTIF($K5:$K263,照射試料の誘導放射能の計算書!$B$38&照射試料の誘導放射能の計算書!$D$38),\"\")","v":""},{"$f":"IF($K5=照射試料の誘導放射能の計算書!$B$39&照射試料の誘導放射能の計算書!$D$39,COUNTIF($K5:$K263,照射試料の誘導放射能の計算書!$B$39&照射試料の誘導放射能の計算書!$D$39),\"\")","v":""},{"$f":"IF($K5=照射試料の誘導放射能の計算書!$B$40&照射試料の誘導放射能の計算書!$D$40,COUNTIF($K5:$K263,照射試料の誘導放射能の計算書!$B$40&照射試料の誘導放射能の計算書!$D$40),\"\")","v":""},"Be-10","(n,γ)Be-10",8.0000000000000002E-3,1600000,"y",null,{"$f":"IFERROR(VLOOKUP(3,L$3:$V$261,L$2,FALSE),\"\")","v":""},{"$f":"IFERROR(VLOOKUP(3,M$3:$V$261,M$2,FALSE),\"\")","v":""},{"$f":"IFERROR(VLOOKUP(3,N$3:$V$261,N$2,FALSE),\"\")","v":""},{"$f":"IFERROR(VLOOKUP(3,O$3:$V$261,O$2,FALSE),\"\")","v":""},{"$f":"IFERROR(VLOOKUP(3,P$3:$V$261,P$2,FALSE),\"\")","v":""},{"$f":"IFERROR(VLOOKUP(3,Q$3:$V$261,Q$2,FALSE),\"\")","v":""},{"$f":"IFERROR(VLOOKUP(3,R$3:$V$261,R$2,FALSE),\"\")","v":""},{"$f":"IFERROR(VLOOKUP(3,S$3:$V$261,S$2,FALSE),\"\")","v":""},{"$f":"IFERROR(VLOOKUP(3,T$3:$V$261,T$2,FALSE),\"\")","v":""},{"$f":"IFERROR(VLOOKUP(3,U$3:$V$261,U$2,FALSE),\"\")","v":""}]
[5,"B-11","B",11,"B-11",80.099999999999994,"(n,γ)","B12",{"$f":"LEFT(H6,1)","v":"B"},"12","B-11(n,γ)",{"$f":"IF($K6=照射試料の誘導放射能の計算書!$B$31&照射試料の誘導放射能の計算書!$D$31,COUNTIF($K6:$K264,照射試料の誘導放射能の計算書!$B$31&照射試料の誘導放射能の計算書!$D$31),\"\")","v":""},{"$f":"IF($K6=照射試料の誘導放射能の計算書!$B$32&照射試料の誘導放射能の計算書!$D$32,COUNTIF($K6:$K264,照射試料の誘導放射能の計算書!$B$32&照射試料の誘導放射能の計算書!$D$32),\"\")","v":""},{"$f":"IF($K6=照射試料の誘導放射能の計算書!$B$33&照射試料の誘導放射能の計算書!$D$33,COUNTIF($K6:$K264,照射試料の誘導放射能の計算書!$B$33&照射試料の誘導放射能の計算書!$D$33),\"\")","v":""},{"$f":"IF($K6=照射試料の誘導放射能の計算書!$B$34&照射試料の誘導放射能の計算書!$D$34,COUNTIF($K6:$K264,照射試料の誘導放射能の計算書!$B$34&照射試料の誘導放射能の計算書!$D$34),\"\")","v":""},{"$f":"IF($K6=照射試料の誘導放射能の計算書!$B$35&照射試料の誘導放射能の計算書!$D$35,COUNTIF($K6:$K264,照射試料の誘導放射能の計算書!$B$35&照射試料の誘導放射能の計算書!$D$35),\"\")","v":""},{"$f":"IF($K6=照射試料の誘導放射能の計算書!$B$36&照射試料の誘導放射能の計算書!$D$36,COUNTIF($K6:$K264,照射試料の誘導放射能の計算書!$B$36&照射試料の誘導放射能の計算書!$D$36),\"\")","v":""},{"$f":"IF($K6=照射試料の誘導放射能の計算書!$B$37&照射試料の誘導放射能の計算書!$D$37,COUNTIF($K6:$K264,照射試料の誘導放射能の計算書!$B$37&照射試料の誘導放射能の計算書!$D$37),\"\")","v":""},{"$f":"IF($K6=照射試料の誘導放射能の計算書!$B$38&照射試料の誘導放射能の計算書!$D$38,COUNTIF($K6:$K264,照射試料の誘導放射能の計算書!$B$38&照射試料の誘導放射能の計算書!$D$38),\"\")","v":""},{"$f":"IF($K6=照射試料の誘導放射能の計算書!$B$39&照射試料の誘導放射能の計算書!$D$39,COUNTIF($K6:$K264,照射試料の誘導放射能の計算書!$B$39&照射試料の誘導放射能の計算書!$D$39),\"\")","v":""},{"$f":"IF($K6=照射試料の誘導放射能の計算書!$B$40&照射試料の誘導放射能の計算書!$D$40,COUNTIF($K6:$K264,照射試料の誘導放射能の計算書!$B$40&照射試料の誘導放射能の計算書!$D$40),\"\")","v":""},"B-12","(n,γ)B-12",5.0000000000000001E-3,0.02,"s"]
[6,"C-13","C",13,"C-13",1.07,"(n,γ)","C14",{"$f":"LEFT(H7,1)","v":"C"},"14","C-13(n,γ)",{"$f":"IF($K7=照射試料の誘導放射能の計算書!$B$31&照射試料の誘導放射能の計算書!$D$31,COUNTIF($K7:$K265,照射試料の誘導放射能の計算書!$B$31&照射試料の誘導放射能の計算書!$D$31),\"\")","v":""},{"$f":"IF($K7=照射試料の誘導放射能の計算書!$B$32&照射試料の誘導放射能の計算書!$D$32,COUNTIF($K7:$K265,照射試料の誘導放射能の計算書!$B$32&照射試料の誘導放射能の計算書!$D$32),\"\")","v":""},{"$f":"IF($K7=照射試料の誘導放射能の計算書!$B$33&照射試料の誘導放射能の計算書!$D$33,COUNTIF($K7:$K265,照射試料の誘導放射能の計算書!$B$33&照射試料の誘導放射能の計算書!$D$33),\"\")","v":""},{"$f":"IF($K7=照射試料の誘導放射能の計算書!$B$34&照射試料の誘導放射能の計算書!$D$34,COUNTIF($K7:$K265,照射試料の誘導放射能の計算書!$B$34&照射試料の誘導放射能の計算書!$D$34),\"\")","v":""},{"$f":"IF($K7=照射試料の誘導放射能の計算書!$B$35&照射試料の誘導放射能の計算書!$D$35,COUNTIF($K7:$K265,照射試料の誘導放射能の計算書!$B$35&照射試料の誘導放射能の計算書!$D$35),\"\")","v":""},{"$f":"IF($K7=照射試料の誘導放射能の計算書!$B$36&照射試料の誘導放射能の計算書!$D$36,COUNTIF($K7:$K265,照射試料の誘導放射能の計算書!$B$36&照射試料の誘導放射能の計算書!$D$36),\"\")","v":""},{"$f":"IF($K7=照射試料の誘導放射能の計算書!$B$37&照射試料の誘導放射能の計算書!$D$37,COUNTIF($K7:$K265,照射試料の誘導放射能の計算書!$B$37&照射試料の誘導放射能の計算書!$D$37),\"\")","v":""},{"$f":"IF($K7=照射試料の誘導放射能の計算書!$B$38&照射試料の誘導放射能の計算書!$D$38,COUNTIF($K7:$K265,照射試料の誘導放射能の計算書!$B$38&照射試料の誘導放射能の計算書!$D$38),\"\")","v":""},{"$f":"IF($K7=照射試料の誘導放射能の計算書!$B$39&照射試料の誘導放射能の計算書!$D$39,COUNTIF($K7:$K265,照射試料の誘導放射能の計算書!$B$39&照射試料の誘導放射能の計算書!$D$39),\"\")","v":""},{"$f":"IF($K7=照射試料の誘導放射能の計算書!$B$40&照射試料の誘導放射能の計算書!$D$40,COUNTIF($K7:$K265,照射試料の誘導放射能の計算書!$B$40&照射試料の誘導放射能の計算書!$D$40),\"\")","v":""},"C-14","(n,γ)C-14",1.4E-3,5730,"y",null,{"$f":"COUNTIF(AB3:AB6,\"\")","v":4},{"$f":"4-AB7","v":0}]
[7,"N-15","N",15,"N-15",0.36599999999999999,"(n,γ)","N16","N","16","N-15(n,γ)",{"$f":"IF($K8=照射試料の誘導放射能の計算書!$B$31&照射試料の誘導放射能の計算書!$D$31,COUNTIF($K8:$K266,照射試料の誘導放射能の計算書!$B$31&照射試料の誘導放射能の計算書!$D$31),\"\")","v":""},{"$f":"IF($K8=照射試料の誘導放射能の計算書!$B$32&照射試料の誘導放射能の計算書!$D$32,COUNTIF($K8:$K266,照射試料の誘導放射能の計算書!$B$32&照射試料の誘導放射能の計算書!$D$32),\"\")","v":""},{"$f":"IF($K8=照射試料の誘導放射能の計算書!$B$33&照射試料の誘導放射能の計算書!$D$33,COUNTIF($K8:$K266,照射試料の誘導放射能の計算書!$B$33&照射試料の誘導放射能の計算書!$D$33),\"\")","v":""},{"$f":"IF($K8=照射試料の誘導放射能の計算書!$B$34&照射試料の誘導放射能の計算書!$D$34,COUNTIF($K8:$K266,照射試料の誘導放射能の計算書!$B$34&照射試料の誘導放射能の計算書!$D$34),\"\")","v":""},{"$f":"IF($K8=照射試料の誘導放射能の計算書!$B$35&照射試料の誘導放射能の計算書!$D$35,COUNTIF($K8:$K266,照射試料の誘導放射能の計算書!$B$35&照射試料の誘導放射能の計算書!$D$35),\"\")","v":""},{"$f":"IF($K8=照射試料の誘導放射能の計算書!$B$36&照射試料の誘導放射能の計算書!$D$36,COUNTIF($K8:$K266,照射試料の誘導放射能の計算書!$B$36&照射試料の誘導放射能の計算書!$D$36),\"\")","v":""},{"$f":"IF($K8=照射試料の誘導放射能の計算書!$B$37&照射試料の誘導放射能の計算書!$D$37,COUNTIF($K8:$K266,照射試料の誘導放射能の計算書!$B$37&照射試料の誘導放射能の計算書!$D$37),\"\")","v":""},{"$f":"IF($K8=照射試料の誘導放射能の計算書!$B$38&照射試料の誘導放射能の計算書!$D$38,COUNTIF($K8:$K266,照射試料の誘導放射能の計算書!$B$38&照射試料の誘導放射能の計算書!$D$38),\"\")","v":""},{"$f":"IF($K8=照射試料の誘導放射能の計算書!$B$39&照射試料の誘導放射能の計算書!$D$39,COUNTIF($K8:$K266,照射試料の誘導放射能の計算書!$B$39&照射試料の誘導放射能の計算書!$D$39),\"\")","v":""},{"$f":"IF($K8=照射試料の誘導放射能の計算書!$B$40&照射試料の誘導放射能の計算書!$D$40,COUNTIF($K8:$K266,照射試料の誘導放射能の計算書!$B$40&照射試料の誘導放射能の計算書!$D$40),\"\")","v":""},"N-16","(n,γ)N-16",4.0000000000000003E-5,7.13,"s",null,{"$f":"COUNTIF(AC3:AC6,\"\")","v":4},{"$f":"4-AB8","v":0}]
[8,"O-18","O",18,"O-18",0.2,"(n,γ)","O19","O","19","O-18(n,γ)",{"$f":"IF($K9=照射試料の誘導放射能の計算書!$B$31&照射試料の誘導放射能の計算書!$D$31,COUNTIF($K9:$K267,照射試料の誘導放射能の計算書!$B$31&照射試料の誘導放射能の計算書!$D$31),\"\")","v":""},{"$f":"IF($K9=照射試料の誘導放射能の計算書!$B$32&照射試料の誘導放射能の計算書!$D$32,COUNTIF($K9:$K267,照射試料の誘導放射能の計算書!$B$32&照射試料の誘導放射能の計算書!$D$32),\"\")","v":""},{"$f":"IF($K9=照射試料の誘導放射能の計算書!$B$33&照射試料の誘導放射能の計算書!$D$33,COUNTIF($K9:$K267,照射試料の誘導放射能の計算書!$B$33&照射試料の誘導放射能の計算書!$D$33),\"\")","v":""},{"$f":"IF($K9=照射試料の誘導放射能の計算書!$B$34&照射試料の誘導放射能の計算書!$D$34,COUNTIF($K9:$K267,照射試料の誘導放射能の計算書!$B$34&照射試料の誘導放射能の計算書!$D$34),\"\")","v":""},{"$f":"IF($K9=照射試料の誘導放射能の計算書!$B$35&照射試料の誘導放射能の計算書!$D$35,COUNTIF($K9:$K267,照射試料の誘導放射能の計算書!$B$35&照射試料の誘導放射能の計算書!$D$35),\"\")","v":""},{"$f":"IF($K9=照射試料の誘導放射能の計算書!$B$36&照射試料の誘導放射能の計算書!$D$36,COUNTIF($K9:$K267,照射試料の誘導放射能の計算書!$B$36&照射試料の誘導放射能の計算書!$D$36),\"\")","v":""},{"$f":"IF($K9=照射試料の誘導放射能の計算書!$B$37&照射試料の誘導放射能の計算書!$D$37,COUNTIF($K9:$K267,照射試料の誘導放射能の計算書!$B$37&照射試料の誘導放射能の計算書!$D$37),\"\")","v":""},{"$f":"IF($K9=照射試料の誘導放射能の計算書!$B$38&照射試料の誘導放射能の計算書!$D$38,COUNTIF($K9:$K267,照射試料の誘導放射能の計算書!$B$38&照射試料の誘導放射能の計算書!$D$38),\"\")","v":""},{"$f":"IF($K9=照射試料の誘導放射能の計算書!$B$39&照射試料の誘導放射能の計算書!$D$39,COUNTIF($K9:$K267,照射試料の誘導放射能の計算書!$B$39&照射試料の誘導放射能の計算書!$D$39),\"\")","v":""},{"$f":"IF($K9=照射試料の誘導放射能の計算書!$B$40&照射試料の誘導放射能の計算書!$D$40,COUNTIF($K9:$K267,照射試料の誘導放射能の計算書!$B$40&照射試料の誘導放射能の計算書!$D$40),\"\")","v":""},"O-19","(n,γ)O-19",1.6000000000000001E-4,27.1,"s",null,{"$f":"COUNTIF(AD3:AD6,\"\")","v":4},0]
[9,"F-19","F",19,"F-19",100,"(n,γ)","F20",{"$f":"LEFT(H10,1)","v":"F"},"20","F-19(n,γ)",{"$f":"IF($K10=照射試料の誘導放射能の計算書!$B$31&照射試料の誘導放射能の計算書!$D$31,COUNTIF($K10:$K268,照射試料の誘導放射能の計算書!$B$31&照射試料の誘導放射能の計算書!$D$31),\"\")","v":""},{"$f":"IF($K10=照射試料の誘導放射能の計算書!$B$32&照射試料の誘導放射能の計算書!$D$32,COUNTIF($K10:$K268,照射試料の誘導放射能の計算書!$B$32&照射試料の誘導放射能の計算書!$D$32),\"\")","v":""},{"$f":"IF($K10=照射試料の誘導放射能の計算書!$B$33&照射試料の誘導放射能の計算書!$D$33,COUNTIF($K10:$K268,照射試料の誘導放射能の計算書!$B$33&照射試料の誘導放射能の計算書!$D$33),\"\")","v":""},{"$f":"IF($K10=照射試料の誘導放射能の計算書!$B$34&照射試料の誘導放射能の計算書!$D$34,COUNTIF($K10:$K268,照射試料の誘導放射能の計算書!$B$34&照射試料の誘導放射能の計算書!$D$34),\"\")","v":""},{"$f":"IF($K10=照射試料の誘導放射能の計算書!$B$35&照射試料の誘導放射能の計算書!$D$35,COUNTIF($K10:$K268,照射試料の誘導放射能の計算書!$B$35&照射試料の誘導放射能の計算書!$D$35),\"\")","v":""},{"$f":"IF($K10=照射試料の誘導放射能の計算書!$B$36&照射試料の誘導放射能の計算書!$D$36,COUNTIF($K10:$K268,照射試料の誘導放射能の計算書!$B$36&照射試料の誘導放射能の計算書!$D$36),\"\")","v":""},{"$f":"IF($K10=照射試料の誘導放射能の計算書!$B$37&照射試料の誘導放射能の計算書!$D$37,COUNTIF($K10:$K268,照射試料の誘導放射能の計算書!$B$37&照射試料の誘導放射能の計算書!$D$37),\"\")","v":""},{"$f":"IF($K10=照射試料の誘導放射能の計算書!$B$38&照射試料の誘導放射能の計算書!$D$38,COUNTIF($K10:$K268,照射試料の誘導放射能の計算書!$B$38&照射試料の誘導放射能の計算書!$D$38),\"\")","v":""},{"$f":"IF($K10=照射試料の誘導放射能の計算書!$B$39&照射試料の誘導放射能の計算書!$D$39,COUNTIF($K10:$K268,照射試料の誘導放射能の計算書!$B$39&照射試料の誘導放射能の計算書!$D$39),\"\")","v":""},{"$f":"IF($K10=照射試料の誘導放射能の計算書!$B$40&照射試料の誘導放射能の計算書!$D$40,COUNTIF($K10:$K268,照射試料の誘導放射能の計算書!$B$40&照射試料の誘導放射能の計算書!$D$40),\"\")","v":""},"F-20","(n,γ)F-20",9.4999999999999998E-3,11,"s",null,{"$f":"COUNTIF(AE3:AE6,\"\")","v":4},0]
[10,"Ne-22","Ne",22,"Ne-22",9.25,"(n,γ)","Ne23","Ne","23","Ne-22(n,γ)",{"$f":"IF($K11=照射試料の誘導放射能の計算書!$B$31&照射試料の誘導放射能の計算書!$D$31,COUNTIF($K11:$K269,照射試料の誘導放射能の計算書!$B$31&照射試料の誘導放射能の計算書!$D$31),\"\")","v":""},{"$f":"IF($K11=照射試料の誘導放射能の計算書!$B$32&照射試料の誘導放射能の計算書!$D$32,COUNTIF($K11:$K269,照射試料の誘導放射能の計算書!$B$32&照射試料の誘導放射能の計算書!$D$32),\"\")","v":""},{"$f":"IF($K11=照射試料の誘導放射能の計算書!$B$33&照射試料の誘導放射能の計算書!$D$33,COUNTIF($K11:$K269,照射試料の誘導放射能の計算書!$B$33&照射試料の誘導放射能の計算書!$D$33),\"\")","v":""},{"$f":"IF($K11=照射試料の誘導放射能の計算書!$B$34&照射試料の誘導放射能の計算書!$D$34,COUNTIF($K11:$K269,照射試料の誘導放射能の計算書!$B$34&照射試料の誘導放射能の計算書!$D$34),\"\")","v":""},{"$f":"IF($K11=照射試料の誘導放射能の計算書!$B$35&照射試料の誘導放射能の計算書!$D$35,COUNTIF($K11:$K269,照射試料の誘導放射能の計算書!$B$35&照射試料の誘導放射能の計算書!$D$35),\"\")","v":""},{"$f":"IF($K11=照射試料の誘導放射能の計算書!$B$36&照射試料の誘導放射能の計算書!$D$36,COUNTIF($K11:$K269,照射試料の誘導放射能の計算書!$B$36&照射試料の誘導放射能の計算書!$D$36),\"\")","v":""},{"$f":"IF($K11=照射試料の誘導放射能の計算書!$B$37&照射試料の誘導放射能の計算書!$D$37,COUNTIF($K11:$K269,照射試料の誘導放射能の計算書!$B$37&照射試料の誘導放射能の計算書!$D$37),\"\")","v":""},{"$f":"IF($K11=照射試料の誘導放射能の計算書!$B$38&照射試料の誘導放射能の計算書!$D$38,COUNTIF($K11:$K269,照射試料の誘導放射能の計算書!$B$38&照射試料の誘導放射能の計算書!$D$38),\"\")","v":""},{"$f":"IF($K11=照射試料の誘導放射能の計算書!$B$39&照射試料の誘導放射能の計算書!$D$39,COUNTIF($K11:$K269,照射試料の誘導放射能の計算書!$B$39&照射試料の誘導放射能の計算書!$D$39),\"\")","v":""},{"$f":"IF($K11=照射試料の誘導放射能の計算書!$B$40&照射試料の誘導放射能の計算書!$D$40,COUNTIF($K11:$K269,照射試料の誘導放射能の計算書!$B$40&照射試料の誘導放射能の計算書!$D$40),\"\")","v":""},"Ne-23","(n,γ)Ne-23",0.05,37.200000000000003,"s",null,{"$f":"COUNTIF(AF3:AF6,\"\")","v":4},0]
[11,"Na-23","Na",23,"Na-23",100,"(n,γ)","Na24","Na","24","Na-23(n,γ)",{"$f":"IF($K12=照射試料の誘導放射能の計算書!$B$31&照射試料の誘導放射能の計算書!$D$31,COUNTIF($K12:$K270,照射試料の誘導放射能の計算書!$B$31&照射試料の誘導放射能の計算書!$D$31),\"\")","v":""},{"$f":"IF($K12=照射試料の誘導放射能の計算書!$B$32&照射試料の誘導放射能の計算書!$D$32,COUNTIF($K12:$K270,照射試料の誘導放射能の計算書!$B$32&照射試料の誘導放射能の計算書!$D$32),\"\")","v":""},{"$f":"IF($K12=照射試料の誘導放射能の計算書!$B$33&照射試料の誘導放射能の計算書!$D$33,COUNTIF($K12:$K270,照射試料の誘導放射能の計算書!$B$33&照射試料の誘導放射能の計算書!$D$33),\"\")","v":""},{"$f":"IF($K12=照射試料の誘導放射能の計算書!$B$34&照射試料の誘導放射能の計算書!$D$34,COUNTIF($K12:$K270,照射試料の誘導放射能の計算書!$B$34&照射試料の誘導放射能の計算書!$D$34),\"\")","v":""},{"$f":"IF($K12=照射試料の誘導放射能の計算書!$B$35&照射試料の誘導放射能の計算書!$D$35,COUNTIF($K12:$K270,照射試料の誘導放射能の計算書!$B$35&照射試料の誘導放射能の計算書!$D$35),\"\")","v":""},{"$f":"IF($K12=照射試料の誘導放射能の計算書!$B$36&照射試料の誘導放射能の計算書!$D$36,COUNTIF($K12:$K270,照射試料の誘導放射能の計算書!$B$36&照射試料の誘導放射能の計算書!$D$36),\"\")","v":""},{"$f":"IF($K12=照射試料の誘導放射能の計算書!$B$37&照射試料の誘導放射能の計算書!$D$37,COUNTIF($K12:$K270,照射試料の誘導放射能の計算書!$B$37&照射試料の誘導放射能の計算書!$D$37),\"\")","v":""},{"$f":"IF($K12=照射試料の誘導放射能の計算書!$B$38&照射試料の誘導放射能の計算書!$D$38,COUNTIF($K12:$K270,照射試料の誘導放射能の計算書!$B$38&照射試料の誘導放射能の計算書!$D$38),\"\")","v":""},{"$f":"IF($K12=照射試料の誘導放射能の計算書!$B$39&照射試料の誘導放射能の計算書!$D$39,COUNTIF($K12:$K270,照射試料の誘導放射能の計算書!$B$39&照射試料の誘導放射能の計算書!$D$39),\"\")","v":""},{"$f":"IF($K12=照射試料の誘導放射能の計算書!$B$40&照射試料の誘導放射能の計算書!$D$40,COUNTIF($K12:$K270,照射試料の誘導放射能の計算書!$B$40&照射試料の誘導放射能の計算書!$D$40),\"\")","v":""},"Na-24","(n,γ)Na-24",0.53,14.96,"h",null,{"$f":"COUNTIF(AG3:AG6,\"\")","v":4},0]
[12,"Mg-26","Mg",26,"Mg-26",11.01,"(n,γ)","Mg27","Mg","27","Mg-26(n,γ)",{"$f":"IF($K13=照射試料の誘導放射能の計算書!$B$31&照射試料の誘導放射能の計算書!$D$31,COUNTIF($K13:$K271,照射試料の誘導放射能の計算書!$B$31&照射試料の誘導放射能の計算書!$D$31),\"\")","v":""},{"$f":"IF($K13=照射試料の誘導放射能の計算書!$B$32&照射試料の誘導放射能の計算書!$D$32,COUNTIF($K13:$K271,照射試料の誘導放射能の計算書!$B$32&照射試料の誘導放射能の計算書!$D$32),\"\")","v":""},{"$f":"IF($K13=照射試料の誘導放射能の計算書!$B$33&照射試料の誘導放射能の計算書!$D$33,COUNTIF($K13:$K271,照射試料の誘導放射能の計算書!$B$33&照射試料の誘導放射能の計算書!$D$33),\"\")","v":""},{"$f":"IF($K13=照射試料の誘導放射能の計算書!$B$34&照射試料の誘導放射能の計算書!$D$34,COUNTIF($K13:$K271,照射試料の誘導放射能の計算書!$B$34&照射試料の誘導放射能の計算書!$D$34),\"\")","v":""},{"$f":"IF($K13=照射試料の誘導放射能の計算書!$B$35&照射試料の誘導放射能の計算書!$D$35,COUNTIF($K13:$K271,照射試料の誘導放射能の計算書!$B$35&照射試料の誘導放射能の計算書!$D$35),\"\")","v":""},{"$f":"IF($K13=照射試料の誘導放射能の計算書!$B$36&照射試料の誘導放射能の計算書!$D$36,COUNTIF($K13:$K271,照射試料の誘導放射能の計算書!$B$36&照射試料の誘導放射能の計算書!$D$36),\"\")","v":""},{"$f":"IF($K13=照射試料の誘導放射能の計算書!$B$37&照射試料の誘導放射能の計算書!$D$37,COUNTIF($K13:$K271,照射試料の誘導放射能の計算書!$B$37&照射試料の誘導放射能の計算書!$D$37),\"\")","v":""},{"$f":"IF($K13=照射試料の誘導放射能の計算書!$B$38&照射試料の誘導放射能の計算書!$D$38,COUNTIF($K13:$K271,照射試料の誘導放射能の計算書!$B$38&照射試料の誘導放射能の計算書!$D$38),\"\")","v":""},{"$f":"IF($K13=照射試料の誘導放射能の計算書!$B$39&照射試料の誘導放射能の計算書!$D$39,COUNTIF($K13:$K271,照射試料の誘導放射能の計算書!$B$39&照射試料の誘導放射能の計算書!$D$39),\"\")","v":""},{"$f":"IF($K13=照射試料の誘導放射能の計算書!$B$40&照射試料の誘導放射能の計算書!$D$40,COUNTIF($K13:$K271,照射試料の誘導放射能の計算書!$B$40&照射試料の誘導放射能の計算書!$D$40),\"\")","v":""},"Mg-27","(n,γ)Mg-27",3.6999999999999998E-2,9.4600000000000009,"min",null,{"$f":"COUNTIF(AH3:AH6,\"\")","v":4},0]
[13,"Al-27","Al",27,"Al-27",100,"(n,γ)","Al28","Al","28","Al-27(n,γ)",{"$f":"IF($K14=照射試料の誘導放射能の計算書!$B$31&照射試料の誘導放射能の計算書!$D$31,COUNTIF($K14:$K272,照射試料の誘導放射能の計算書!$B$31&照射試料の誘導放射能の計算書!$D$31),\"\")","v":""},{"$f":"IF($K14=照射試料の誘導放射能の計算書!$B$32&照射試料の誘導放射能の計算書!$D$32,COUNTIF($K14:$K272,照射試料の誘導放射能の計算書!$B$32&照射試料の誘導放射能の計算書!$D$32),\"\")","v":""},{"$f":"IF($K14=照射試料の誘導放射能の計算書!$B$33&照射試料の誘導放射能の計算書!$D$33,COUNTIF($K14:$K272,照射試料の誘導放射能の計算書!$B$33&照射試料の誘導放射能の計算書!$D$33),\"\")","v":""},{"$f":"IF($K14=照射試料の誘導放射能の計算書!$B$34&照射試料の誘導放射能の計算書!$D$34,COUNTIF($K14:$K272,照射試料の誘導放射能の計算書!$B$34&照射試料の誘導放射能の計算書!$D$34),\"\")","v":""},{"$f":"IF($K14=照射試料の誘導放射能の計算書!$B$35&照射試料の誘導放射能の計算書!$D$35,COUNTIF($K14:$K272,照射試料の誘導放射能の計算書!$B$35&照射試料の誘導放射能の計算書!$D$35),\"\")","v":""},{"$f":"IF($K14=照射試料の誘導放射能の計算書!$B$36&照射試料の誘導放射能の計算書!$D$36,COUNTIF($K14:$K272,照射試料の誘導放射能の計算書!$B$36&照射試料の誘導放射能の計算書!$D$36),\"\")","v":""},{"$f":"IF($K14=照射試料の誘導放射能の計算書!$B$37&照射試料の誘導放射能の計算書!$D$37,COUNTIF($K14:$K272,照射試料の誘導放射能の計算書!$B$37&照射試料の誘導放射能の計算書!$D$37),\"\")","v":""},{"$f":"IF($K14=照射試料の誘導放射能の計算書!$B$38&照射試料の誘導放射能の計算書!$D$38,COUNTIF($K14:$K272,照射試料の誘導放射能の計算書!$B$38&照射試料の誘導放射能の計算書!$D$38),\"\")","v":""},{"$f":"IF($K14=照射試料の誘導放射能の計算書!$B$39&照射試料の誘導放射能の計算書!$D$39,COUNTIF($K14:$K272,照射試料の誘導放射能の計算書!$B$39&照射試料の誘導放射能の計算書!$D$39),\"\")","v":""},{"$f":"IF($K14=照射試料の誘導放射能の計算書!$B$40&照射試料の誘導放射能の計算書!$D$40,COUNTIF($K14:$K272,照射試料の誘導放射能の計算書!$B$40&照射試料の誘導放射能の計算書!$D$40),\"\")","v":""},"Al-28","(n,γ)Al-28",0.23,2.2410000000000001,"min",null,{"$f":"COUNTIF(AI3:AI6,\"\")","v":4},0]
[14,"Si-30","Si",30,"Si-30",3.1,"(n,γ)","Si31","Si","31","Si-30(n,γ)",{"$f":"IF($K15=照射試料の誘導放射能の計算書!$B$31&照射試料の誘導放射能の計算書!$D$31,COUNTIF($K15:$K273,照射試料の誘導放射能の計算書!$B$31&照射試料の誘導放射能の計算書!$D$31),\"\")","v":""},{"$f":"IF($K15=照射試料の誘導放射能の計算書!$B$32&照射試料の誘導放射能の計算書!$D$32,COUNTIF($K15:$K273,照射試料の誘導放射能の計算書!$B$32&照射試料の誘導放射能の計算書!$D$32),\"\")","v":""},{"$f":"IF($K15=照射試料の誘導放射能の計算書!$B$33&照射試料の誘導放射能の計算書!$D$33,COUNTIF($K15:$K273,照射試料の誘導放射能の計算書!$B$33&照射試料の誘導放射能の計算書!$D$33),\"\")","v":""},{"$f":"IF($K15=照射試料の誘導放射能の計算書!$B$34&照射試料の誘導放射能の計算書!$D$34,COUNTIF($K15:$K273,照射試料の誘導放射能の計算書!$B$34&照射試料の誘導放射能の計算書!$D$34),\"\")","v":""},{"$f":"IF($K15=照射試料の誘導放射能の計算書!$B$35&照射試料の誘導放射能の計算書!$D$35,COUNTIF($K15:$K273,照射試料の誘導放射能の計算書!$B$35&照射試料の誘導放射能の計算書!$D$35),\"\")","v":""},{"$f":"IF($K15=照射試料の誘導放射能の計算書!$B$36&照射試料の誘導放射能の計算書!$D$36,COUNTIF($K15:$K273,照射試料の誘導放射能の計算書!$B$36&照射試料の誘導放射能の計算書!$D$36),\"\")","v":""},{"$f":"IF($K15=照射試料の誘導放射能の計算書!$B$37&照射試料の誘導放射能の計算書!$D$37,COUNTIF($K15:$K273,照射試料の誘導放射能の計算書!$B$37&照射試料の誘導放射能の計算書!$D$37),\"\")","v":""},{"$f":"IF($K15=照射試料の誘導放射能の計算書!$B$38&照射試料の誘導放射能の計算書!$D$38,COUNTIF($K15:$K273,照射試料の誘導放射能の計算書!$B$38&照射試料の誘導放射能の計算書!$D$38),\"\")","v":""},{"$f":"IF($K15=照射試料の誘導放射能の計算書!$B$39&照射試料の誘導放射能の計算書!$D$39,COUNTIF($K15:$K273,照射試料の誘導放射能の計算書!$B$39&照射試料の誘導放射能の計算書!$D$39),\"\")","v":""},{"$f":"IF($K15=照射試料の誘導放射能の計算書!$B$40&照射試料の誘導放射能の計算書!$D$40,COUNTIF($K15:$K273,照射試料の誘導放射能の計算書!$B$40&照射試料の誘導放射能の計算書!$D$40),\"\")","v":""},"Si-31","(n,γ)Si-31",0.108,2.62,"h",null,{"$f":"COUNTIF(AJ3:AJ6,\"\")","v":4},0]
[15,"P-31","P",31,"P-31",100,"(n,γ)","P32",{"$f":"LEFT(H16,1)","v":"P"},"32","P-31(n,γ)",{"$f":"IF($K16=照射試料の誘導放射能の計算書!$B$31&照射試料の誘導放射能の計算書!$D$31,COUNTIF($K16:$K274,照射試料の誘導放射能の計算書!$B$31&照射試料の誘導放射能の計算書!$D$31),\"\")","v":""},{"$f":"IF($K16=照射試料の誘導放射能の計算書!$B$32&照射試料の誘導放射能の計算書!$D$32,COUNTIF($K16:$K274,照射試料の誘導放射能の計算書!$B$32&照射試料の誘導放射能の計算書!$D$32),\"\")","v":""},{"$f":"IF($K16=照射試料の誘導放射能の計算書!$B$33&照射試料の誘導放射能の計算書!$D$33,COUNTIF($K16:$K274,照射試料の誘導放射能の計算書!$B$33&照射試料の誘導放射能の計算書!$D$33),\"\")","v":""},{"$f":"IF($K16=照射試料の誘導放射能の計算書!$B$34&照射試料の誘導放射能の計算書!$D$34,COUNTIF($K16:$K274,照射試料の誘導放射能の計算書!$B$34&照射試料の誘導放射能の計算書!$D$34),\"\")","v":""},{"$f":"IF($K16=照射試料の誘導放射能の計算書!$B$35&照射試料の誘導放射能の計算書!$D$35,COUNTIF($K16:$K274,照射試料の誘導放射能の計算書!$B$35&照射試料の誘導放射能の計算書!$D$35),\"\")","v":""},{"$f":"IF($K16=照射試料の誘導放射能の計算書!$B$36&照射試料の誘導放射能の計算書!$D$36,COUNTIF($K16:$K274,照射試料の誘導放射能の計算書!$B$36&照射試料の誘導放射能の計算書!$D$36),\"\")","v":""},{"$f":"IF($K16=照射試料の誘導放射能の計算書!$B$37&照射試料の誘導放射能の計算書!$D$37,COUNTIF($K16:$K274,照射試料の誘導放射能の計算書!$B$37&照射試料の誘導放射能の計算書!$D$37),\"\")","v":""},{"$f":"IF($K16=照射試料の誘導放射能の計算書!$B$38&照射試料の誘導放射能の計算書!$D$38,COUNTIF($K16:$K274,照射試料の誘導放射能の計算書!$B$38&照射試料の誘導放射能の計算書!$D$38),\"\")","v":""},{"$f":"IF($K16=照射試料の誘導放射能の計算書!$B$39&照射試料の誘導放射能の計算書!$D$39,COUNTIF($K16:$K274,照射試料の誘導放射能の計算書!$B$39&照射試料の誘導放射能の計算書!$D$39),\"\")","v":""},{"$f":"IF($K16=照射試料の誘導放射能の計算書!$B$40&照射試料の誘導放射能の計算書!$D$40,COUNTIF($K16:$K274,照射試料の誘導放射能の計算書!$B$40&照射試料の誘導放射能の計算書!$D$40),\"\")","v":""},"P-32","(n,γ)P-32",0.16,14.26,"d",null,{"$f":"COUNTIF(AK3:AK6,\"\")","v":4},0]
[16,"S-34","S",34,"S-34",4.29,"(n,γ)","S35","S","35","S-34(n,γ)",{"$f":"IF($K17=照射試料の誘導放射能の計算書!$B$31&照射試料の誘導放射能の計算書!$D$31,COUNTIF($K17:$K275,照射試料の誘導放射能の計算書!$B$31&照射試料の誘導放射能の計算書!$D$31),\"\")","v":""},{"$f":"IF($K17=照射試料の誘導放射能の計算書!$B$32&照射試料の誘導放射能の計算書!$D$32,COUNTIF($K17:$K275,照射試料の誘導放射能の計算書!$B$32&照射試料の誘導放射能の計算書!$D$32),\"\")","v":""},{"$f":"IF($K17=照射試料の誘導放射能の計算書!$B$33&照射試料の誘導放射能の計算書!$D$33,COUNTIF($K17:$K275,照射試料の誘導放射能の計算書!$B$33&照射試料の誘導放射能の計算書!$D$33),\"\")","v":""},{"$f":"IF($K17=照射試料の誘導放射能の計算書!$B$34&照射試料の誘導放射能の計算書!$D$34,COUNTIF($K17:$K275,照射試料の誘導放射能の計算書!$B$34&照射試料の誘導放射能の計算書!$D$34),\"\")","v":""},{"$f":"IF($K17=照射試料の誘導放射能の計算書!$B$35&照射試料の誘導放射能の計算書!$D$35,COUNTIF($K17:$K275,照射試料の誘導放射能の計算書!$B$35&照射試料の誘導放射能の計算書!$D$35),\"\")","v":""},{"$f":"IF($K17=照射試料の誘導放射能の計算書!$B$36&照射試料の誘導放射能の計算書!$D$36,COUNTIF($K17:$K275,照射試料の誘導放射能の計算書!$B$36&照射試料の誘導放射能の計算書!$D$36),\"\")","v":""},{"$f":"IF($K17=照射試料の誘導放射能の計算書!$B$37&照射試料の誘導放射能の計算書!$D$37,COUNTIF($K17:$K275,照射試料の誘導放射能の計算書!$B$37&照射試料の誘導放射能の計算書!$D$37),\"\")","v":""},{"$f":"IF($K17=照射試料の誘導放射能の計算書!$B$38&照射試料の誘導放射能の計算書!$D$38,COUNTIF($K17:$K275,照射試料の誘導放射能の計算書!$B$38&照射試料の誘導放射能の計算書!$D$38),\"\")","v":""},{"$f":"IF($K17=照射試料の誘導放射能の計算書!$B$39&照射試料の誘導放射能の計算書!$D$39,COUNTIF($K17:$K275,照射試料の誘導放射能の計算書!$B$39&照射試料の誘導放射能の計算書!$D$39),\"\")","v":""},{"$f":"IF($K17=照射試料の誘導放射能の計算書!$B$40&照射試料の誘導放射能の計算書!$D$40,COUNTIF($K17:$K275,照射試料の誘導放射能の計算書!$B$40&照射試料の誘導放射能の計算書!$D$40),\"\")","v":""},"S-35","(n,γ)S-35",0.24,87.5,"d"]
[16,"S-36","S",36,"S-36",0.02,"(n,γ)","S37","S","37","S-36(n,γ)",{"$f":"IF($K18=照射試料の誘導放射能の計算書!$B$31&照射試料の誘導放射能の計算書!$D$31,COUNTIF($K18:$K276,照射試料の誘導放射能の計算書!$B$31&照射試料の誘導放射能の計算書!$D$31),\"\")","v":""},{"$f":"IF($K18=照射試料の誘導放射能の計算書!$B$32&照射試料の誘導放射能の計算書!$D$32,COUNTIF($K18:$K276,照射試料の誘導放射能の計算書!$B$32&照射試料の誘導放射能の計算書!$D$32),\"\")","v":""},{"$f":"IF($K18=照射試料の誘導放射能の計算書!$B$33&照射試料の誘導放射能の計算書!$D$33,COUNTIF($K18:$K276,照射試料の誘導放射能の計算書!$B$33&照射試料の誘導放射能の計算書!$D$33),\"\")","v":""},{"$f":"IF($K18=照射試料の誘導放射能の計算書!$B$34&照射試料の誘導放射能の計算書!$D$34,COUNTIF($K18:$K276,照射試料の誘導放射能の計算書!$B$34&照射試料の誘導放射能の計算書!$D$34),\"\")","v":""},{"$f":"IF($K18=照射試料の誘導放射能の計算書!$B$35&照射試料の誘導放射能の計算書!$D$35,COUNTIF($K18:$K276,照射試料の誘導放射能の計算書!$B$35&照射試料の誘導放射能の計算書!$D$35),\"\")","v":""},{"$f":"IF($K18=照射試料の誘導放射能の計算書!$B$36&照射試料の誘導放射能の計算書!$D$36,COUNTIF($K18:$K276,照射試料の誘導放射能の計算書!$B$36&照射試料の誘導放射能の計算書!$D$36),\"\")","v":""},{"$f":"IF($K18=照射試料の誘導放射能の計算書!$B$37&照射試料の誘導放射能の計算書!$D$37,COUNTIF($K18:$K276,照射試料の誘導放射能の計算書!$B$37&照射試料の誘導放射能の計算書!$D$37),\"\")","v":""},{"$f":"IF($K18=照射試料の誘導放射能の計算書!$B$38&照射試料の誘導放射能の計算書!$D$38,COUNTIF($K18:$K276,照射試料の誘導放射能の計算書!$B$38&照射試料の誘導放射能の計算書!$D$38),\"\")","v":""},{"$f":"IF($K18=照射試料の誘導放射能の計算書!$B$39&照射試料の誘導放射能の計算書!$D$39,COUNTIF($K18:$K276,照射試料の誘導放射能の計算書!$B$39&照射試料の誘導放射能の計算書!$D$39),\"\")","v":""},{"$f":"IF($K18=照射試料の誘導放射能の計算書!$B$40&照射試料の誘導放射能の計算書!$D$40,COUNTIF($K18:$K276,照射試料の誘導放射能の計算書!$B$40&照射試料の誘導放射能の計算書!$D$40),\"\")","v":""},"S-37","(n,γ)S-37",0.15,5.05,"min"]
[17,"Cl-35","Cl",35,"Cl-35",75.77,"(n,γ)","Cl36","Cl","36","Cl-35(n,γ)",{"$f":"IF($K19=照射試料の誘導放射能の計算書!$B$31&照射試料の誘導放射能の計算書!$D$31,COUNTIF($K19:$K277,照射試料の誘導放射能の計算書!$B$31&照射試料の誘導放射能の計算書!$D$31),\"\")","v":""},{"$f":"IF($K19=照射試料の誘導放射能の計算書!$B$32&照射試料の誘導放射能の計算書!$D$32,COUNTIF($K19:$K277,照射試料の誘導放射能の計算書!$B$32&照射試料の誘導放射能の計算書!$D$32),\"\")","v":""},{"$f":"IF($K19=照射試料の誘導放射能の計算書!$B$33&照射試料の誘導放射能の計算書!$D$33,COUNTIF($K19:$K277,照射試料の誘導放射能の計算書!$B$33&照射試料の誘導放射能の計算書!$D$33),\"\")","v":""},{"$f":"IF($K19=照射試料の誘導放射能の計算書!$B$34&照射試料の誘導放射能の計算書!$D$34,COUNTIF($K19:$K277,照射試料の誘導放射能の計算書!$B$34&照射試料の誘導放射能の計算書!$D$34),\"\")","v":""},{"$f":"IF($K19=照射試料の誘導放射能の計算書!$B$35&照射試料の誘導放射能の計算書!$D$35,COUNTIF($K19:$K277,照射試料の誘導放射能の計算書!$B$35&照射試料の誘導放射能の計算書!$D$35),\"\")","v":""},{"$f":"IF($K19=照射試料の誘導放射能の計算書!$B$36&照射試料の誘導放射能の計算書!$D$36,COUNTIF($K19:$K277,照射試料の誘導放射能の計算書!$B$36&照射試料の誘導放射能の計算書!$D$36),\"\")","v":""},{"$f":"IF($K19=照射試料の誘導放射能の計算書!$B$37&照射試料の誘導放射能の計算書!$D$37,COUNTIF($K19:$K277,照射試料の誘導放射能の計算書!$B$37&照射試料の誘導放射能の計算書!$D$37),\"\")","v":""},{"$f":"IF($K19=照射試料の誘導放射能の計算書!$B$38&照射試料の誘導放射能の計算書!$D$38,COUNTIF($K19:$K277,照射試料の誘導放射能の計算書!$B$38&照射試料の誘導放射能の計算書!$D$38),\"\")","v":""},{"$f":"IF($K19=照射試料の誘導放射能の計算書!$B$39&照射試料の誘導放射能の計算書!$D$39,COUNTIF($K19:$K277,照射試料の誘導放射能の計算書!$B$39&照射試料の誘導放射能の計算書!$D$39),\"\")","v":""},{"$f":"IF($K19=照射試料の誘導放射能の計算書!$B$40&照射試料の誘導放射能の計算書!$D$40,COUNTIF($K19:$K277,照射試料の誘導放射能の計算書!$B$40&照射試料の誘導放射能の計算書!$D$40),\"\")","v":""},"Cl-36","(n,γ)Cl-36",43.7,300000,"y"]
[17,"Cl-37","Cl",35,"Cl-35",75.77,"(n,p)","S35",{"$f":"LEFT(H20,1)","v":"S"},"35","Cl-35(n,p)",{"$f":"IF($K20=照射試料の誘導放射能の計算書!$B$31&照射試料の誘導放射能の計算書!$D$31,COUNTIF($K20:$K278,照射試料の誘導放射能の計算書!$B$31&照射試料の誘導放射能の計算書!$D$31),\"\")","v":""},{"$f":"IF($K20=照射試料の誘導放射能の計算書!$B$32&照射試料の誘導放射能の計算書!$D$32,COUNTIF($K20:$K278,照射試料の誘導放射能の計算書!$B$32&照射試料の誘導放射能の計算書!$D$32),\"\")","v":""},{"$f":"IF($K20=照射試料の誘導放射能の計算書!$B$33&照射試料の誘導放射能の計算書!$D$33,COUNTIF($K20:$K278,照射試料の誘導放射能の計算書!$B$33&照射試料の誘導放射能の計算書!$D$33),\"\")","v":""},{"$f":"IF($K20=照射試料の誘導放射能の計算書!$B$34&照射試料の誘導放射能の計算書!$D$34,COUNTIF($K20:$K278,照射試料の誘導放射能の計算書!$B$34&照射試料の誘導放射能の計算書!$D$34),\"\")","v":""},{"$f":"IF($K20=照射試料の誘導放射能の計算書!$B$35&照射試料の誘導放射能の計算書!$D$35,COUNTIF($K20:$K278,照射試料の誘導放射能の計算書!$B$35&照射試料の誘導放射能の計算書!$D$35),\"\")","v":""},{"$f":"IF($K20=照射試料の誘導放射能の計算書!$B$36&照射試料の誘導放射能の計算書!$D$36,COUNTIF($K20:$K278,照射試料の誘導放射能の計算書!$B$36&照射試料の誘導放射能の計算書!$D$36),\"\")","v":""},{"$f":"IF($K20=照射試料の誘導放射能の計算書!$B$37&照射試料の誘導放射能の計算書!$D$37,COUNTIF($K20:$K278,照射試料の誘導放射能の計算書!$B$37&照射試料の誘導放射能の計算書!$D$37),\"\")","v":""},{"$f":"IF($K20=照射試料の誘導放射能の計算書!$B$38&照射試料の誘導放射能の計算書!$D$38,COUNTIF($K20:$K278,照射試料の誘導放射能の計算書!$B$38&照射試料の誘導放射能の計算書!$D$38),\"\")","v":""},{"$f":"IF($K20=照射試料の誘導放射能の計算書!$B$39&照射試料の誘導放射能の計算書!$D$39,COUNTIF($K20:$K278,照射試料の誘導放射能の計算書!$B$39&照射試料の誘導放射能の計算書!$D$39),\"\")","v":""},{"$f":"IF($K20=照射試料の誘導放射能の計算書!$B$40&照射試料の誘導放射能の計算書!$D$40,COUNTIF($K20:$K278,照射試料の誘導放射能の計算書!$B$40&照射試料の誘導放射能の計算書!$D$40),\"\")","v":""},"S-35","(n,p)S-35",0.4,87.5,"d"]
[17,"Ar-36","Cl",35,"Cl-35",75.77,"(n,α)","P32","P","32","Cl-35(n,α)",{"$f":"IF($K21=照射試料の誘導放射能の計算書!$B$31&照射試料の誘導放射能の計算書!$D$31,COUNTIF($K21:$K279,照射試料の誘導放射能の計算書!$B$31&照射試料の誘導放射能の計算書!$D$31),\"\")","v":""},{"$f":"IF($K21=照射試料の誘導放射能の計算書!$B$32&照射試料の誘導放射能の計算書!$D$32,COUNTIF($K21:$K279,照射試料の誘導放射能の計算書!$B$32&照射試料の誘導放射能の計算書!$D$32),\"\")","v":""},{"$f":"IF($K21=照射試料の誘導放射能の計算書!$B$33&照射試料の誘導放射能の計算書!$D$33,COUNTIF($K21:$K279,照射試料の誘導放射能の計算書!$B$33&照射試料の誘導放射能の計算書!$D$33),\"\")","v":""},{"$f":"IF($K21=照射試料の誘導放射能の計算書!$B$34&照射試料の誘導放射能の計算書!$D$34,COUNTIF($K21:$K279,照射試料の誘導放射能の計算書!$B$34&照射試料の誘導放射能の計算書!$D$34),\"\")","v":""},{"$f":"IF($K21=照射試料の誘導放射能の計算書!$B$35&照射試料の誘導放射能の計算書!$D$35,COUNTIF($K21:$K279,照射試料の誘導放射能の計算書!$B$35&照射試料の誘導放射能の計算書!$D$35),\"\")","v":""},{"$f":"IF($K21=照射試料の誘導放射能の計算書!$B$36&照射試料の誘導放射能の計算書!$D$36,COUNTIF($K21:$K279,照射試料の誘導放射能の計算書!$B$36&照射試料の誘導放射能の計算書!$D$36),\"\")","v":""},{"$f":"IF($K21=照射試料の誘導放射能の計算書!$B$37&照射試料の誘導放射能の計算書!$D$37,COUNTIF($K21:$K279,照射試料の誘導放射能の計算書!$B$37&照射試料の誘導放射能の計算書!$D$37),\"\")","v":""},{"$f":"IF($K21=照射試料の誘導放射能の計算書!$B$38&照射試料の誘導放射能の計算書!$D$38,COUNTIF($K21:$K279,照射試料の誘導放射能の計算書!$B$38&照射試料の誘導放射能の計算書!$D$38),\"\")","v":""},{"$f":"IF($K21=照射試料の誘導放射能の計算書!$B$39&照射試料の誘導放射能の計算書!$D$39,COUNTIF($K21:$K279,照射試料の誘導放射能の計算書!$B$39&照射試料の誘導放射能の計算書!$D$39),\"\")","v":""},{"$f":"IF($K21=照射試料の誘導放射能の計算書!$B$40&照射試料の誘導放射能の計算書!$D$40,COUNTIF($K21:$K279,照射試料の誘導放射能の計算書!$B$40&照射試料の誘導放射能の計算書!$D$40),\"\")","v":""},"P-32","(n,α)P-32",8.0000000000000007E-5,14.26,"d"]
[17,"Ar-38","Cl",37,"Cl-37",24.23,"(n,γ)","Cl38","Cl","38","Cl-37(n,γ)",{"$f":"IF($K22=照射試料の誘導放射能の計算書!$B$31&照射試料の誘導放射能の計算書!$D$31,COUNTIF($K22:$K280,照射試料の誘導放射能の計算書!$B$31&照射試料の誘導放射能の計算書!$D$31),\"\")","v":""},{"$f":"IF($K22=照射試料の誘導放射能の計算書!$B$32&照射試料の誘導放射能の計算書!$D$32,COUNTIF($K22:$K280,照射試料の誘導放射能の計算書!$B$32&照射試料の誘導放射能の計算書!$D$32),\"\")","v":""},{"$f":"IF($K22=照射試料の誘導放射能の計算書!$B$33&照射試料の誘導放射能の計算書!$D$33,COUNTIF($K22:$K280,照射試料の誘導放射能の計算書!$B$33&照射試料の誘導放射能の計算書!$D$33),\"\")","v":""},{"$f":"IF($K22=照射試料の誘導放射能の計算書!$B$34&照射試料の誘導放射能の計算書!$D$34,COUNTIF($K22:$K280,照射試料の誘導放射能の計算書!$B$34&照射試料の誘導放射能の計算書!$D$34),\"\")","v":""},{"$f":"IF($K22=照射試料の誘導放射能の計算書!$B$35&照射試料の誘導放射能の計算書!$D$35,COUNTIF($K22:$K280,照射試料の誘導放射能の計算書!$B$35&照射試料の誘導放射能の計算書!$D$35),\"\")","v":""},{"$f":"IF($K22=照射試料の誘導放射能の計算書!$B$36&照射試料の誘導放射能の計算書!$D$36,COUNTIF($K22:$K280,照射試料の誘導放射能の計算書!$B$36&照射試料の誘導放射能の計算書!$D$36),\"\")","v":""},{"$f":"IF($K22=照射試料の誘導放射能の計算書!$B$37&照射試料の誘導放射能の計算書!$D$37,COUNTIF($K22:$K280,照射試料の誘導放射能の計算書!$B$37&照射試料の誘導放射能の計算書!$D$37),\"\")","v":""},{"$f":"IF($K22=照射試料の誘導放射能の計算書!$B$38&照射試料の誘導放射能の計算書!$D$38,COUNTIF($K22:$K280,照射試料の誘導放射能の計算書!$B$38&照射試料の誘導放射能の計算書!$D$38),\"\")","v":""},{"$f":"IF($K22=照射試料の誘導放射能の計算書!$B$39&照射試料の誘導放射能の計算書!$D$39,COUNTIF($K22:$K280,照射試料の誘導放射能の計算書!$B$39&照射試料の誘導放射能の計算書!$D$39),\"\")","v":""},{"$f":"IF($K22=照射試料の誘導放射能の計算書!$B$40&照射試料の誘導放射能の計算書!$D$40,COUNTIF($K22:$K280,照射試料の誘導放射能の計算書!$B$40&照射試料の誘導放射能の計算書!$D$40),\"\")","v":""},"Cl-38","(n,γ)Cl-38",0.42,37.18,"min"]
[18,"Ar-40","Ar",36,"Ar-36",0.33700000000000002,"(n,γ)","Ar37","Ar","37","Ar-36(n,γ)",{"$f":"IF($K23=照射試料の誘導放射能の計算書!$B$31&照射試料の誘導放射能の計算書!$D$31,COUNTIF($K23:$K281,照射試料の誘導放射能の計算書!$B$31&照射試料の誘導放射能の計算書!$D$31),\"\")","v":""},{"$f":"IF($K23=照射試料の誘導放射能の計算書!$B$32&照射試料の誘導放射能の計算書!$D$32,COUNTIF($K23:$K281,照射試料の誘導放射能の計算書!$B$32&照射試料の誘導放射能の計算書!$D$32),\"\")","v":""},{"$f":"IF($K23=照射試料の誘導放射能の計算書!$B$33&照射試料の誘導放射能の計算書!$D$33,COUNTIF($K23:$K281,照射試料の誘導放射能の計算書!$B$33&照射試料の誘導放射能の計算書!$D$33),\"\")","v":""},{"$f":"IF($K23=照射試料の誘導放射能の計算書!$B$34&照射試料の誘導放射能の計算書!$D$34,COUNTIF($K23:$K281,照射試料の誘導放射能の計算書!$B$34&照射試料の誘導放射能の計算書!$D$34),\"\")","v":""},{"$f":"IF($K23=照射試料の誘導放射能の計算書!$B$35&照射試料の誘導放射能の計算書!$D$35,COUNTIF($K23:$K281,照射試料の誘導放射能の計算書!$B$35&照射試料の誘導放射能の計算書!$D$35),\"\")","v":""},{"$f":"IF($K23=照射試料の誘導放射能の計算書!$B$36&照射試料の誘導放射能の計算書!$D$36,COUNTIF($K23:$K281,照射試料の誘導放射能の計算書!$B$36&照射試料の誘導放射能の計算書!$D$36),\"\")","v":""},{"$f":"IF($K23=照射試料の誘導放射能の計算書!$B$37&照射試料の誘導放射能の計算書!$D$37,COUNTIF($K23:$K281,照射試料の誘導放射能の計算書!$B$37&照射試料の誘導放射能の計算書!$D$37),\"\")","v":""},{"$f":"IF($K23=照射試料の誘導放射能の計算書!$B$38&照射試料の誘導放射能の計算書!$D$38,COUNTIF($K23:$K281,照射試料の誘導放射能の計算書!$B$38&照射試料の誘導放射能の計算書!$D$38),\"\")","v":""},{"$f":"IF($K23=照射試料の誘導放射能の計算書!$B$39&照射試料の誘導放射能の計算書!$D$39,COUNTIF($K23:$K281,照射試料の誘導放射能の計算書!$B$39&照射試料の誘導放射能の計算書!$D$39),\"\")","v":""},{"$f":"IF($K23=照射試料の誘導放射能の計算書!$B$40&照射試料の誘導放射能の計算書!$D$40,COUNTIF($K23:$K281,照射試料の誘導放射能の計算書!$B$40&照射試料の誘導放射能の計算書!$D$40),\"\")","v":""},"Ar-37","(n,γ)Ar-37",5,35,"d"]
[18,"K-39","Ar",38,"Ar-38",6.3E-2,"(n,γ)","Ar39","Ar","39","Ar-38(n,γ)",{"$f":"IF($K24=照射試料の誘導放射能の計算書!$B$31&照射試料の誘導放射能の計算書!$D$31,COUNTIF($K24:$K282,照射試料の誘導放射能の計算書!$B$31&照射試料の誘導放射能の計算書!$D$31),\"\")","v":""},{"$f":"IF($K24=照射試料の誘導放射能の計算書!$B$32&照射試料の誘導放射能の計算書!$D$32,COUNTIF($K24:$K282,照射試料の誘導放射能の計算書!$B$32&照射試料の誘導放射能の計算書!$D$32),\"\")","v":""},{"$f":"IF($K24=照射試料の誘導放射能の計算書!$B$33&照射試料の誘導放射能の計算書!$D$33,COUNTIF($K24:$K282,照射試料の誘導放射能の計算書!$B$33&照射試料の誘導放射能の計算書!$D$33),\"\")","v":""},{"$f":"IF($K24=照射試料の誘導放射能の計算書!$B$34&照射試料の誘導放射能の計算書!$D$34,COUNTIF($K24:$K282,照射試料の誘導放射能の計算書!$B$34&照射試料の誘導放射能の計算書!$D$34),\"\")","v":""},{"$f":"IF($K24=照射試料の誘導放射能の計算書!$B$35&照射試料の誘導放射能の計算書!$D$35,COUNTIF($K24:$K282,照射試料の誘導放射能の計算書!$B$35&照射試料の誘導放射能の計算書!$D$35),\"\")","v":""},{"$f":"IF($K24=照射試料の誘導放射能の計算書!$B$36&照射試料の誘導放射能の計算書!$D$36,COUNTIF($K24:$K282,照射試料の誘導放射能の計算書!$B$36&照射試料の誘導放射能の計算書!$D$36),\"\")","v":""},{"$f":"IF($K24=照射試料の誘導放射能の計算書!$B$37&照射試料の誘導放射能の計算書!$D$37,COUNTIF($K24:$K282,照射試料の誘導放射能の計算書!$B$37&照射試料の誘導放射能の計算書!$D$37),\"\")","v":""},{"$f":"IF($K24=照射試料の誘導放射能の計算書!$B$38&照射試料の誘導放射能の計算書!$D$38,COUNTIF($K24:$K282,照射試料の誘導放射能の計算書!$B$38&照射試料の誘導放射能の計算書!$D$38),\"\")","v":""},{"$f":"IF($K24=照射試料の誘導放射能の計算書!$B$39&照射試料の誘導放射能の計算書!$D$39,COUNTIF($K24:$K282,照射試料の誘導放射能の計算書!$B$39&照射試料の誘導放射能の計算書!$D$39),\"\")","v":""},{"$f":"IF($K24=照射試料の誘導放射能の計算書!$B$40&照射試料の誘導放射能の計算書!$D$40,COUNTIF($K24:$K282,照射試料の誘導放射能の計算書!$B$40&照射試料の誘導放射能の計算書!$D$40),\"\")","v":""},"Ar-39","(n,γ)Ar-39",0.8,269,"y"]
[18,"K-41","Ar",40,"Ar-40",99.6,"(n,γ)","Ar41","Ar","41","Ar-40(n,γ)",{"$f":"IF($K25=照射試料の誘導放射能の計算書!$B$31&照射試料の誘導放射能の計算書!$D$31,COUNTIF($K25:$K283,照射試料の誘導放射能の計算書!$B$31&照射試料の誘導放射能の計算書!$D$31),\"\")","v":""},{"$f":"IF($K25=照射試料の誘導放射能の計算書!$B$32&照射試料の誘導放射能の計算書!$D$32,COUNTIF($K25:$K283,照射試料の誘導放射能の計算書!$B$32&照射試料の誘導放射能の計算書!$D$32),\"\")","v":""},{"$f":"IF($K25=照射試料の誘導放射能の計算書!$B$33&照射試料の誘導放射能の計算書!$D$33,COUNTIF($K25:$K283,照射試料の誘導放射能の計算書!$B$33&照射試料の誘導放射能の計算書!$D$33),\"\")","v":""},{"$f":"IF($K25=照射試料の誘導放射能の計算書!$B$34&照射試料の誘導放射能の計算書!$D$34,COUNTIF($K25:$K283,照射試料の誘導放射能の計算書!$B$34&照射試料の誘導放射能の計算書!$D$34),\"\")","v":""},{"$f":"IF($K25=照射試料の誘導放射能の計算書!$B$35&照射試料の誘導放射能の計算書!$D$35,COUNTIF($K25:$K283,照射試料の誘導放射能の計算書!$B$35&照射試料の誘導放射能の計算書!$D$35),\"\")","v":""},{"$f":"IF($K25=照射試料の誘導放射能の計算書!$B$36&照射試料の誘導放射能の計算書!$D$36,COUNTIF($K25:$K283,照射試料の誘導放射能の計算書!$B$36&照射試料の誘導放射能の計算書!$D$36),\"\")","v":""},{"$f":"IF($K25=照射試料の誘導放射能の計算書!$B$37&照射試料の誘導放射能の計算書!$D$37,COUNTIF($K25:$K283,照射試料の誘導放射能の計算書!$B$37&照射試料の誘導放射能の計算書!$D$37),\"\")","v":""},{"$f":"IF($K25=照射試料の誘導放射能の計算書!$B$38&照射試料の誘導放射能の計算書!$D$38,COUNTIF($K25:$K283,照射試料の誘導放射能の計算書!$B$38&照射試料の誘導放射能の計算書!$D$38),\"\")","v":""},{"$f":"IF($K25=照射試料の誘導放射能の計算書!$B$39&照射試料の誘導放射能の計算書!$D$39,COUNTIF($K25:$K283,照射試料の誘導放射能の計算書!$B$39&照射試料の誘導放射能の計算書!$D$39),\"\")","v":""},{"$f":"IF($K25=照射試料の誘導放射能の計算書!$B$40&照射試料の誘導放射能の計算書!$D$40,COUNTIF($K25:$K283,照射試料の誘導放射能の計算書!$B$40&照射試料の誘導放射能の計算書!$D$40),\"\")","v":""},"Ar-41","(n,γ)Ar-41",0.64,1.83,"h"]
[19,"Ca-40","K",39,"K-39",93.258099999999999,"(n,γ)","K40",{"$f":"LEFT(H26,1)","v":"K"},"40","K-39(n,γ)",{"$f":"IF($K26=照射試料の誘導放射能の計算書!$B$31&照射試料の誘導放射能の計算書!$D$31,COUNTIF($K26:$K284,照射試料の誘導放射能の計算書!$B$31&照射試料の誘導放射能の計算書!$D$31),\"\")","v":""},{"$f":"IF($K26=照射試料の誘導放射能の計算書!$B$32&照射試料の誘導放射能の計算書!$D$32,COUNTIF($K26:$K284,照射試料の誘導放射能の計算書!$B$32&照射試料の誘導放射能の計算書!$D$32),\"\")","v":""},{"$f":"IF($K26=照射試料の誘導放射能の計算書!$B$33&照射試料の誘導放射能の計算書!$D$33,COUNTIF($K26:$K284,照射試料の誘導放射能の計算書!$B$33&照射試料の誘導放射能の計算書!$D$33),\"\")","v":""},{"$f":"IF($K26=照射試料の誘導放射能の計算書!$B$34&照射試料の誘導放射能の計算書!$D$34,COUNTIF($K26:$K284,照射試料の誘導放射能の計算書!$B$34&照射試料の誘導放射能の計算書!$D$34),\"\")","v":""},{"$f":"IF($K26=照射試料の誘導放射能の計算書!$B$35&照射試料の誘導放射能の計算書!$D$35,COUNTIF($K26:$K284,照射試料の誘導放射能の計算書!$B$35&照射試料の誘導放射能の計算書!$D$35),\"\")","v":""},{"$f":"IF($K26=照射試料の誘導放射能の計算書!$B$36&照射試料の誘導放射能の計算書!$D$36,COUNTIF($K26:$K284,照射試料の誘導放射能の計算書!$B$36&照射試料の誘導放射能の計算書!$D$36),\"\")","v":""},{"$f":"IF($K26=照射試料の誘導放射能の計算書!$B$37&照射試料の誘導放射能の計算書!$D$37,COUNTIF($K26:$K284,照射試料の誘導放射能の計算書!$B$37&照射試料の誘導放射能の計算書!$D$37),\"\")","v":""},{"$f":"IF($K26=照射試料の誘導放射能の計算書!$B$38&照射試料の誘導放射能の計算書!$D$38,COUNTIF($K26:$K284,照射試料の誘導放射能の計算書!$B$38&照射試料の誘導放射能の計算書!$D$38),\"\")","v":""},{"$f":"IF($K26=照射試料の誘導放射能の計算書!$B$39&照射試料の誘導放射能の計算書!$D$39,COUNTIF($K26:$K284,照射試料の誘導放射能の計算書!$B$39&照射試料の誘導放射能の計算書!$D$39),\"\")","v":""},{"$f":"IF($K26=照射試料の誘導放射能の計算書!$B$40&照射試料の誘導放射能の計算書!$D$40,COUNTIF($K26:$K284,照射試料の誘導放射能の計算書!$B$40&照射試料の誘導放射能の計算書!$D$40),\"\")","v":""},"K-40","(n,γ)K-40",2.1,1280000000,"y"]
[19,"Ca-44","K",39,"K-39",93.258099999999999,"(n,α)","Cl36","Cl","36","K-39(n,α)",{"$f":"IF($K27=照射試料の誘導放射能の計算書!$B$31&照射試料の誘導放射能の計算書!$D$31,COUNTIF($K27:$K285,照射試料の誘導放射能の計算書!$B$31&照射試料の誘導放射能の計算書!$D$31),\"\")","v":""},{"$f":"IF($K27=照射試料の誘導放射能の計算書!$B$32&照射試料の誘導放射能の計算書!$D$32,COUNTIF($K27:$K285,照射試料の誘導放射能の計算書!$B$32&照射試料の誘導放射能の計算書!$D$32),\"\")","v":""},{"$f":"IF($K27=照射試料の誘導放射能の計算書!$B$33&照射試料の誘導放射能の計算書!$D$33,COUNTIF($K27:$K285,照射試料の誘導放射能の計算書!$B$33&照射試料の誘導放射能の計算書!$D$33),\"\")","v":""},{"$f":"IF($K27=照射試料の誘導放射能の計算書!$B$34&照射試料の誘導放射能の計算書!$D$34,COUNTIF($K27:$K285,照射試料の誘導放射能の計算書!$B$34&照射試料の誘導放射能の計算書!$D$34),\"\")","v":""},{"$f":"IF($K27=照射試料の誘導放射能の計算書!$B$35&照射試料の誘導放射能の計算書!$D$35,COUNTIF($K27:$K285,照射試料の誘導放射能の計算書!$B$35&照射試料の誘導放射能の計算書!$D$35),\"\")","v":""},{"$f":"IF($K27=照射試料の誘導放射能の計算書!$B$36&照射試料の誘導放射能の計算書!$D$36,COUNTIF($K27:$K285,照射試料の誘導放射能の計算書!$B$36&照射試料の誘導放射能の計算書!$D$36),\"\")","v":""},{"$f":"IF($K27=照射試料の誘導放射能の計算書!$B$37&照射試料の誘導放射能の計算書!$D$37,COUNTIF($K27:$K285,照射試料の誘導放射能の計算書!$B$37&照射試料の誘導放射能の計算書!$D$37),\"\")","v":""},{"$f":"IF($K27=照射試料の誘導放射能の計算書!$B$38&照射試料の誘導放射能の計算書!$D$38,COUNTIF($K27:$K285,照射試料の誘導放射能の計算書!$B$38&照射試料の誘導放射能の計算書!$D$38),\"\")","v":""},{"$f":"IF($K27=照射試料の誘導放射能の計算書!$B$39&照射試料の誘導放射能の計算書!$D$39,COUNTIF($K27:$K285,照射試料の誘導放射能の計算書!$B$39&照射試料の誘導放射能の計算書!$D$39),\"\")","v":""},{"$f":"IF($K27=照射試料の誘導放射能の計算書!$B$40&照射試料の誘導放射能の計算書!$D$40,COUNTIF($K27:$K285,照射試料の誘導放射能の計算書!$B$40&照射試料の誘導放射能の計算書!$D$40),\"\")","v":""},"Cl-36","(n,α)Cl-36",4.3E-3,300000,"y"]
[19,"Ca-46","K",41,"K-41",6.7302,"(n,γ)","K42",{"$f":"LEFT(H28,1)","v":"K"},"42","K-41(n,γ)",{"$f":"IF($K28=照射試料の誘導放射能の計算書!$B$31&照射試料の誘導放射能の計算書!$D$31,COUNTIF($K28:$K286,照射試料の誘導放射能の計算書!$B$31&照射試料の誘導放射能の計算書!$D$31),\"\")","v":""},{"$f":"IF($K28=照射試料の誘導放射能の計算書!$B$32&照射試料の誘導放射能の計算書!$D$32,COUNTIF($K28:$K286,照射試料の誘導放射能の計算書!$B$32&照射試料の誘導放射能の計算書!$D$32),\"\")","v":""},{"$f":"IF($K28=照射試料の誘導放射能の計算書!$B$33&照射試料の誘導放射能の計算書!$D$33,COUNTIF($K28:$K286,照射試料の誘導放射能の計算書!$B$33&照射試料の誘導放射能の計算書!$D$33),\"\")","v":""},{"$f":"IF($K28=照射試料の誘導放射能の計算書!$B$34&照射試料の誘導放射能の計算書!$D$34,COUNTIF($K28:$K286,照射試料の誘導放射能の計算書!$B$34&照射試料の誘導放射能の計算書!$D$34),\"\")","v":""},{"$f":"IF($K28=照射試料の誘導放射能の計算書!$B$35&照射試料の誘導放射能の計算書!$D$35,COUNTIF($K28:$K286,照射試料の誘導放射能の計算書!$B$35&照射試料の誘導放射能の計算書!$D$35),\"\")","v":""},{"$f":"IF($K28=照射試料の誘導放射能の計算書!$B$36&照射試料の誘導放射能の計算書!$D$36,COUNTIF($K28:$K286,照射試料の誘導放射能の計算書!$B$36&照射試料の誘導放射能の計算書!$D$36),\"\")","v":""},{"$f":"IF($K28=照射試料の誘導放射能の計算書!$B$37&照射試料の誘導放射能の計算書!$D$37,COUNTIF($K28:$K286,照射試料の誘導放射能の計算書!$B$37&照射試料の誘導放射能の計算書!$D$37),\"\")","v":""},{"$f":"IF($K28=照射試料の誘導放射能の計算書!$B$38&照射試料の誘導放射能の計算書!$D$38,COUNTIF($K28:$K286,照射試料の誘導放射能の計算書!$B$38&照射試料の誘導放射能の計算書!$D$38),\"\")","v":""},{"$f":"IF($K28=照射試料の誘導放射能の計算書!$B$39&照射試料の誘導放射能の計算書!$D$39,COUNTIF($K28:$K286,照射試料の誘導放射能の計算書!$B$39&照射試料の誘導放射能の計算書!$D$39),\"\")","v":""},{"$f":"IF($K28=照射試料の誘導放射能の計算書!$B$40&照射試料の誘導放射能の計算書!$D$40,COUNTIF($K28:$K286,照射試料の誘導放射能の計算書!$B$40&照射試料の誘導放射能の計算書!$D$40),\"\")","v":""},"K-42","(n,γ)K-42",1.46,12.36,"h"]
[20,"Ca-48","Ca",40,"Ca-40",96.941000000000003,"(n,γ)","Ca41","Ca","41","Ca-40(n,γ)",{"$f":"IF($K29=照射試料の誘導放射能の計算書!$B$31&照射試料の誘導放射能の計算書!$D$31,COUNTIF($K29:$K287,照射試料の誘導放射能の計算書!$B$31&照射試料の誘導放射能の計算書!$D$31),\"\")","v":""},{"$f":"IF($K29=照射試料の誘導放射能の計算書!$B$32&照射試料の誘導放射能の計算書!$D$32,COUNTIF($K29:$K287,照射試料の誘導放射能の計算書!$B$32&照射試料の誘導放射能の計算書!$D$32),\"\")","v":""},{"$f":"IF($K29=照射試料の誘導放射能の計算書!$B$33&照射試料の誘導放射能の計算書!$D$33,COUNTIF($K29:$K287,照射試料の誘導放射能の計算書!$B$33&照射試料の誘導放射能の計算書!$D$33),\"\")","v":""},{"$f":"IF($K29=照射試料の誘導放射能の計算書!$B$34&照射試料の誘導放射能の計算書!$D$34,COUNTIF($K29:$K287,照射試料の誘導放射能の計算書!$B$34&照射試料の誘導放射能の計算書!$D$34),\"\")","v":""},{"$f":"IF($K29=照射試料の誘導放射能の計算書!$B$35&照射試料の誘導放射能の計算書!$D$35,COUNTIF($K29:$K287,照射試料の誘導放射能の計算書!$B$35&照射試料の誘導放射能の計算書!$D$35),\"\")","v":""},{"$f":"IF($K29=照射試料の誘導放射能の計算書!$B$36&照射試料の誘導放射能の計算書!$D$36,COUNTIF($K29:$K287,照射試料の誘導放射能の計算書!$B$36&照射試料の誘導放射能の計算書!$D$36),\"\")","v":""},{"$f":"IF($K29=照射試料の誘導放射能の計算書!$B$37&照射試料の誘導放射能の計算書!$D$37,COUNTIF($K29:$K287,照射試料の誘導放射能の計算書!$B$37&照射試料の誘導放射能の計算書!$D$37),\"\")","v":""},{"$f":"IF($K29=照射試料の誘導放射能の計算書!$B$38&照射試料の誘導放射能の計算書!$D$38,COUNTIF($K29:$K287,照射試料の誘導放射能の計算書!$B$38&照射試料の誘導放射能の計算書!$D$38),\"\")","v":""},{"$f":"IF($K29=照射試料の誘導放射能の計算書!$B$39&照射試料の誘導放射能の計算書!$D$39,COUNTIF($K29:$K287,照射試料の誘導放射能の計算書!$B$39&照射試料の誘導放射能の計算書!$D$39),\"\")","v":""},{"$f":"IF($K29=照射試料の誘導放射能の計算書!$B$40&照射試料の誘導放射能の計算書!$D$40,COUNTIF($K29:$K287,照射試料の誘導放射能の計算書!$B$40&照射試料の誘導放射能の計算書!$D$40),\"\")","v":""},"Ca-41","(n,γ)Ca-41",0.41,103000,"y"]
[20,"Sc-45","Ca",40,"Ca-40",96.941000000000003,"(n,α)","Ar37","Ar","37","Ca-40(n,α)",{"$f":"IF($K30=照射試料の誘導放射能の計算書!$B$31&照射試料の誘導放射能の計算書!$D$31,COUNTIF($K30:$K288,照射試料の誘導放射能の計算書!$B$31&照射試料の誘導放射能の計算書!$D$31),\"\")","v":""},{"$f":"IF($K30=照射試料の誘導放射能の計算書!$B$32&照射試料の誘導放射能の計算書!$D$32,COUNTIF($K30:$K288,照射試料の誘導放射能の計算書!$B$32&照射試料の誘導放射能の計算書!$D$32),\"\")","v":""},{"$f":"IF($K30=照射試料の誘導放射能の計算書!$B$33&照射試料の誘導放射能の計算書!$D$33,COUNTIF($K30:$K288,照射試料の誘導放射能の計算書!$B$33&照射試料の誘導放射能の計算書!$D$33),\"\")","v":""},{"$f":"IF($K30=照射試料の誘導放射能の計算書!$B$34&照射試料の誘導放射能の計算書!$D$34,COUNTIF($K30:$K288,照射試料の誘導放射能の計算書!$B$34&照射試料の誘導放射能の計算書!$D$34),\"\")","v":""},{"$f":"IF($K30=照射試料の誘導放射能の計算書!$B$35&照射試料の誘導放射能の計算書!$D$35,COUNTIF($K30:$K288,照射試料の誘導放射能の計算書!$B$35&照射試料の誘導放射能の計算書!$D$35),\"\")","v":""},{"$f":"IF($K30=照射試料の誘導放射能の計算書!$B$36&照射試料の誘導放射能の計算書!$D$36,COUNTIF($K30:$K288,照射試料の誘導放射能の計算書!$B$36&照射試料の誘導放射能の計算書!$D$36),\"\")","v":""},{"$f":"IF($K30=照射試料の誘導放射能の計算書!$B$37&照射試料の誘導放射能の計算書!$D$37,COUNTIF($K30:$K288,照射試料の誘導放射能の計算書!$B$37&照射試料の誘導放射能の計算書!$D$37),\"\")","v":""},{"$f":"IF($K30=照射試料の誘導放射能の計算書!$B$38&照射試料の誘導放射能の計算書!$D$38,COUNTIF($K30:$K288,照射試料の誘導放射能の計算書!$B$38&照射試料の誘導放射能の計算書!$D$38),\"\")","v":""},{"$f":"IF($K30=照射試料の誘導放射能の計算書!$B$39&照射試料の誘導放射能の計算書!$D$39,COUNTIF($K30:$K288,照射試料の誘導放射能の計算書!$B$39&照射試料の誘導放射能の計算書!$D$39),\"\")","v":""},{"$f":"IF($K30=照射試料の誘導放射能の計算書!$B$40&照射試料の誘導放射能の計算書!$D$40,COUNTIF($K30:$K288,照射試料の誘導放射能の計算書!$B$40&照射試料の誘導放射能の計算書!$D$40),\"\")","v":""},"Ar-37","(n,α)Ar-37",0.43,35,"d"]
[20,"Ti-50","Ca",44,"Ca-44",2.0859999999999999,"(n,γ)","Ca45","Ca","45","Ca-44(n,γ)",{"$f":"IF($K31=照射試料の誘導放射能の計算書!$B$31&照射試料の誘導放射能の計算書!$D$31,COUNTIF($K31:$K289,照射試料の誘導放射能の計算書!$B$31&照射試料の誘導放射能の計算書!$D$31),\"\")","v":""},{"$f":"IF($K31=照射試料の誘導放射能の計算書!$B$32&照射試料の誘導放射能の計算書!$D$32,COUNTIF($K31:$K289,照射試料の誘導放射能の計算書!$B$32&照射試料の誘導放射能の計算書!$D$32),\"\")","v":""},{"$f":"IF($K31=照射試料の誘導放射能の計算書!$B$33&照射試料の誘導放射能の計算書!$D$33,COUNTIF($K31:$K289,照射試料の誘導放射能の計算書!$B$33&照射試料の誘導放射能の計算書!$D$33),\"\")","v":""},{"$f":"IF($K31=照射試料の誘導放射能の計算書!$B$34&照射試料の誘導放射能の計算書!$D$34,COUNTIF($K31:$K289,照射試料の誘導放射能の計算書!$B$34&照射試料の誘導放射能の計算書!$D$34),\"\")","v":""},{"$f":"IF($K31=照射試料の誘導放射能の計算書!$B$35&照射試料の誘導放射能の計算書!$D$35,COUNTIF($K31:$K289,照射試料の誘導放射能の計算書!$B$35&照射試料の誘導放射能の計算書!$D$35),\"\")","v":""},{"$f":"IF($K31=照射試料の誘導放射能の計算書!$B$36&照射試料の誘導放射能の計算書!$D$36,COUNTIF($K31:$K289,照射試料の誘導放射能の計算書!$B$36&照射試料の誘導放射能の計算書!$D$36),\"\")","v":""},{"$f":"IF($K31=照射試料の誘導放射能の計算書!$B$37&照射試料の誘導放射能の計算書!$D$37,COUNTIF($K31:$K289,照射試料の誘導放射能の計算書!$B$37&照射試料の誘導放射能の計算書!$D$37),\"\")","v":""},{"$f":"IF($K31=照射試料の誘導放射能の計算書!$B$38&照射試料の誘導放射能の計算書!$D$38,COUNTIF($K31:$K289,照射試料の誘導放射能の計算書!$B$38&照射試料の誘導放射能の計算書!$D$38),\"\")","v":""},{"$f":"IF($K31=照射試料の誘導放射能の計算書!$B$39&照射試料の誘導放射能の計算書!$D$39,COUNTIF($K31:$K289,照射試料の誘導放射能の計算書!$B$39&照射試料の誘導放射能の計算書!$D$39),\"\")","v":""},{"$f":"IF($K31=照射試料の誘導放射能の計算書!$B$40&照射試料の誘導放射能の計算書!$D$40,COUNTIF($K31:$K289,照射試料の誘導放射能の計算書!$B$40&照射試料の誘導放射能の計算書!$D$40),\"\")","v":""},"Ca-45","(n,γ)Ca-45",1,163,"d"]
[20,"V-51","Ca",46,"Ca-46",4.0000000000000001E-3,"(n,γ)","Ca47","Ca","47","Ca-46(n,γ)",{"$f":"IF($K32=照射試料の誘導放射能の計算書!$B$31&照射試料の誘導放射能の計算書!$D$31,COUNTIF($K32:$K290,照射試料の誘導放射能の計算書!$B$31&照射試料の誘導放射能の計算書!$D$31),\"\")","v":""},{"$f":"IF($K32=照射試料の誘導放射能の計算書!$B$32&照射試料の誘導放射能の計算書!$D$32,COUNTIF($K32:$K290,照射試料の誘導放射能の計算書!$B$32&照射試料の誘導放射能の計算書!$D$32),\"\")","v":""},{"$f":"IF($K32=照射試料の誘導放射能の計算書!$B$33&照射試料の誘導放射能の計算書!$D$33,COUNTIF($K32:$K290,照射試料の誘導放射能の計算書!$B$33&照射試料の誘導放射能の計算書!$D$33),\"\")","v":""},{"$f":"IF($K32=照射試料の誘導放射能の計算書!$B$34&照射試料の誘導放射能の計算書!$D$34,COUNTIF($K32:$K290,照射試料の誘導放射能の計算書!$B$34&照射試料の誘導放射能の計算書!$D$34),\"\")","v":""},{"$f":"IF($K32=照射試料の誘導放射能の計算書!$B$35&照射試料の誘導放射能の計算書!$D$35,COUNTIF($K32:$K290,照射試料の誘導放射能の計算書!$B$35&照射試料の誘導放射能の計算書!$D$35),\"\")","v":""},{"$f":"IF($K32=照射試料の誘導放射能の計算書!$B$36&照射試料の誘導放射能の計算書!$D$36,COUNTIF($K32:$K290,照射試料の誘導放射能の計算書!$B$36&照射試料の誘導放射能の計算書!$D$36),\"\")","v":""},{"$f":"IF($K32=照射試料の誘導放射能の計算書!$B$37&照射試料の誘導放射能の計算書!$D$37,COUNTIF($K32:$K290,照射試料の誘導放射能の計算書!$B$37&照射試料の誘導放射能の計算書!$D$37),\"\")","v":""},{"$f":"IF($K32=照射試料の誘導放射能の計算書!$B$38&照射試料の誘導放射能の計算書!$D$38,COUNTIF($K32:$K290,照射試料の誘導放射能の計算書!$B$38&照射試料の誘導放射能の計算書!$D$38),\"\")","v":""},{"$f":"IF($K32=照射試料の誘導放射能の計算書!$B$39&照射試料の誘導放射能の計算書!$D$39,COUNTIF($K32:$K290,照射試料の誘導放射能の計算書!$B$39&照射試料の誘導放射能の計算書!$D$39),\"\")","v":""},{"$f":"IF($K32=照射試料の誘導放射能の計算書!$B$40&照射試料の誘導放射能の計算書!$D$40,COUNTIF($K32:$K290,照射試料の誘導放射能の計算書!$B$40&照射試料の誘導放射能の計算書!$D$40),\"\")","v":""},"Ca-47","(n,γ)Ca-47",0.72,4.54,"d"]
[20,"Cr-50","Ca",48,"Ca-48",0.187,"(n,γ)","Ca49","Ca","49","Ca-48(n,γ)",{"$f":"IF($K33=照射試料の誘導放射能の計算書!$B$31&照射試料の誘導放射能の計算書!$D$31,COUNTIF($K33:$K291,照射試料の誘導放射能の計算書!$B$31&照射試料の誘導放射能の計算書!$D$31),\"\")","v":""},{"$f":"IF($K34=照射試料の誘導放射能の計算書!$B$32&照射試料の誘導放射能の計算書!$D$32,COUNTIF($K34:$K291,照射試料の誘導放射能の計算書!$B$32&照射試料の誘導放射能の計算書!$D$32),\"\")","v":""},{"$f":"IF($K35=照射試料の誘導放射能の計算書!$B$33&照射試料の誘導放射能の計算書!$D$33,COUNTIF($K35:$K291,照射試料の誘導放射能の計算書!$B$33&照射試料の誘導放射能の計算書!$D$33),\"\")","v":""},{"$f":"IF($K36=照射試料の誘導放射能の計算書!$B$34&照射試料の誘導放射能の計算書!$D$34,COUNTIF($K36:$K291,照射試料の誘導放射能の計算書!$B$34&照射試料の誘導放射能の計算書!$D$34),\"\")","v":""},{"$f":"IF($K37=照射試料の誘導放射能の計算書!$B$35&照射試料の誘導放射能の計算書!$D$35,COUNTIF($K37:$K291,照射試料の誘導放射能の計算書!$B$35&照射試料の誘導放射能の計算書!$D$35),\"\")","v":""},{"$f":"IF($K38=照射試料の誘導放射能の計算書!$B$36&照射試料の誘導放射能の計算書!$D$36,COUNTIF($K38:$K291,照射試料の誘導放射能の計算書!$B$36&照射試料の誘導放射能の計算書!$D$36),\"\")","v":""},{"$f":"IF($K39=照射試料の誘導放射能の計算書!$B$37&照射試料の誘導放射能の計算書!$D$37,COUNTIF($K39:$K291,照射試料の誘導放射能の計算書!$B$37&照射試料の誘導放射能の計算書!$D$37),\"\")","v":""},{"$f":"IF($K40=照射試料の誘導放射能の計算書!$B$38&照射試料の誘導放射能の計算書!$D$38,COUNTIF($K40:$K291,照射試料の誘導放射能の計算書!$B$38&照射試料の誘導放射能の計算書!$D$38),\"\")","v":""},{"$f":"IF($K41=照射試料の誘導放射能の計算書!$B$39&照射試料の誘導放射能の計算書!$D$39,COUNTIF($K41:$K291,照射試料の誘導放射能の計算書!$B$39&照射試料の誘導放射能の計算書!$D$39),\"\")","v":""},{"$f":"IF($K42=照射試料の誘導放射能の計算書!$B$40&照射試料の誘導放射能の計算書!$D$40,COUNTIF($K42:$K291,照射試料の誘導放射能の計算書!$B$40&照射試料の誘導放射能の計算書!$D$40),\"\")","v":""},"Ca-49","(n,γ)Ca-49",1.1000000000000001,8.7200000000000006,"min"]
[21,"Cr-54","Sc",45,"Sc-45",100,"(n,γ)","Sc46","Sc","46","Sc-45(n,γ)",{"$f":"IF($K34=照射試料の誘導放射能の計算書!$B$31&照射試料の誘導放射能の計算書!$D$31,COUNTIF($K34:$K292,照射試料の誘導放射能の計算書!$B$31&照射試料の誘導放射能の計算書!$D$31),\"\")","v":""},{"$f":"IF($K34=照射試料の誘導放射能の計算書!$B$32&照射試料の誘導放射能の計算書!$D$32,COUNTIF($K34:$K292,照射試料の誘導放射能の計算書!$B$32&照射試料の誘導放射能の計算書!$D$32),\"\")","v":""},{"$f":"IF($K34=照射試料の誘導放射能の計算書!$B$33&照射試料の誘導放射能の計算書!$D$33,COUNTIF($K34:$K292,照射試料の誘導放射能の計算書!$B$33&照射試料の誘導放射能の計算書!$D$33),\"\")","v":""},{"$f":"IF($K34=照射試料の誘導放射能の計算書!$B$34&照射試料の誘導放射能の計算書!$D$34,COUNTIF($K34:$K292,照射試料の誘導放射能の計算書!$B$34&照射試料の誘導放射能の計算書!$D$34),\"\")","v":""},{"$f":"IF($K34=照射試料の誘導放射能の計算書!$B$35&照射試料の誘導放射能の計算書!$D$35,COUNTIF($K34:$K292,照射試料の誘導放射能の計算書!$B$35&照射試料の誘導放射能の計算書!$D$35),\"\")","v":""},{"$f":"IF($K34=照射試料の誘導放射能の計算書!$B$36&照射試料の誘導放射能の計算書!$D$36,COUNTIF($K34:$K292,照射試料の誘導放射能の計算書!$B$36&照射試料の誘導放射能の計算書!$D$36),\"\")","v":""},{"$f":"IF($K34=照射試料の誘導放射能の計算書!$B$37&照射試料の誘導放射能の計算書!$D$37,COUNTIF($K34:$K292,照射試料の誘導放射能の計算書!$B$37&照射試料の誘導放射能の計算書!$D$37),\"\")","v":""},{"$f":"IF($K34=照射試料の誘導放射能の計算書!$B$38&照射試料の誘導放射能の計算書!$D$38,COUNTIF($K34:$K292,照射試料の誘導放射能の計算書!$B$38&照射試料の誘導放射能の計算書!$D$38),\"\")","v":""},{"$f":"IF($K34=照射試料の誘導放射能の計算書!$B$39&照射試料の誘導放射能の計算書!$D$39,COUNTIF($K34:$K292,照射試料の誘導放射能の計算書!$B$39&照射試料の誘導放射能の計算書!$D$39),\"\")","v":""},{"$f":"IF($K34=照射試料の誘導放射能の計算書!$B$40&照射試料の誘導放射能の計算書!$D$40,COUNTIF($K34:$K292,照射試料の誘導放射能の計算書!$B$40&照射試料の誘導放射能の計算書!$D$40),\"\")","v":""},"Sc-46","(n,γ)Sc-46",26.5,83.32,"d"]
[21,"Mn-55","Sc",45,"Sc-45",100,"(n,γ)","Sc46m","Sc",{"$f":"RIGHT(H35,3)","v":"46m"},"Sc-45(n,γ)",{"$f":"IF($K35=照射試料の誘導放射能の計算書!$B$31&照射試料の誘導放射能の計算書!$D$31,COUNTIF($K35:$K293,照射試料の誘導放射能の計算書!$B$31&照射試料の誘導放射能の計算書!$D$31),\"\")","v":""},{"$f":"IF($K35=照射試料の誘導放射能の計算書!$B$32&照射試料の誘導放射能の計算書!$D$32,COUNTIF($K35:$K293,照射試料の誘導放射能の計算書!$B$32&照射試料の誘導放射能の計算書!$D$32),\"\")","v":""},{"$f":"IF($K35=照射試料の誘導放射能の計算書!$B$33&照射試料の誘導放射能の計算書!$D$33,COUNTIF($K35:$K293,照射試料の誘導放射能の計算書!$B$33&照射試料の誘導放射能の計算書!$D$33),\"\")","v":""},{"$f":"IF($K35=照射試料の誘導放射能の計算書!$B$34&照射試料の誘導放射能の計算書!$D$34,COUNTIF($K35:$K293,照射試料の誘導放射能の計算書!$B$34&照射試料の誘導放射能の計算書!$D$34),\"\")","v":""},{"$f":"IF($K35=照射試料の誘導放射能の計算書!$B$35&照射試料の誘導放射能の計算書!$D$35,COUNTIF($K35:$K293,照射試料の誘導放射能の計算書!$B$35&照射試料の誘導放射能の計算書!$D$35),\"\")","v":""},{"$f":"IF($K35=照射試料の誘導放射能の計算書!$B$36&照射試料の誘導放射能の計算書!$D$36,COUNTIF($K35:$K293,照射試料の誘導放射能の計算書!$B$36&照射試料の誘導放射能の計算書!$D$36),\"\")","v":""},{"$f":"IF($K35=照射試料の誘導放射能の計算書!$B$37&照射試料の誘導放射能の計算書!$D$37,COUNTIF($K35:$K293,照射試料の誘導放射能の計算書!$B$37&照射試料の誘導放射能の計算書!$D$37),\"\")","v":""},{"$f":"IF($K35=照射試料の誘導放射能の計算書!$B$38&照射試料の誘導放射能の計算書!$D$38,COUNTIF($K35:$K293,照射試料の誘導放射能の計算書!$B$38&照射試料の誘導放射能の計算書!$D$38),\"\")","v":""},{"$f":"IF($K35=照射試料の誘導放射能の計算書!$B$39&照射試料の誘導放射能の計算書!$D$39,COUNTIF($K35:$K293,照射試料の誘導放射能の計算書!$B$39&照射試料の誘導放射能の計算書!$D$39),\"\")","v":""},{"$f":"IF($K35=照射試料の誘導放射能の計算書!$B$40&照射試料の誘導放射能の計算書!$D$40,COUNTIF($K35:$K293,照射試料の誘導放射能の計算書!$B$40&照射試料の誘導放射能の計算書!$D$40),\"\")","v":""},{"$f":"CONCATENATE(I35,\"-\",J35)","v":"Sc-46m"},"(n,γ)Sc-46m",9.6,18.7,"s"]
[22,"Fe-54","Ti",50,"Ti-50",5.4,"(n,γ)","Ti51","Ti",{"$f":"RIGHT(H36,2)","v":"51"},"Ti-50(n,γ)",{"$f":"IF($K36=照射試料の誘導放射能の計算書!$B$31&照射試料の誘導放射能の計算書!$D$31,COUNTIF($K36:$K294,照射試料の誘導放射能の計算書!$B$31&照射試料の誘導放射能の計算書!$D$31),\"\")","v":""},{"$f":"IF($K36=照射試料の誘導放射能の計算書!$B$32&照射試料の誘導放射能の計算書!$D$32,COUNTIF($K36:$K294,照射試料の誘導放射能の計算書!$B$32&照射試料の誘導放射能の計算書!$D$32),\"\")","v":""},{"$f":"IF($K36=照射試料の誘導放射能の計算書!$B$33&照射試料の誘導放射能の計算書!$D$33,COUNTIF($K36:$K294,照射試料の誘導放射能の計算書!$B$33&照射試料の誘導放射能の計算書!$D$33),\"\")","v":""},{"$f":"IF($K36=照射試料の誘導放射能の計算書!$B$34&照射試料の誘導放射能の計算書!$D$34,COUNTIF($K36:$K294,照射試料の誘導放射能の計算書!$B$34&照射試料の誘導放射能の計算書!$D$34),\"\")","v":""},{"$f":"IF($K36=照射試料の誘導放射能の計算書!$B$35&照射試料の誘導放射能の計算書!$D$35,COUNTIF($K36:$K294,照射試料の誘導放射能の計算書!$B$35&照射試料の誘導放射能の計算書!$D$35),\"\")","v":""},{"$f":"IF($K36=照射試料の誘導放射能の計算書!$B$36&照射試料の誘導放射能の計算書!$D$36,COUNTIF($K36:$K294,照射試料の誘導放射能の計算書!$B$36&照射試料の誘導放射能の計算書!$D$36),\"\")","v":""},{"$f":"IF($K36=照射試料の誘導放射能の計算書!$B$37&照射試料の誘導放射能の計算書!$D$37,COUNTIF($K36:$K294,照射試料の誘導放射能の計算書!$B$37&照射試料の誘導放射能の計算書!$D$37),\"\")","v":""},{"$f":"IF($K36=照射試料の誘導放射能の計算書!$B$38&照射試料の誘導放射能の計算書!$D$38,COUNTIF($K36:$K294,照射試料の誘導放射能の計算書!$B$38&照射試料の誘導放射能の計算書!$D$38),\"\")","v":""},{"$f":"IF($K36=照射試料の誘導放射能の計算書!$B$39&照射試料の誘導放射能の計算書!$D$39,COUNTIF($K36:$K294,照射試料の誘導放射能の計算書!$B$39&照射試料の誘導放射能の計算書!$D$39),\"\")","v":""},{"$f":"IF($K36=照射試料の誘導放射能の計算書!$B$40&照射試料の誘導放射能の計算書!$D$40,COUNTIF($K36:$K294,照射試料の誘導放射能の計算書!$B$40&照射試料の誘導放射能の計算書!$D$40),\"\")","v":""},"Ti-51","(n,γ)Ti-51",0.17899999999999999,5.8,"min"]
[23,"Fe-58","V",51,"V-51",99.75,"(n,γ)","V52",{"$f":"LEFT(H37,1)","v":"V"},"52","V-51(n,γ)",{"$f":"IF($K37=照射試料の誘導放射能の計算書!$B$31&照射試料の誘導放射能の計算書!$D$31,COUNTIF($K37:$K295,照射試料の誘導放射能の計算書!$B$31&照射試料の誘導放射能の計算書!$D$31),\"\")","v":""},{"$f":"IF($K37=照射試料の誘導放射能の計算書!$B$32&照射試料の誘導放射能の計算書!$D$32,COUNTIF($K37:$K295,照射試料の誘導放射能の計算書!$B$32&照射試料の誘導放射能の計算書!$D$32),\"\")","v":""},{"$f":"IF($K37=照射試料の誘導放射能の計算書!$B$33&照射試料の誘導放射能の計算書!$D$33,COUNTIF($K37:$K295,照射試料の誘導放射能の計算書!$B$33&照射試料の誘導放射能の計算書!$D$33),\"\")","v":""},{"$f":"IF($K37=照射試料の誘導放射能の計算書!$B$34&照射試料の誘導放射能の計算書!$D$34,COUNTIF($K37:$K295,照射試料の誘導放射能の計算書!$B$34&照射試料の誘導放射能の計算書!$D$34),\"\")","v":""},{"$f":"IF($K37=照射試料の誘導放射能の計算書!$B$35&照射試料の誘導放射能の計算書!$D$35,COUNTIF($K37:$K295,照射試料の誘導放射能の計算書!$B$35&照射試料の誘導放射能の計算書!$D$35),\"\")","v":""},{"$f":"IF($K37=照射試料の誘導放射能の計算書!$B$36&照射試料の誘導放射能の計算書!$D$36,COUNTIF($K37:$K295,照射試料の誘導放射能の計算書!$B$36&照射試料の誘導放射能の計算書!$D$36),\"\")","v":""},{"$f":"IF($K37=照射試料の誘導放射能の計算書!$B$37&照射試料の誘導放射能の計算書!$D$37,COUNTIF($K37:$K295,照射試料の誘導放射能の計算書!$B$37&照射試料の誘導放射能の計算書!$D$37),\"\")","v":""},{"$f":"IF($K37=照射試料の誘導放射能の計算書!$B$38&照射試料の誘導放射能の計算書!$D$38,COUNTIF($K37:$K295,照射試料の誘導放射能の計算書!$B$38&照射試料の誘導放射能の計算書!$D$38),\"\")","v":""},{"$f":"IF($K37=照射試料の誘導放射能の計算書!$B$39&照射試料の誘導放射能の計算書!$D$39,COUNTIF($K37:$K295,照射試料の誘導放射能の計算書!$B$39&照射試料の誘導放射能の計算書!$D$39),\"\")","v":""},{"$f":"IF($K37=照射試料の誘導放射能の計算書!$B$40&照射試料の誘導放射能の計算書!$D$40,COUNTIF($K37:$K295,照射試料の誘導放射能の計算書!$B$40&照射試料の誘導放射能の計算書!$D$40),\"\")","v":""},"V-52","(n,γ)V-52",3.3000000000000002E-2,3.75,"min"]
[24,"Co-59","Cr",50,"Cr-50",4.3449999999999998,"(n,γ)","Cr51","Cr","51","Cr-50(n,γ)",{"$f":"IF($K38=照射試料の誘導放射能の計算書!$B$31&照射試料の誘導放射能の計算書!$D$31,COUNTIF($K38:$K296,照射試料の誘導放射能の計算書!$B$31&照射試料の誘導放射能の計算書!$D$31),\"\")","v":""},{"$f":"IF($K38=照射試料の誘導放射能の計算書!$B$32&照射試料の誘導放射能の計算書!$D$32,COUNTIF($K38:$K296,照射試料の誘導放射能の計算書!$B$32&照射試料の誘導放射能の計算書!$D$32),\"\")","v":""},{"$f":"IF($K38=照射試料の誘導放射能の計算書!$B$33&照射試料の誘導放射能の計算書!$D$33,COUNTIF($K38:$K296,照射試料の誘導放射能の計算書!$B$33&照射試料の誘導放射能の計算書!$D$33),\"\")","v":""},{"$f":"IF($K38=照射試料の誘導放射能の計算書!$B$34&照射試料の誘導放射能の計算書!$D$34,COUNTIF($K38:$K296,照射試料の誘導放射能の計算書!$B$34&照射試料の誘導放射能の計算書!$D$34),\"\")","v":""},{"$f":"IF($K38=照射試料の誘導放射能の計算書!$B$35&照射試料の誘導放射能の計算書!$D$35,COUNTIF($K38:$K296,照射試料の誘導放射能の計算書!$B$35&照射試料の誘導放射能の計算書!$D$35),\"\")","v":""},{"$f":"IF($K38=照射試料の誘導放射能の計算書!$B$36&照射試料の誘導放射能の計算書!$D$36,COUNTIF($K38:$K296,照射試料の誘導放射能の計算書!$B$36&照射試料の誘導放射能の計算書!$D$36),\"\")","v":""},{"$f":"IF($K38=照射試料の誘導放射能の計算書!$B$37&照射試料の誘導放射能の計算書!$D$37,COUNTIF($K38:$K296,照射試料の誘導放射能の計算書!$B$37&照射試料の誘導放射能の計算書!$D$37),\"\")","v":""},{"$f":"IF($K38=照射試料の誘導放射能の計算書!$B$38&照射試料の誘導放射能の計算書!$D$38,COUNTIF($K38:$K296,照射試料の誘導放射能の計算書!$B$38&照射試料の誘導放射能の計算書!$D$38),\"\")","v":""},{"$f":"IF($K38=照射試料の誘導放射能の計算書!$B$39&照射試料の誘導放射能の計算書!$D$39,COUNTIF($K38:$K296,照射試料の誘導放射能の計算書!$B$39&照射試料の誘導放射能の計算書!$D$39),\"\")","v":""},{"$f":"IF($K38=照射試料の誘導放射能の計算書!$B$40&照射試料の誘導放射能の計算書!$D$40,COUNTIF($K38:$K296,照射試料の誘導放射能の計算書!$B$40&照射試料の誘導放射能の計算書!$D$40),\"\")","v":""},"Cr-51","(n,γ)Cr-51",16,27.7,"d"]
[24,"Ni-58","Cr",54,"Cr-54",2.3650000000000002,"(n,γ)","Cr55","Cr","55","Cr-54(n,γ)",{"$f":"IF($K39=照射試料の誘導放射能の計算書!$B$31&照射試料の誘導放射能の計算書!$D$31,COUNTIF($K39:$K297,照射試料の誘導放射能の計算書!$B$31&照射試料の誘導放射能の計算書!$D$31),\"\")","v":""},{"$f":"IF($K39=照射試料の誘導放射能の計算書!$B$32&照射試料の誘導放射能の計算書!$D$32,COUNTIF($K39:$K297,照射試料の誘導放射能の計算書!$B$32&照射試料の誘導放射能の計算書!$D$32),\"\")","v":""},{"$f":"IF($K39=照射試料の誘導放射能の計算書!$B$33&照射試料の誘導放射能の計算書!$D$33,COUNTIF($K39:$K297,照射試料の誘導放射能の計算書!$B$33&照射試料の誘導放射能の計算書!$D$33),\"\")","v":""},{"$f":"IF($K39=照射試料の誘導放射能の計算書!$B$34&照射試料の誘導放射能の計算書!$D$34,COUNTIF($K39:$K297,照射試料の誘導放射能の計算書!$B$34&照射試料の誘導放射能の計算書!$D$34),\"\")","v":""},{"$f":"IF($K39=照射試料の誘導放射能の計算書!$B$35&照射試料の誘導放射能の計算書!$D$35,COUNTIF($K39:$K297,照射試料の誘導放射能の計算書!$B$35&照射試料の誘導放射能の計算書!$D$35),\"\")","v":""},{"$f":"IF($K39=照射試料の誘導放射能の計算書!$B$36&照射試料の誘導放射能の計算書!$D$36,COUNTIF($K39:$K297,照射試料の誘導放射能の計算書!$B$36&照射試料の誘導放射能の計算書!$D$36),\"\")","v":""},{"$f":"IF($K39=照射試料の誘導放射能の計算書!$B$37&照射試料の誘導放射能の計算書!$D$37,COUNTIF($K39:$K297,照射試料の誘導放射能の計算書!$B$37&照射試料の誘導放射能の計算書!$D$37),\"\")","v":""},{"$f":"IF($K39=照射試料の誘導放射能の計算書!$B$38&照射試料の誘導放射能の計算書!$D$38,COUNTIF($K39:$K297,照射試料の誘導放射能の計算書!$B$38&照射試料の誘導放射能の計算書!$D$38),\"\")","v":""},{"$f":"IF($K39=照射試料の誘導放射能の計算書!$B$39&照射試料の誘導放射能の計算書!$D$39,COUNTIF($K39:$K297,照射試料の誘導放射能の計算書!$B$39&照射試料の誘導放射能の計算書!$D$39),\"\")","v":""},{"$f":"IF($K39=照射試料の誘導放射能の計算書!$B$40&照射試料の誘導放射能の計算書!$D$40,COUNTIF($K39:$K297,照射試料の誘導放射能の計算書!$B$40&照射試料の誘導放射能の計算書!$D$40),\"\")","v":""},"Cr-55","(n,γ)Cr-55",0.36,3.5,"min"]
[25,"Ni-62","Mn",55,"Mn-55",100,"(n,γ)","Mn56","Mn","56","Mn-55(n,γ)",{"$f":"IF($K40=照射試料の誘導放射能の計算書!$B$31&照射試料の誘導放射能の計算書!$D$31,COUNTIF($K40:$K298,照射試料の誘導放射能の計算書!$B$31&照射試料の誘導放射能の計算書!$D$31),\"\")","v":""},{"$f":"IF($K40=照射試料の誘導放射能の計算書!$B$32&照射試料の誘導放射能の計算書!$D$32,COUNTIF($K40:$K298,照射試料の誘導放射能の計算書!$B$32&照射試料の誘導放射能の計算書!$D$32),\"\")","v":""},{"$f":"IF($K40=照射試料の誘導放射能の計算書!$B$33&照射試料の誘導放射能の計算書!$D$33,COUNTIF($K40:$K298,照射試料の誘導放射能の計算書!$B$33&照射試料の誘導放射能の計算書!$D$33),\"\")","v":""},{"$f":"IF($K40=照射試料の誘導放射能の計算書!$B$34&照射試料の誘導放射能の計算書!$D$34,COUNTIF($K40:$K298,照射試料の誘導放射能の計算書!$B$34&照射試料の誘導放射能の計算書!$D$34),\"\")","v":""},{"$f":"IF($K40=照射試料の誘導放射能の計算書!$B$35&照射試料の誘導放射能の計算書!$D$35,COUNTIF($K40:$K298,照射試料の誘導放射能の計算書!$B$35&照射試料の誘導放射能の計算書!$D$35),\"\")","v":""},{"$f":"IF($K40=照射試料の誘導放射能の計算書!$B$36&照射試料の誘導放射能の計算書!$D$36,COUNTIF($K40:$K298,照射試料の誘導放射能の計算書!$B$36&照射試料の誘導放射能の計算書!$D$36),\"\")","v":""},{"$f":"IF($K40=照射試料の誘導放射能の計算書!$B$37&照射試料の誘導放射能の計算書!$D$37,COUNTIF($K40:$K298,照射試料の誘導放射能の計算書!$B$37&照射試料の誘導放射能の計算書!$D$37),\"\")","v":""},{"$f":"IF($K40=照射試料の誘導放射能の計算書!$B$38&照射試料の誘導放射能の計算書!$D$38,COUNTIF($K40:$K298,照射試料の誘導放射能の計算書!$B$38&照射試料の誘導放射能の計算書!$D$38),\"\")","v":""},{"$f":"IF($K40=照射試料の誘導放射能の計算書!$B$39&照射試料の誘導放射能の計算書!$D$39,COUNTIF($K40:$K298,照射試料の誘導放射能の計算書!$B$39&照射試料の誘導放射能の計算書!$D$39),\"\")","v":""},{"$f":"IF($K40=照射試料の誘導放射能の計算書!$B$40&照射試料の誘導放射能の計算書!$D$40,COUNTIF($K40:$K298,照射試料の誘導放射能の計算書!$B$40&照射試料の誘導放射能の計算書!$D$40),\"\")","v":""},"Mn-56","(n,γ)Mn-56",13.3,2.58,"h"]
[26,"Ni-64","Fe",54,"Fe-54",5.8,"(n,γ)","Fe55","Fe","55","Fe-54(n,γ)",{"$f":"IF($K41=照射試料の誘導放射能の計算書!$B$31&照射試料の誘導放射能の計算書!$D$31,COUNTIF($K41:$K299,照射試料の誘導放射能の計算書!$B$31&照射試料の誘導放射能の計算書!$D$31),\"\")","v":""},{"$f":"IF($K41=照射試料の誘導放射能の計算書!$B$32&照射試料の誘導放射能の計算書!$D$32,COUNTIF($K41:$K299,照射試料の誘導放射能の計算書!$B$32&照射試料の誘導放射能の計算書!$D$32),\"\")","v":""},{"$f":"IF($K41=照射試料の誘導放射能の計算書!$B$33&照射試料の誘導放射能の計算書!$D$33,COUNTIF($K41:$K299,照射試料の誘導放射能の計算書!$B$33&照射試料の誘導放射能の計算書!$D$33),\"\")","v":""},{"$f":"IF($K41=照射試料の誘導放射能の計算書!$B$34&照射試料の誘導放射能の計算書!$D$34,COUNTIF($K41:$K299,照射試料の誘導放射能の計算書!$B$34&照射試料の誘導放射能の計算書!$D$34),\"\")","v":""},{"$f":"IF($K41=照射試料の誘導放射能の計算書!$B$35&照射試料の誘導放射能の計算書!$D$35,COUNTIF($K41:$K299,照射試料の誘導放射能の計算書!$B$35&照射試料の誘導放射能の計算書!$D$35),\"\")","v":""},{"$f":"IF($K41=照射試料の誘導放射能の計算書!$B$36&照射試料の誘導放射能の計算書!$D$36,COUNTIF($K41:$K299,照射試料の誘導放射能の計算書!$B$36&照射試料の誘導放射能の計算書!$D$36),\"\")","v":""},{"$f":"IF($K41=照射試料の誘導放射能の計算書!$B$37&照射試料の誘導放射能の計算書!$D$37,COUNTIF($K41:$K299,照射試料の誘導放射能の計算書!$B$37&照射試料の誘導放射能の計算書!$D$37),\"\")","v":""},{"$f":"IF($K41=照射試料の誘導放射能の計算書!$B$38&照射試料の誘導放射能の計算書!$D$38,COUNTIF($K41:$K299,照射試料の誘導放射能の計算書!$B$38&照射試料の誘導放射能の計算書!$D$38),\"\")","v":""},{"$f":"IF($K41=照射試料の誘導放射能の計算書!$B$39&照射試料の誘導放射能の計算書!$D$39,COUNTIF($K41:$K299,照射試料の誘導放射能の計算書!$B$39&照射試料の誘導放射能の計算書!$D$39),\"\")","v":""},{"$f":"IF($K41=照射試料の誘導放射能の計算書!$B$40&照射試料の誘導放射能の計算書!$D$40,COUNTIF($K41:$K299,照射試料の誘導放射能の計算書!$B$40&照射試料の誘導放射能の計算書!$D$40),\"\")","v":""},"Fe-55","(n,γ)Fe-55",2.25,2.73,"y"]
[26,"Cu-63","Fe",58,"Fe-58",0.28000000000000003,"(n,γ)","Fe59","Fe","59","Fe-58(n,γ)",{"$f":"IF($K42=照射試料の誘導放射能の計算書!$B$31&照射試料の誘導放射能の計算書!$D$31,COUNTIF($K42:$K300,照射試料の誘導放射能の計算書!$B$31&照射試料の誘導放射能の計算書!$D$31),\"\")","v":""},{"$f":"IF($K42=照射試料の誘導放射能の計算書!$B$32&照射試料の誘導放射能の計算書!$D$32,COUNTIF($K42:$K300,照射試料の誘導放射能の計算書!$B$32&照射試料の誘導放射能の計算書!$D$32),\"\")","v":""},{"$f":"IF($K42=照射試料の誘導放射能の計算書!$B$33&照射試料の誘導放射能の計算書!$D$33,COUNTIF($K42:$K300,照射試料の誘導放射能の計算書!$B$33&照射試料の誘導放射能の計算書!$D$33),\"\")","v":""},{"$f":"IF($K42=照射試料の誘導放射能の計算書!$B$34&照射試料の誘導放射能の計算書!$D$34,COUNTIF($K42:$K300,照射試料の誘導放射能の計算書!$B$34&照射試料の誘導放射能の計算書!$D$34),\"\")","v":""},{"$f":"IF($K42=照射試料の誘導放射能の計算書!$B$35&照射試料の誘導放射能の計算書!$D$35,COUNTIF($K42:$K300,照射試料の誘導放射能の計算書!$B$35&照射試料の誘導放射能の計算書!$D$35),\"\")","v":""},{"$f":"IF($K42=照射試料の誘導放射能の計算書!$B$36&照射試料の誘導放射能の計算書!$D$36,COUNTIF($K42:$K300,照射試料の誘導放射能の計算書!$B$36&照射試料の誘導放射能の計算書!$D$36),\"\")","v":""},{"$f":"IF($K42=照射試料の誘導放射能の計算書!$B$37&照射試料の誘導放射能の計算書!$D$37,COUNTIF($K42:$K300,照射試料の誘導放射能の計算書!$B$37&照射試料の誘導放射能の計算書!$D$37),\"\")","v":""},{"$f":"IF($K42=照射試料の誘導放射能の計算書!$B$38&照射試料の誘導放射能の計算書!$D$38,COUNTIF($K42:$K300,照射試料の誘導放射能の計算書!$B$38&照射試料の誘導放射能の計算書!$D$38),\"\")","v":""},{"$f":"IF($K42=照射試料の誘導放射能の計算書!$B$39&照射試料の誘導放射能の計算書!$D$39,COUNTIF($K42:$K300,照射試料の誘導放射能の計算書!$B$39&照射試料の誘導放射能の計算書!$D$39),\"\")","v":""},{"$f":"IF($K42=照射試料の誘導放射能の計算書!$B$40&照射試料の誘導放射能の計算書!$D$40,COUNTIF($K42:$K300,照射試料の誘導放射能の計算書!$B$40&照射試料の誘導放射能の計算書!$D$40),\"\")","v":""},"Fe-59","(n,γ)Fe-59",1.3,44.503,"d"]
[27,"Cu-65","Co",59,"Co-59",100,"(n,γ)","Co60","Co","60","Co-59(n,γ)",{"$f":"IF($K43=照射試料の誘導放射能の計算書!$B$31&照射試料の誘導放射能の計算書!$D$31,COUNTIF($K43:$K301,照射試料の誘導放射能の計算書!$B$31&照射試料の誘導放射能の計算書!$D$31),\"\")","v":""},{"$f":"IF($K43=照射試料の誘導放射能の計算書!$B$32&照射試料の誘導放射能の計算書!$D$32,COUNTIF($K43:$K301,照射試料の誘導放射能の計算書!$B$32&照射試料の誘導放射能の計算書!$D$32),\"\")","v":""},{"$f":"IF($K43=照射試料の誘導放射能の計算書!$B$33&照射試料の誘導放射能の計算書!$D$33,COUNTIF($K43:$K301,照射試料の誘導放射能の計算書!$B$33&照射試料の誘導放射能の計算書!$D$33),\"\")","v":""},{"$f":"IF($K43=照射試料の誘導放射能の計算書!$B$34&照射試料の誘導放射能の計算書!$D$34,COUNTIF($K43:$K301,照射試料の誘導放射能の計算書!$B$34&照射試料の誘導放射能の計算書!$D$34),\"\")","v":""},{"$f":"IF($K43=照射試料の誘導放射能の計算書!$B$35&照射試料の誘導放射能の計算書!$D$35,COUNTIF($K43:$K301,照射試料の誘導放射能の計算書!$B$35&照射試料の誘導放射能の計算書!$D$35),\"\")","v":""},{"$f":"IF($K43=照射試料の誘導放射能の計算書!$B$36&照射試料の誘導放射能の計算書!$D$36,COUNTIF($K43:$K301,照射試料の誘導放射能の計算書!$B$36&照射試料の誘導放射能の計算書!$D$36),\"\")","v":""},{"$f":"IF($K43=照射試料の誘導放射能の計算書!$B$37&照射試料の誘導放射能の計算書!$D$37,COUNTIF($K43:$K301,照射試料の誘導放射能の計算書!$B$37&照射試料の誘導放射能の計算書!$D$37),\"\")","v":""},{"$f":"IF($K43=照射試料の誘導放射能の計算書!$B$38&照射試料の誘導放射能の計算書!$D$38,COUNTIF($K43:$K301,照射試料の誘導放射能の計算書!$B$38&照射試料の誘導放射能の計算書!$D$38),\"\")","v":""},{"$f":"IF($K43=照射試料の誘導放射能の計算書!$B$39&照射試料の誘導放射能の計算書!$D$39,COUNTIF($K43:$K301,照射試料の誘導放射能の計算書!$B$39&照射試料の誘導放射能の計算書!$D$39),\"\")","v":""},{"$f":"IF($K43=照射試料の誘導放射能の計算書!$B$40&照射試料の誘導放射能の計算書!$D$40,COUNTIF($K43:$K301,照射試料の誘導放射能の計算書!$B$40&照射試料の誘導放射能の計算書!$D$40),\"\")","v":""},"Co-60","(n,γ)Co-60",16.5,5.2720000000000002,"y"]
[27,"Zn-64","Co",59,"Co-59",100,"(n,γ)","Co60m","Co",{"$f":"RIGHT(H44,3)","v":"60m"},"Co-59(n,γ)",{"$f":"IF($K44=照射試料の誘導放射能の計算書!$B$31&照射試料の誘導放射能の計算書!$D$31,COUNTIF($K44:$K302,照射試料の誘導放射能の計算書!$B$31&照射試料の誘導放射能の計算書!$D$31),\"\")","v":""},{"$f":"IF($K44=照射試料の誘導放射能の計算書!$B$32&照射試料の誘導放射能の計算書!$D$32,COUNTIF($K44:$K302,照射試料の誘導放射能の計算書!$B$32&照射試料の誘導放射能の計算書!$D$32),\"\")","v":""},{"$f":"IF($K44=照射試料の誘導放射能の計算書!$B$33&照射試料の誘導放射能の計算書!$D$33,COUNTIF($K44:$K302,照射試料の誘導放射能の計算書!$B$33&照射試料の誘導放射能の計算書!$D$33),\"\")","v":""},{"$f":"IF($K44=照射試料の誘導放射能の計算書!$B$34&照射試料の誘導放射能の計算書!$D$34,COUNTIF($K44:$K302,照射試料の誘導放射能の計算書!$B$34&照射試料の誘導放射能の計算書!$D$34),\"\")","v":""},{"$f":"IF($K44=照射試料の誘導放射能の計算書!$B$35&照射試料の誘導放射能の計算書!$D$35,COUNTIF($K44:$K302,照射試料の誘導放射能の計算書!$B$35&照射試料の誘導放射能の計算書!$D$35),\"\")","v":""},{"$f":"IF($K44=照射試料の誘導放射能の計算書!$B$36&照射試料の誘導放射能の計算書!$D$36,COUNTIF($K44:$K302,照射試料の誘導放射能の計算書!$B$36&照射試料の誘導放射能の計算書!$D$36),\"\")","v":""},{"$f":"IF($K44=照射試料の誘導放射能の計算書!$B$37&照射試料の誘導放射能の計算書!$D$37,COUNTIF($K44:$K302,照射試料の誘導放射能の計算書!$B$37&照射試料の誘導放射能の計算書!$D$37),\"\")","v":""},{"$f":"IF($K44=照射試料の誘導放射能の計算書!$B$38&照射試料の誘導放射能の計算書!$D$38,COUNTIF($K44:$K302,照射試料の誘導放射能の計算書!$B$38&照射試料の誘導放射能の計算書!$D$38),\"\")","v":""},{"$f":"IF($K44=照射試料の誘導放射能の計算書!$B$39&照射試料の誘導放射能の計算書!$D$39,COUNTIF($K44:$K302,照射試料の誘導放射能の計算書!$B$39&照射試料の誘導放射能の計算書!$D$39),\"\")","v":""},{"$f":"IF($K44=照射試料の誘導放射能の計算書!$B$40&照射試料の誘導放射能の計算書!$D$40,COUNTIF($K44:$K302,照射試料の誘導放射能の計算書!$B$40&照射試料の誘導放射能の計算書!$D$40),\"\")","v":""},"Co-60m","(n,γ)Co-60m",20.7,10.5,"min"]
[28,"Zn-68","Ni",58,"Ni-58",68.076999999999998,"(n,γ)","Ni59","Ni",{"$f":"RIGHT(H45,2)","v":"59"},"Ni-58(n,γ)",{"$f":"IF($K45=照射試料の誘導放射能の計算書!$B$31&照射試料の誘導放射能の計算書!$D$31,COUNTIF($K45:$K303,照射試料の誘導放射能の計算書!$B$31&照射試料の誘導放射能の計算書!$D$31),\"\")","v":""},{"$f":"IF($K45=照射試料の誘導放射能の計算書!$B$32&照射試料の誘導放射能の計算書!$D$32,COUNTIF($K45:$K303,照射試料の誘導放射能の計算書!$B$32&照射試料の誘導放射能の計算書!$D$32),\"\")","v":""},{"$f":"IF($K45=照射試料の誘導放射能の計算書!$B$33&照射試料の誘導放射能の計算書!$D$33,COUNTIF($K45:$K303,照射試料の誘導放射能の計算書!$B$33&照射試料の誘導放射能の計算書!$D$33),\"\")","v":""},{"$f":"IF($K45=照射試料の誘導放射能の計算書!$B$34&照射試料の誘導放射能の計算書!$D$34,COUNTIF($K45:$K303,照射試料の誘導放射能の計算書!$B$34&照射試料の誘導放射能の計算書!$D$34),\"\")","v":""},{"$f":"IF($K45=照射試料の誘導放射能の計算書!$B$35&照射試料の誘導放射能の計算書!$D$35,COUNTIF($K45:$K303,照射試料の誘導放射能の計算書!$B$35&照射試料の誘導放射能の計算書!$D$35),\"\")","v":""},{"$f":"IF($K45=照射試料の誘導放射能の計算書!$B$36&照射試料の誘導放射能の計算書!$D$36,COUNTIF($K45:$K303,照射試料の誘導放射能の計算書!$B$36&照射試料の誘導放射能の計算書!$D$36),\"\")","v":""},{"$f":"IF($K45=照射試料の誘導放射能の計算書!$B$37&照射試料の誘導放射能の計算書!$D$37,COUNTIF($K45:$K303,照射試料の誘導放射能の計算書!$B$37&照射試料の誘導放射能の計算書!$D$37),\"\")","v":""},{"$f":"IF($K45=照射試料の誘導放射能の計算書!$B$38&照射試料の誘導放射能の計算書!$D$38,COUNTIF($K45:$K303,照射試料の誘導放射能の計算書!$B$38&照射試料の誘導放射能の計算書!$D$38),\"\")","v":""},{"$f":"IF($K45=照射試料の誘導放射能の計算書!$B$39&照射試料の誘導放射能の計算書!$D$39,COUNTIF($K45:$K303,照射試料の誘導放射能の計算書!$B$39&照射試料の誘導放射能の計算書!$D$39),\"\")","v":""},{"$f":"IF($K45=照射試料の誘導放射能の計算書!$B$40&照射試料の誘導放射能の計算書!$D$40,COUNTIF($K45:$K303,照射試料の誘導放射能の計算書!$B$40&照射試料の誘導放射能の計算書!$D$40),\"\")","v":""},"Ni-59","(n,γ)Ni-59",4.5999999999999996,75000,"y"]
[28,"Zn-70","Ni",62,"Ni-62",3.6339999999999999,"(n,γ)","Ni63","Ni","63","Ni-62(n,γ)",{"$f":"IF($K46=照射試料の誘導放射能の計算書!$B$31&照射試料の誘導放射能の計算書!$D$31,COUNTIF($K46:$K304,照射試料の誘導放射能の計算書!$B$31&照射試料の誘導放射能の計算書!$D$31),\"\")","v":""},{"$f":"IF($K46=照射試料の誘導放射能の計算書!$B$32&照射試料の誘導放射能の計算書!$D$32,COUNTIF($K46:$K304,照射試料の誘導放射能の計算書!$B$32&照射試料の誘導放射能の計算書!$D$32),\"\")","v":""},{"$f":"IF($K46=照射試料の誘導放射能の計算書!$B$33&照射試料の誘導放射能の計算書!$D$33,COUNTIF($K46:$K304,照射試料の誘導放射能の計算書!$B$33&照射試料の誘導放射能の計算書!$D$33),\"\")","v":""},{"$f":"IF($K46=照射試料の誘導放射能の計算書!$B$34&照射試料の誘導放射能の計算書!$D$34,COUNTIF($K46:$K304,照射試料の誘導放射能の計算書!$B$34&照射試料の誘導放射能の計算書!$D$34),\"\")","v":""},{"$f":"IF($K46=照射試料の誘導放射能の計算書!$B$35&照射試料の誘導放射能の計算書!$D$35,COUNTIF($K46:$K304,照射試料の誘導放射能の計算書!$B$35&照射試料の誘導放射能の計算書!$D$35),\"\")","v":""},{"$f":"IF($K46=照射試料の誘導放射能の計算書!$B$36&照射試料の誘導放射能の計算書!$D$36,COUNTIF($K46:$K304,照射試料の誘導放射能の計算書!$B$36&照射試料の誘導放射能の計算書!$D$36),\"\")","v":""},{"$f":"IF($K46=照射試料の誘導放射能の計算書!$B$37&照射試料の誘導放射能の計算書!$D$37,COUNTIF($K46:$K304,照射試料の誘導放射能の計算書!$B$37&照射試料の誘導放射能の計算書!$D$37),\"\")","v":""},{"$f":"IF($K46=照射試料の誘導放射能の計算書!$B$38&照射試料の誘導放射能の計算書!$D$38,COUNTIF($K46:$K304,照射試料の誘導放射能の計算書!$B$38&照射試料の誘導放射能の計算書!$D$38),\"\")","v":""},{"$f":"IF($K46=照射試料の誘導放射能の計算書!$B$39&照射試料の誘導放射能の計算書!$D$39,COUNTIF($K46:$K304,照射試料の誘導放射能の計算書!$B$39&照射試料の誘導放射能の計算書!$D$39),\"\")","v":""},{"$f":"IF($K46=照射試料の誘導放射能の計算書!$B$40&照射試料の誘導放射能の計算書!$D$40,COUNTIF($K46:$K304,照射試料の誘導放射能の計算書!$B$40&照射試料の誘導放射能の計算書!$D$40),\"\")","v":""},"Ni-63","(n,γ)Ni-63",14.2,100,"y"]
[28,"Ga-69","Ni",64,"Ni-64",0.92600000000000005,"(n,γ)","Ni65","Ni","65","Ni-64(n,γ)",{"$f":"IF($K47=照射試料の誘導放射能の計算書!$B$31&照射試料の誘導放射能の計算書!$D$31,COUNTIF($K47:$K305,照射試料の誘導放射能の計算書!$B$31&照射試料の誘導放射能の計算書!$D$31),\"\")","v":""},{"$f":"IF($K47=照射試料の誘導放射能の計算書!$B$32&照射試料の誘導放射能の計算書!$D$32,COUNTIF($K47:$K305,照射試料の誘導放射能の計算書!$B$32&照射試料の誘導放射能の計算書!$D$32),\"\")","v":""},{"$f":"IF($K47=照射試料の誘導放射能の計算書!$B$33&照射試料の誘導放射能の計算書!$D$33,COUNTIF($K47:$K305,照射試料の誘導放射能の計算書!$B$33&照射試料の誘導放射能の計算書!$D$33),\"\")","v":""},{"$f":"IF($K47=照射試料の誘導放射能の計算書!$B$34&照射試料の誘導放射能の計算書!$D$34,COUNTIF($K47:$K305,照射試料の誘導放射能の計算書!$B$34&照射試料の誘導放射能の計算書!$D$34),\"\")","v":""},{"$f":"IF($K47=照射試料の誘導放射能の計算書!$B$35&照射試料の誘導放射能の計算書!$D$35,COUNTIF($K47:$K305,照射試料の誘導放射能の計算書!$B$35&照射試料の誘導放射能の計算書!$D$35),\"\")","v":""},{"$f":"IF($K47=照射試料の誘導放射能の計算書!$B$36&照射試料の誘導放射能の計算書!$D$36,COUNTIF($K47:$K305,照射試料の誘導放射能の計算書!$B$36&照射試料の誘導放射能の計算書!$D$36),\"\")","v":""},{"$f":"IF($K47=照射試料の誘導放射能の計算書!$B$37&照射試料の誘導放射能の計算書!$D$37,COUNTIF($K47:$K305,照射試料の誘導放射能の計算書!$B$37&照射試料の誘導放射能の計算書!$D$37),\"\")","v":""},{"$f":"IF($K47=照射試料の誘導放射能の計算書!$B$38&照射試料の誘導放射能の計算書!$D$38,COUNTIF($K47:$K305,照射試料の誘導放射能の計算書!$B$38&照射試料の誘導放射能の計算書!$D$38),\"\")","v":""},{"$f":"IF($K47=照射試料の誘導放射能の計算書!$B$39&照射試料の誘導放射能の計算書!$D$39,COUNTIF($K47:$K305,照射試料の誘導放射能の計算書!$B$39&照射試料の誘導放射能の計算書!$D$39),\"\")","v":""},{"$f":"IF($K47=照射試料の誘導放射能の計算書!$B$40&照射試料の誘導放射能の計算書!$D$40,COUNTIF($K47:$K305,照射試料の誘導放射能の計算書!$B$40&照射試料の誘導放射能の計算書!$D$40),\"\")","v":""},"Ni-65","(n,γ)Ni-65",1.5,2.52,"h"]
[29,"Ga-71","Cu",63,"Cu-63",69.17,"(n,γ)","Cu64","Cu","64","Cu-63(n,γ)",{"$f":"IF($K48=照射試料の誘導放射能の計算書!$B$31&照射試料の誘導放射能の計算書!$D$31,COUNTIF($K48:$K306,照射試料の誘導放射能の計算書!$B$31&照射試料の誘導放射能の計算書!$D$31),\"\")","v":""},{"$f":"IF($K48=照射試料の誘導放射能の計算書!$B$32&照射試料の誘導放射能の計算書!$D$32,COUNTIF($K48:$K306,照射試料の誘導放射能の計算書!$B$32&照射試料の誘導放射能の計算書!$D$32),\"\")","v":""},{"$f":"IF($K48=照射試料の誘導放射能の計算書!$B$33&照射試料の誘導放射能の計算書!$D$33,COUNTIF($K48:$K306,照射試料の誘導放射能の計算書!$B$33&照射試料の誘導放射能の計算書!$D$33),\"\")","v":""},{"$f":"IF($K48=照射試料の誘導放射能の計算書!$B$34&照射試料の誘導放射能の計算書!$D$34,COUNTIF($K48:$K306,照射試料の誘導放射能の計算書!$B$34&照射試料の誘導放射能の計算書!$D$34),\"\")","v":""},{"$f":"IF($K48=照射試料の誘導放射能の計算書!$B$35&照射試料の誘導放射能の計算書!$D$35,COUNTIF($K48:$K306,照射試料の誘導放射能の計算書!$B$35&照射試料の誘導放射能の計算書!$D$35),\"\")","v":""},{"$f":"IF($K48=照射試料の誘導放射能の計算書!$B$36&照射試料の誘導放射能の計算書!$D$36,COUNTIF($K48:$K306,照射試料の誘導放射能の計算書!$B$36&照射試料の誘導放射能の計算書!$D$36),\"\")","v":""},{"$f":"IF($K48=照射試料の誘導放射能の計算書!$B$37&照射試料の誘導放射能の計算書!$D$37,COUNTIF($K48:$K306,照射試料の誘導放射能の計算書!$B$37&照射試料の誘導放射能の計算書!$D$37),\"\")","v":""},{"$f":"IF($K48=照射試料の誘導放射能の計算書!$B$38&照射試料の誘導放射能の計算書!$D$38,COUNTIF($K48:$K306,照射試料の誘導放射能の計算書!$B$38&照射試料の誘導放射能の計算書!$D$38),\"\")","v":""},{"$f":"IF($K48=照射試料の誘導放射能の計算書!$B$39&照射試料の誘導放射能の計算書!$D$39,COUNTIF($K48:$K306,照射試料の誘導放射能の計算書!$B$39&照射試料の誘導放射能の計算書!$D$39),\"\")","v":""},{"$f":"IF($K48=照射試料の誘導放射能の計算書!$B$40&照射試料の誘導放射能の計算書!$D$40,COUNTIF($K48:$K306,照射試料の誘導放射能の計算書!$B$40&照射試料の誘導放射能の計算書!$D$40),\"\")","v":""},"Cu-64","(n,γ)Cu-64",4.5,12.7,"h"]
[29,"Ge-70","Cu",65,"Cu-65",30.83,"(n,γ)","Cu66","Cu","66","Cu-65(n,γ)",{"$f":"IF($K49=照射試料の誘導放射能の計算書!$B$31&照射試料の誘導放射能の計算書!$D$31,COUNTIF($K49:$K307,照射試料の誘導放射能の計算書!$B$31&照射試料の誘導放射能の計算書!$D$31),\"\")","v":""},{"$f":"IF($K49=照射試料の誘導放射能の計算書!$B$32&照射試料の誘導放射能の計算書!$D$32,COUNTIF($K49:$K307,照射試料の誘導放射能の計算書!$B$32&照射試料の誘導放射能の計算書!$D$32),\"\")","v":""},{"$f":"IF($K49=照射試料の誘導放射能の計算書!$B$33&照射試料の誘導放射能の計算書!$D$33,COUNTIF($K49:$K307,照射試料の誘導放射能の計算書!$B$33&照射試料の誘導放射能の計算書!$D$33),\"\")","v":""},{"$f":"IF($K49=照射試料の誘導放射能の計算書!$B$34&照射試料の誘導放射能の計算書!$D$34,COUNTIF($K49:$K307,照射試料の誘導放射能の計算書!$B$34&照射試料の誘導放射能の計算書!$D$34),\"\")","v":""},{"$f":"IF($K49=照射試料の誘導放射能の計算書!$B$35&照射試料の誘導放射能の計算書!$D$35,COUNTIF($K49:$K307,照射試料の誘導放射能の計算書!$B$35&照射試料の誘導放射能の計算書!$D$35),\"\")","v":""},{"$f":"IF($K49=照射試料の誘導放射能の計算書!$B$36&照射試料の誘導放射能の計算書!$D$36,COUNTIF($K49:$K307,照射試料の誘導放射能の計算書!$B$36&照射試料の誘導放射能の計算書!$D$36),\"\")","v":""},{"$f":"IF($K49=照射試料の誘導放射能の計算書!$B$37&照射試料の誘導放射能の計算書!$D$37,COUNTIF($K49:$K307,照射試料の誘導放射能の計算書!$B$37&照射試料の誘導放射能の計算書!$D$37),\"\")","v":""},{"$f":"IF($K49=照射試料の誘導放射能の計算書!$B$38&照射試料の誘導放射能の計算書!$D$38,COUNTIF($K49:$K307,照射試料の誘導放射能の計算書!$B$38&照射試料の誘導放射能の計算書!$D$38),\"\")","v":""},{"$f":"IF($K49=照射試料の誘導放射能の計算書!$B$39&照射試料の誘導放射能の計算書!$D$39,COUNTIF($K49:$K307,照射試料の誘導放射能の計算書!$B$39&照射試料の誘導放射能の計算書!$D$39),\"\")","v":""},{"$f":"IF($K49=照射試料の誘導放射能の計算書!$B$40&照射試料の誘導放射能の計算書!$D$40,COUNTIF($K49:$K307,照射試料の誘導放射能の計算書!$B$40&照射試料の誘導放射能の計算書!$D$40),\"\")","v":""},"Cu-66","(n,γ)Cu-66",2.17,5.0999999999999996,"min"]
[30,"Ge-74","Zn",64,"Zn-64",48.6,"(n,γ)","Zn65","Zn","65","Zn-64(n,γ)",{"$f":"IF($K50=照射試料の誘導放射能の計算書!$B$31&照射試料の誘導放射能の計算書!$D$31,COUNTIF($K50:$K308,照射試料の誘導放射能の計算書!$B$31&照射試料の誘導放射能の計算書!$D$31),\"\")","v":""},{"$f":"IF($K50=照射試料の誘導放射能の計算書!$B$32&照射試料の誘導放射能の計算書!$D$32,COUNTIF($K50:$K308,照射試料の誘導放射能の計算書!$B$32&照射試料の誘導放射能の計算書!$D$32),\"\")","v":""},{"$f":"IF($K50=照射試料の誘導放射能の計算書!$B$33&照射試料の誘導放射能の計算書!$D$33,COUNTIF($K50:$K308,照射試料の誘導放射能の計算書!$B$33&照射試料の誘導放射能の計算書!$D$33),\"\")","v":""},{"$f":"IF($K50=照射試料の誘導放射能の計算書!$B$34&照射試料の誘導放射能の計算書!$D$34,COUNTIF($K50:$K308,照射試料の誘導放射能の計算書!$B$34&照射試料の誘導放射能の計算書!$D$34),\"\")","v":""},{"$f":"IF($K50=照射試料の誘導放射能の計算書!$B$35&照射試料の誘導放射能の計算書!$D$35,COUNTIF($K50:$K308,照射試料の誘導放射能の計算書!$B$35&照射試料の誘導放射能の計算書!$D$35),\"\")","v":""},{"$f":"IF($K50=照射試料の誘導放射能の計算書!$B$36&照射試料の誘導放射能の計算書!$D$36,COUNTIF($K50:$K308,照射試料の誘導放射能の計算書!$B$36&照射試料の誘導放射能の計算書!$D$36),\"\")","v":""},{"$f":"IF($K50=照射試料の誘導放射能の計算書!$B$37&照射試料の誘導放射能の計算書!$D$37,COUNTIF($K50:$K308,照射試料の誘導放射能の計算書!$B$37&照射試料の誘導放射能の計算書!$D$37),\"\")","v":""},{"$f":"IF($K50=照射試料の誘導放射能の計算書!$B$38&照射試料の誘導放射能の計算書!$D$38,COUNTIF($K50:$K308,照射試料の誘導放射能の計算書!$B$38&照射試料の誘導放射能の計算書!$D$38),\"\")","v":""},{"$f":"IF($K50=照射試料の誘導放射能の計算書!$B$39&照射試料の誘導放射能の計算書!$D$39,COUNTIF($K50:$K308,照射試料の誘導放射能の計算書!$B$39&照射試料の誘導放射能の計算書!$D$39),\"\")","v":""},{"$f":"IF($K50=照射試料の誘導放射能の計算書!$B$40&照射試料の誘導放射能の計算書!$D$40,COUNTIF($K50:$K308,照射試料の誘導放射能の計算書!$B$40&照射試料の誘導放射能の計算書!$D$40),\"\")","v":""},"Zn-65","(n,γ)Zn-65",0.77,244.3,"d"]
[30,"Ge-76","Zn",68,"Zn-68",18.8,"(n,γ)","Zn69","Zn","69","Zn-68(n,γ)",{"$f":"IF($K51=照射試料の誘導放射能の計算書!$B$31&照射試料の誘導放射能の計算書!$D$31,COUNTIF($K51:$K309,照射試料の誘導放射能の計算書!$B$31&照射試料の誘導放射能の計算書!$D$31),\"\")","v":""},{"$f":"IF($K51=照射試料の誘導放射能の計算書!$B$32&照射試料の誘導放射能の計算書!$D$32,COUNTIF($K51:$K309,照射試料の誘導放射能の計算書!$B$32&照射試料の誘導放射能の計算書!$D$32),\"\")","v":""},{"$f":"IF($K51=照射試料の誘導放射能の計算書!$B$33&照射試料の誘導放射能の計算書!$D$33,COUNTIF($K51:$K309,照射試料の誘導放射能の計算書!$B$33&照射試料の誘導放射能の計算書!$D$33),\"\")","v":""},{"$f":"IF($K51=照射試料の誘導放射能の計算書!$B$34&照射試料の誘導放射能の計算書!$D$34,COUNTIF($K51:$K309,照射試料の誘導放射能の計算書!$B$34&照射試料の誘導放射能の計算書!$D$34),\"\")","v":""},{"$f":"IF($K51=照射試料の誘導放射能の計算書!$B$35&照射試料の誘導放射能の計算書!$D$35,COUNTIF($K51:$K309,照射試料の誘導放射能の計算書!$B$35&照射試料の誘導放射能の計算書!$D$35),\"\")","v":""},{"$f":"IF($K51=照射試料の誘導放射能の計算書!$B$36&照射試料の誘導放射能の計算書!$D$36,COUNTIF($K51:$K309,照射試料の誘導放射能の計算書!$B$36&照射試料の誘導放射能の計算書!$D$36),\"\")","v":""},{"$f":"IF($K51=照射試料の誘導放射能の計算書!$B$37&照射試料の誘導放射能の計算書!$D$37,COUNTIF($K51:$K309,照射試料の誘導放射能の計算書!$B$37&照射試料の誘導放射能の計算書!$D$37),\"\")","v":""},{"$f":"IF($K51=照射試料の誘導放射能の計算書!$B$38&照射試料の誘導放射能の計算書!$D$38,COUNTIF($K51:$K309,照射試料の誘導放射能の計算書!$B$38&照射試料の誘導放射能の計算書!$D$38),\"\")","v":""},{"$f":"IF($K51=照射試料の誘導放射能の計算書!$B$39&照射試料の誘導放射能の計算書!$D$39,COUNTIF($K51:$K309,照射試料の誘導放射能の計算書!$B$39&照射試料の誘導放射能の計算書!$D$39),\"\")","v":""},{"$f":"IF($K51=照射試料の誘導放射能の計算書!$B$40&照射試料の誘導放射能の計算書!$D$40,COUNTIF($K51:$K309,照射試料の誘導放射能の計算書!$B$40&照射試料の誘導放射能の計算書!$D$40),\"\")","v":""},"Zn-69","(n,γ)Zn-69",0.8,56,"min"]
[30,"As-75","Zn",68,"Zn-68",18.8,"(n,γ)","Zn69m","Zn",{"$f":"RIGHT(H52,3)","v":"69m"},"Zn-68(n,γ)",{"$f":"IF($K52=照射試料の誘導放射能の計算書!$B$31&照射試料の誘導放射能の計算書!$D$31,COUNTIF($K52:$K310,照射試料の誘導放射能の計算書!$B$31&照射試料の誘導放射能の計算書!$D$31),\"\")","v":""},{"$f":"IF($K52=照射試料の誘導放射能の計算書!$B$32&照射試料の誘導放射能の計算書!$D$32,COUNTIF($K52:$K310,照射試料の誘導放射能の計算書!$B$32&照射試料の誘導放射能の計算書!$D$32),\"\")","v":""},{"$f":"IF($K52=照射試料の誘導放射能の計算書!$B$33&照射試料の誘導放射能の計算書!$D$33,COUNTIF($K52:$K310,照射試料の誘導放射能の計算書!$B$33&照射試料の誘導放射能の計算書!$D$33),\"\")","v":""},{"$f":"IF($K52=照射試料の誘導放射能の計算書!$B$34&照射試料の誘導放射能の計算書!$D$34,COUNTIF($K52:$K310,照射試料の誘導放射能の計算書!$B$34&照射試料の誘導放射能の計算書!$D$34),\"\")","v":""},{"$f":"IF($K52=照射試料の誘導放射能の計算書!$B$35&照射試料の誘導放射能の計算書!$D$35,COUNTIF($K52:$K310,照射試料の誘導放射能の計算書!$B$35&照射試料の誘導放射能の計算書!$D$35),\"\")","v":""},{"$f":"IF($K52=照射試料の誘導放射能の計算書!$B$36&照射試料の誘導放射能の計算書!$D$36,COUNTIF($K52:$K310,照射試料の誘導放射能の計算書!$B$36&照射試料の誘導放射能の計算書!$D$36),\"\")","v":""},{"$f":"IF($K52=照射試料の誘導放射能の計算書!$B$37&照射試料の誘導放射能の計算書!$D$37,COUNTIF($K52:$K310,照射試料の誘導放射能の計算書!$B$37&照射試料の誘導放射能の計算書!$D$37),\"\")","v":""},{"$f":"IF($K52=照射試料の誘導放射能の計算書!$B$38&照射試料の誘導放射能の計算書!$D$38,COUNTIF($K52:$K310,照射試料の誘導放射能の計算書!$B$38&照射試料の誘導放射能の計算書!$D$38),\"\")","v":""},{"$f":"IF($K52=照射試料の誘導放射能の計算書!$B$39&照射試料の誘導放射能の計算書!$D$39,COUNTIF($K52:$K310,照射試料の誘導放射能の計算書!$B$39&照射試料の誘導放射能の計算書!$D$39),\"\")","v":""},{"$f":"IF($K52=照射試料の誘導放射能の計算書!$B$40&照射試料の誘導放射能の計算書!$D$40,COUNTIF($K52:$K310,照射試料の誘導放射能の計算書!$B$40&照射試料の誘導放射能の計算書!$D$40),\"\")","v":""},"Zn-69m","(n,γ)Zn-69m",7.1999999999999995E-2,13.8,"h"]
[30,"Se-74","Zn",70,"Zn-70",0.6,"(n,γ)","Zn71","Zn",{"$f":"RIGHT(H53,2)","v":"71"},"Zn-70(n,γ)",{"$f":"IF($K53=照射試料の誘導放射能の計算書!$B$31&照射試料の誘導放射能の計算書!$D$31,COUNTIF($K53:$K311,照射試料の誘導放射能の計算書!$B$31&照射試料の誘導放射能の計算書!$D$31),\"\")","v":""},{"$f":"IF($K53=照射試料の誘導放射能の計算書!$B$32&照射試料の誘導放射能の計算書!$D$32,COUNTIF($K53:$K311,照射試料の誘導放射能の計算書!$B$32&照射試料の誘導放射能の計算書!$D$32),\"\")","v":""},{"$f":"IF($K53=照射試料の誘導放射能の計算書!$B$33&照射試料の誘導放射能の計算書!$D$33,COUNTIF($K53:$K311,照射試料の誘導放射能の計算書!$B$33&照射試料の誘導放射能の計算書!$D$33),\"\")","v":""},{"$f":"IF($K53=照射試料の誘導放射能の計算書!$B$34&照射試料の誘導放射能の計算書!$D$34,COUNTIF($K53:$K311,照射試料の誘導放射能の計算書!$B$34&照射試料の誘導放射能の計算書!$D$34),\"\")","v":""},{"$f":"IF($K53=照射試料の誘導放射能の計算書!$B$35&照射試料の誘導放射能の計算書!$D$35,COUNTIF($K53:$K311,照射試料の誘導放射能の計算書!$B$35&照射試料の誘導放射能の計算書!$D$35),\"\")","v":""},{"$f":"IF($K53=照射試料の誘導放射能の計算書!$B$36&照射試料の誘導放射能の計算書!$D$36,COUNTIF($K53:$K311,照射試料の誘導放射能の計算書!$B$36&照射試料の誘導放射能の計算書!$D$36),\"\")","v":""},{"$f":"IF($K53=照射試料の誘導放射能の計算書!$B$37&照射試料の誘導放射能の計算書!$D$37,COUNTIF($K53:$K311,照射試料の誘導放射能の計算書!$B$37&照射試料の誘導放射能の計算書!$D$37),\"\")","v":""},{"$f":"IF($K53=照射試料の誘導放射能の計算書!$B$38&照射試料の誘導放射能の計算書!$D$38,COUNTIF($K53:$K311,照射試料の誘導放射能の計算書!$B$38&照射試料の誘導放射能の計算書!$D$38),\"\")","v":""},{"$f":"IF($K53=照射試料の誘導放射能の計算書!$B$39&照射試料の誘導放射能の計算書!$D$39,COUNTIF($K53:$K311,照射試料の誘導放射能の計算書!$B$39&照射試料の誘導放射能の計算書!$D$39),\"\")","v":""},{"$f":"IF($K53=照射試料の誘導放射能の計算書!$B$40&照射試料の誘導放射能の計算書!$D$40,COUNTIF($K53:$K311,照射試料の誘導放射能の計算書!$B$40&照射試料の誘導放射能の計算書!$D$40),\"\")","v":""},"Zn-71","(n,γ)Zn-71",8.3000000000000004E-2,2.4,"min"]
[30,"Se-78","Zn",70,"Zn-70",0.6,"(n,γ)","Zn71m","Zn",{"$f":"RIGHT(H54,3)","v":"71m"},"Zn-70(n,γ)",{"$f":"IF($K54=照射試料の誘導放射能の計算書!$B$31&照射試料の誘導放射能の計算書!$D$31,COUNTIF($K54:$K312,照射試料の誘導放射能の計算書!$B$31&照射試料の誘導放射能の計算書!$D$31),\"\")","v":""},{"$f":"IF($K54=照射試料の誘導放射能の計算書!$B$32&照射試料の誘導放射能の計算書!$D$32,COUNTIF($K54:$K312,照射試料の誘導放射能の計算書!$B$32&照射試料の誘導放射能の計算書!$D$32),\"\")","v":""},{"$f":"IF($K54=照射試料の誘導放射能の計算書!$B$33&照射試料の誘導放射能の計算書!$D$33,COUNTIF($K54:$K312,照射試料の誘導放射能の計算書!$B$33&照射試料の誘導放射能の計算書!$D$33),\"\")","v":""},{"$f":"IF($K54=照射試料の誘導放射能の計算書!$B$34&照射試料の誘導放射能の計算書!$D$34,COUNTIF($K54:$K312,照射試料の誘導放射能の計算書!$B$34&照射試料の誘導放射能の計算書!$D$34),\"\")","v":""},{"$f":"IF($K54=照射試料の誘導放射能の計算書!$B$35&照射試料の誘導放射能の計算書!$D$35,COUNTIF($K54:$K312,照射試料の誘導放射能の計算書!$B$35&照射試料の誘導放射能の計算書!$D$35),\"\")","v":""},{"$f":"IF($K54=照射試料の誘導放射能の計算書!$B$36&照射試料の誘導放射能の計算書!$D$36,COUNTIF($K54:$K312,照射試料の誘導放射能の計算書!$B$36&照射試料の誘導放射能の計算書!$D$36),\"\")","v":""},{"$f":"IF($K54=照射試料の誘導放射能の計算書!$B$37&照射試料の誘導放射能の計算書!$D$37,COUNTIF($K54:$K312,照射試料の誘導放射能の計算書!$B$37&照射試料の誘導放射能の計算書!$D$37),\"\")","v":""},{"$f":"IF($K54=照射試料の誘導放射能の計算書!$B$38&照射試料の誘導放射能の計算書!$D$38,COUNTIF($K54:$K312,照射試料の誘導放射能の計算書!$B$38&照射試料の誘導放射能の計算書!$D$38),\"\")","v":""},{"$f":"IF($K54=照射試料の誘導放射能の計算書!$B$39&照射試料の誘導放射能の計算書!$D$39,COUNTIF($K54:$K312,照射試料の誘導放射能の計算書!$B$39&照射試料の誘導放射能の計算書!$D$39),\"\")","v":""},{"$f":"IF($K54=照射試料の誘導放射能の計算書!$B$40&照射試料の誘導放射能の計算書!$D$40,COUNTIF($K54:$K312,照射試料の誘導放射能の計算書!$B$40&照射試料の誘導放射能の計算書!$D$40),\"\")","v":""},"Zn-71m","(n,γ)Zn-71m",8.0999999999999996E-3,3.9,"h"]
[31,"Se-80","Ga",69,"Ga-69",60.107999999999997,"(n,γ)","Ga70","Ga",{"$f":"RIGHT(H55,2)","v":"70"},"Ga-69(n,γ)",{"$f":"IF($K55=照射試料の誘導放射能の計算書!$B$31&照射試料の誘導放射能の計算書!$D$31,COUNTIF($K55:$K313,照射試料の誘導放射能の計算書!$B$31&照射試料の誘導放射能の計算書!$D$31),\"\")","v":""},{"$f":"IF($K55=照射試料の誘導放射能の計算書!$B$32&照射試料の誘導放射能の計算書!$D$32,COUNTIF($K55:$K313,照射試料の誘導放射能の計算書!$B$32&照射試料の誘導放射能の計算書!$D$32),\"\")","v":""},{"$f":"IF($K55=照射試料の誘導放射能の計算書!$B$33&照射試料の誘導放射能の計算書!$D$33,COUNTIF($K55:$K313,照射試料の誘導放射能の計算書!$B$33&照射試料の誘導放射能の計算書!$D$33),\"\")","v":""},{"$f":"IF($K55=照射試料の誘導放射能の計算書!$B$34&照射試料の誘導放射能の計算書!$D$34,COUNTIF($K55:$K313,照射試料の誘導放射能の計算書!$B$34&照射試料の誘導放射能の計算書!$D$34),\"\")","v":""},{"$f":"IF($K55=照射試料の誘導放射能の計算書!$B$35&照射試料の誘導放射能の計算書!$D$35,COUNTIF($K55:$K313,照射試料の誘導放射能の計算書!$B$35&照射試料の誘導放射能の計算書!$D$35),\"\")","v":""},{"$f":"IF($K55=照射試料の誘導放射能の計算書!$B$36&照射試料の誘導放射能の計算書!$D$36,COUNTIF($K55:$K313,照射試料の誘導放射能の計算書!$B$36&照射試料の誘導放射能の計算書!$D$36),\"\")","v":""},{"$f":"IF($K55=照射試料の誘導放射能の計算書!$B$37&照射試料の誘導放射能の計算書!$D$37,COUNTIF($K55:$K313,照射試料の誘導放射能の計算書!$B$37&照射試料の誘導放射能の計算書!$D$37),\"\")","v":""},{"$f":"IF($K55=照射試料の誘導放射能の計算書!$B$38&照射試料の誘導放射能の計算書!$D$38,COUNTIF($K55:$K313,照射試料の誘導放射能の計算書!$B$38&照射試料の誘導放射能の計算書!$D$38),\"\")","v":""},{"$f":"IF($K55=照射試料の誘導放射能の計算書!$B$39&照射試料の誘導放射能の計算書!$D$39,COUNTIF($K55:$K313,照射試料の誘導放射能の計算書!$B$39&照射試料の誘導放射能の計算書!$D$39),\"\")","v":""},{"$f":"IF($K55=照射試料の誘導放射能の計算書!$B$40&照射試料の誘導放射能の計算書!$D$40,COUNTIF($K55:$K313,照射試料の誘導放射能の計算書!$B$40&照射試料の誘導放射能の計算書!$D$40),\"\")","v":""},"Ga-70","(n,γ)Ga-70",1.68,21.15,"min"]
[31,"Se-82","Ga",71,"Ga-71",39.892000000000003,"(n,γ)","Ga72","Ga",{"$f":"RIGHT(H56,2)","v":"72"},"Ga-71(n,γ)",{"$f":"IF($K56=照射試料の誘導放射能の計算書!$B$31&照射試料の誘導放射能の計算書!$D$31,COUNTIF($K56:$K314,照射試料の誘導放射能の計算書!$B$31&照射試料の誘導放射能の計算書!$D$31),\"\")","v":""},{"$f":"IF($K56=照射試料の誘導放射能の計算書!$B$32&照射試料の誘導放射能の計算書!$D$32,COUNTIF($K56:$K314,照射試料の誘導放射能の計算書!$B$32&照射試料の誘導放射能の計算書!$D$32),\"\")","v":""},{"$f":"IF($K56=照射試料の誘導放射能の計算書!$B$33&照射試料の誘導放射能の計算書!$D$33,COUNTIF($K56:$K314,照射試料の誘導放射能の計算書!$B$33&照射試料の誘導放射能の計算書!$D$33),\"\")","v":""},{"$f":"IF($K56=照射試料の誘導放射能の計算書!$B$34&照射試料の誘導放射能の計算書!$D$34,COUNTIF($K56:$K314,照射試料の誘導放射能の計算書!$B$34&照射試料の誘導放射能の計算書!$D$34),\"\")","v":""},{"$f":"IF($K56=照射試料の誘導放射能の計算書!$B$35&照射試料の誘導放射能の計算書!$D$35,COUNTIF($K56:$K314,照射試料の誘導放射能の計算書!$B$35&照射試料の誘導放射能の計算書!$D$35),\"\")","v":""},{"$f":"IF($K56=照射試料の誘導放射能の計算書!$B$36&照射試料の誘導放射能の計算書!$D$36,COUNTIF($K56:$K314,照射試料の誘導放射能の計算書!$B$36&照射試料の誘導放射能の計算書!$D$36),\"\")","v":""},{"$f":"IF($K56=照射試料の誘導放射能の計算書!$B$37&照射試料の誘導放射能の計算書!$D$37,COUNTIF($K56:$K314,照射試料の誘導放射能の計算書!$B$37&照射試料の誘導放射能の計算書!$D$37),\"\")","v":""},{"$f":"IF($K56=照射試料の誘導放射能の計算書!$B$38&照射試料の誘導放射能の計算書!$D$38,COUNTIF($K56:$K314,照射試料の誘導放射能の計算書!$B$38&照射試料の誘導放射能の計算書!$D$38),\"\")","v":""},{"$f":"IF($K56=照射試料の誘導放射能の計算書!$B$39&照射試料の誘導放射能の計算書!$D$39,COUNTIF($K56:$K314,照射試料の誘導放射能の計算書!$B$39&照射試料の誘導放射能の計算書!$D$39),\"\")","v":""},{"$f":"IF($K56=照射試料の誘導放射能の計算書!$B$40&照射試料の誘導放射能の計算書!$D$40,COUNTIF($K56:$K314,照射試料の誘導放射能の計算書!$B$40&照射試料の誘導放射能の計算書!$D$40),\"\")","v":""},"Ga-72","(n,γ)Ga-72",4.7,14.1,"h"]
[32,"Br-79","Ge",70,"Ge-70",21.23,"(n,γ)","Ge71","Ge",{"$f":"RIGHT(H57,2)","v":"71"},"Ge-70(n,γ)",{"$f":"IF($K57=照射試料の誘導放射能の計算書!$B$31&照射試料の誘導放射能の計算書!$D$31,COUNTIF($K57:$K315,照射試料の誘導放射能の計算書!$B$31&照射試料の誘導放射能の計算書!$D$31),\"\")","v":""},{"$f":"IF($K57=照射試料の誘導放射能の計算書!$B$32&照射試料の誘導放射能の計算書!$D$32,COUNTIF($K57:$K315,照射試料の誘導放射能の計算書!$B$32&照射試料の誘導放射能の計算書!$D$32),\"\")","v":""},{"$f":"IF($K57=照射試料の誘導放射能の計算書!$B$33&照射試料の誘導放射能の計算書!$D$33,COUNTIF($K57:$K315,照射試料の誘導放射能の計算書!$B$33&照射試料の誘導放射能の計算書!$D$33),\"\")","v":""},{"$f":"IF($K57=照射試料の誘導放射能の計算書!$B$34&照射試料の誘導放射能の計算書!$D$34,COUNTIF($K57:$K315,照射試料の誘導放射能の計算書!$B$34&照射試料の誘導放射能の計算書!$D$34),\"\")","v":""},{"$f":"IF($K57=照射試料の誘導放射能の計算書!$B$35&照射試料の誘導放射能の計算書!$D$35,COUNTIF($K57:$K315,照射試料の誘導放射能の計算書!$B$35&照射試料の誘導放射能の計算書!$D$35),\"\")","v":""},{"$f":"IF($K57=照射試料の誘導放射能の計算書!$B$36&照射試料の誘導放射能の計算書!$D$36,COUNTIF($K57:$K315,照射試料の誘導放射能の計算書!$B$36&照射試料の誘導放射能の計算書!$D$36),\"\")","v":""},{"$f":"IF($K57=照射試料の誘導放射能の計算書!$B$37&照射試料の誘導放射能の計算書!$D$37,COUNTIF($K57:$K315,照射試料の誘導放射能の計算書!$B$37&照射試料の誘導放射能の計算書!$D$37),\"\")","v":""},{"$f":"IF($K57=照射試料の誘導放射能の計算書!$B$38&照射試料の誘導放射能の計算書!$D$38,COUNTIF($K57:$K315,照射試料の誘導放射能の計算書!$B$38&照射試料の誘導放射能の計算書!$D$38),\"\")","v":""},{"$f":"IF($K57=照射試料の誘導放射能の計算書!$B$39&照射試料の誘導放射能の計算書!$D$39,COUNTIF($K57:$K315,照射試料の誘導放射能の計算書!$B$39&照射試料の誘導放射能の計算書!$D$39),\"\")","v":""},{"$f":"IF($K57=照射試料の誘導放射能の計算書!$B$40&照射試料の誘導放射能の計算書!$D$40,COUNTIF($K57:$K315,照射試料の誘導放射能の計算書!$B$40&照射試料の誘導放射能の計算書!$D$40),\"\")","v":""},"Ge-71","(n,γ)Ge-71",3,11.43,"d"]
[32,"Br-81","Ge",74,"Ge-74",35.94,"(n,γ)","Ge75","Ge",{"$f":"RIGHT(H58,2)","v":"75"},"Ge-74(n,γ)",{"$f":"IF($K58=照射試料の誘導放射能の計算書!$B$31&照射試料の誘導放射能の計算書!$D$31,COUNTIF($K58:$K316,照射試料の誘導放射能の計算書!$B$31&照射試料の誘導放射能の計算書!$D$31),\"\")","v":""},{"$f":"IF($K58=照射試料の誘導放射能の計算書!$B$32&照射試料の誘導放射能の計算書!$D$32,COUNTIF($K58:$K316,照射試料の誘導放射能の計算書!$B$32&照射試料の誘導放射能の計算書!$D$32),\"\")","v":""},{"$f":"IF($K58=照射試料の誘導放射能の計算書!$B$33&照射試料の誘導放射能の計算書!$D$33,COUNTIF($K58:$K316,照射試料の誘導放射能の計算書!$B$33&照射試料の誘導放射能の計算書!$D$33),\"\")","v":""},{"$f":"IF($K58=照射試料の誘導放射能の計算書!$B$34&照射試料の誘導放射能の計算書!$D$34,COUNTIF($K58:$K316,照射試料の誘導放射能の計算書!$B$34&照射試料の誘導放射能の計算書!$D$34),\"\")","v":""},{"$f":"IF($K58=照射試料の誘導放射能の計算書!$B$35&照射試料の誘導放射能の計算書!$D$35,COUNTIF($K58:$K316,照射試料の誘導放射能の計算書!$B$35&照射試料の誘導放射能の計算書!$D$35),\"\")","v":""},{"$f":"IF($K58=照射試料の誘導放射能の計算書!$B$36&照射試料の誘導放射能の計算書!$D$36,COUNTIF($K58:$K316,照射試料の誘導放射能の計算書!$B$36&照射試料の誘導放射能の計算書!$D$36),\"\")","v":""},{"$f":"IF($K58=照射試料の誘導放射能の計算書!$B$37&照射試料の誘導放射能の計算書!$D$37,COUNTIF($K58:$K316,照射試料の誘導放射能の計算書!$B$37&照射試料の誘導放射能の計算書!$D$37),\"\")","v":""},{"$f":"IF($K58=照射試料の誘導放射能の計算書!$B$38&照射試料の誘導放射能の計算書!$D$38,COUNTIF($K58:$K316,照射試料の誘導放射能の計算書!$B$38&照射試料の誘導放射能の計算書!$D$38),\"\")","v":""},{"$f":"IF($K58=照射試料の誘導放射能の計算書!$B$39&照射試料の誘導放射能の計算書!$D$39,COUNTIF($K58:$K316,照射試料の誘導放射能の計算書!$B$39&照射試料の誘導放射能の計算書!$D$39),\"\")","v":""},{"$f":"IF($K58=照射試料の誘導放射能の計算書!$B$40&照射試料の誘導放射能の計算書!$D$40,COUNTIF($K58:$K316,照射試料の誘導放射能の計算書!$B$40&照射試料の誘導放射能の計算書!$D$40),\"\")","v":""},"Ge-75","(n,γ)Ge-75",0.28000000000000003,83,"min"]
[32,"Kr-78","Ge",74,"Ge-74",35.94,"(n,γ)","Ge75m","Ge",{"$f":"RIGHT(H59,3)","v":"75m"},"Ge-74(n,γ)",{"$f":"IF($K59=照射試料の誘導放射能の計算書!$B$31&照射試料の誘導放射能の計算書!$D$31,COUNTIF($K59:$K317,照射試料の誘導放射能の計算書!$B$31&照射試料の誘導放射能の計算書!$D$31),\"\")","v":""},{"$f":"IF($K59=照射試料の誘導放射能の計算書!$B$32&照射試料の誘導放射能の計算書!$D$32,COUNTIF($K59:$K317,照射試料の誘導放射能の計算書!$B$32&照射試料の誘導放射能の計算書!$D$32),\"\")","v":""},{"$f":"IF($K59=照射試料の誘導放射能の計算書!$B$33&照射試料の誘導放射能の計算書!$D$33,COUNTIF($K59:$K317,照射試料の誘導放射能の計算書!$B$33&照射試料の誘導放射能の計算書!$D$33),\"\")","v":""},{"$f":"IF($K59=照射試料の誘導放射能の計算書!$B$34&照射試料の誘導放射能の計算書!$D$34,COUNTIF($K59:$K317,照射試料の誘導放射能の計算書!$B$34&照射試料の誘導放射能の計算書!$D$34),\"\")","v":""},{"$f":"IF($K59=照射試料の誘導放射能の計算書!$B$35&照射試料の誘導放射能の計算書!$D$35,COUNTIF($K59:$K317,照射試料の誘導放射能の計算書!$B$35&照射試料の誘導放射能の計算書!$D$35),\"\")","v":""},{"$f":"IF($K59=照射試料の誘導放射能の計算書!$B$36&照射試料の誘導放射能の計算書!$D$36,COUNTIF($K59:$K317,照射試料の誘導放射能の計算書!$B$36&照射試料の誘導放射能の計算書!$D$36),\"\")","v":""},{"$f":"IF($K59=照射試料の誘導放射能の計算書!$B$37&照射試料の誘導放射能の計算書!$D$37,COUNTIF($K59:$K317,照射試料の誘導放射能の計算書!$B$37&照射試料の誘導放射能の計算書!$D$37),\"\")","v":""},{"$f":"IF($K59=照射試料の誘導放射能の計算書!$B$38&照射試料の誘導放射能の計算書!$D$38,COUNTIF($K59:$K317,照射試料の誘導放射能の計算書!$B$38&照射試料の誘導放射能の計算書!$D$38),\"\")","v":""},{"$f":"IF($K59=照射試料の誘導放射能の計算書!$B$39&照射試料の誘導放射能の計算書!$D$39,COUNTIF($K59:$K317,照射試料の誘導放射能の計算書!$B$39&照射試料の誘導放射能の計算書!$D$39),\"\")","v":""},{"$f":"IF($K59=照射試料の誘導放射能の計算書!$B$40&照射試料の誘導放射能の計算書!$D$40,COUNTIF($K59:$K317,照射試料の誘導放射能の計算書!$B$40&照射試料の誘導放射能の計算書!$D$40),\"\")","v":""},"Ge-75m","(n,γ)Ge-75m",0.14000000000000001,47,"s"]
[32,"Kr-80","Ge",76,"Ge-76",7.44,"(n,γ)","Ge77","Ge",{"$f":"RIGHT(H60,2)","v":"77"},"Ge-76(n,γ)",{"$f":"IF($K60=照射試料の誘導放射能の計算書!$B$31&照射試料の誘導放射能の計算書!$D$31,COUNTIF($K60:$K318,照射試料の誘導放射能の計算書!$B$31&照射試料の誘導放射能の計算書!$D$31),\"\")","v":""},{"$f":"IF($K60=照射試料の誘導放射能の計算書!$B$32&照射試料の誘導放射能の計算書!$D$32,COUNTIF($K60:$K318,照射試料の誘導放射能の計算書!$B$32&照射試料の誘導放射能の計算書!$D$32),\"\")","v":""},{"$f":"IF($K60=照射試料の誘導放射能の計算書!$B$33&照射試料の誘導放射能の計算書!$D$33,COUNTIF($K60:$K318,照射試料の誘導放射能の計算書!$B$33&照射試料の誘導放射能の計算書!$D$33),\"\")","v":""},{"$f":"IF($K60=照射試料の誘導放射能の計算書!$B$34&照射試料の誘導放射能の計算書!$D$34,COUNTIF($K60:$K318,照射試料の誘導放射能の計算書!$B$34&照射試料の誘導放射能の計算書!$D$34),\"\")","v":""},{"$f":"IF($K60=照射試料の誘導放射能の計算書!$B$35&照射試料の誘導放射能の計算書!$D$35,COUNTIF($K60:$K318,照射試料の誘導放射能の計算書!$B$35&照射試料の誘導放射能の計算書!$D$35),\"\")","v":""},{"$f":"IF($K60=照射試料の誘導放射能の計算書!$B$36&照射試料の誘導放射能の計算書!$D$36,COUNTIF($K60:$K318,照射試料の誘導放射能の計算書!$B$36&照射試料の誘導放射能の計算書!$D$36),\"\")","v":""},{"$f":"IF($K60=照射試料の誘導放射能の計算書!$B$37&照射試料の誘導放射能の計算書!$D$37,COUNTIF($K60:$K318,照射試料の誘導放射能の計算書!$B$37&照射試料の誘導放射能の計算書!$D$37),\"\")","v":""},{"$f":"IF($K60=照射試料の誘導放射能の計算書!$B$38&照射試料の誘導放射能の計算書!$D$38,COUNTIF($K60:$K318,照射試料の誘導放射能の計算書!$B$38&照射試料の誘導放射能の計算書!$D$38),\"\")","v":""},{"$f":"IF($K60=照射試料の誘導放射能の計算書!$B$39&照射試料の誘導放射能の計算書!$D$39,COUNTIF($K60:$K318,照射試料の誘導放射能の計算書!$B$39&照射試料の誘導放射能の計算書!$D$39),\"\")","v":""},{"$f":"IF($K60=照射試料の誘導放射能の計算書!$B$40&照射試料の誘導放射能の計算書!$D$40,COUNTIF($K60:$K318,照射試料の誘導放射能の計算書!$B$40&照射試料の誘導放射能の計算書!$D$40),\"\")","v":""},"Ge-77","(n,γ)Ge-77",0.14000000000000001,11.3,"h"]
[32,"Kr-84","Ge",76,"Ge-76",7.44,"(n,γ)","Ge77m","Ge",{"$f":"RIGHT(H61,3)","v":"77m"},"Ge-76(n,γ)",{"$f":"IF($K61=照射試料の誘導放射能の計算書!$B$31&照射試料の誘導放射能の計算書!$D$31,COUNTIF($K61:$K319,照射試料の誘導放射能の計算書!$B$31&照射試料の誘導放射能の計算書!$D$31),\"\")","v":""},{"$f":"IF($K61=照射試料の誘導放射能の計算書!$B$32&照射試料の誘導放射能の計算書!$D$32,COUNTIF($K61:$K319,照射試料の誘導放射能の計算書!$B$32&照射試料の誘導放射能の計算書!$D$32),\"\")","v":""},{"$f":"IF($K61=照射試料の誘導放射能の計算書!$B$33&照射試料の誘導放射能の計算書!$D$33,COUNTIF($K61:$K319,照射試料の誘導放射能の計算書!$B$33&照射試料の誘導放射能の計算書!$D$33),\"\")","v":""},{"$f":"IF($K61=照射試料の誘導放射能の計算書!$B$34&照射試料の誘導放射能の計算書!$D$34,COUNTIF($K61:$K319,照射試料の誘導放射能の計算書!$B$34&照射試料の誘導放射能の計算書!$D$34),\"\")","v":""},{"$f":"IF($K61=照射試料の誘導放射能の計算書!$B$35&照射試料の誘導放射能の計算書!$D$35,COUNTIF($K61:$K319,照射試料の誘導放射能の計算書!$B$35&照射試料の誘導放射能の計算書!$D$35),\"\")","v":""},{"$f":"IF($K61=照射試料の誘導放射能の計算書!$B$36&照射試料の誘導放射能の計算書!$D$36,COUNTIF($K61:$K319,照射試料の誘導放射能の計算書!$B$36&照射試料の誘導放射能の計算書!$D$36),\"\")","v":""},{"$f":"IF($K61=照射試料の誘導放射能の計算書!$B$37&照射試料の誘導放射能の計算書!$D$37,COUNTIF($K61:$K319,照射試料の誘導放射能の計算書!$B$37&照射試料の誘導放射能の計算書!$D$37),\"\")","v":""},{"$f":"IF($K61=照射試料の誘導放射能の計算書!$B$38&照射試料の誘導放射能の計算書!$D$38,COUNTIF($K61:$K319,照射試料の誘導放射能の計算書!$B$38&照射試料の誘導放射能の計算書!$D$38),\"\")","v":""},{"$f":"IF($K61=照射試料の誘導放射能の計算書!$B$39&照射試料の誘導放射能の計算書!$D$39,COUNTIF($K61:$K319,照射試料の誘導放射能の計算書!$B$39&照射試料の誘導放射能の計算書!$D$39),\"\")","v":""},{"$f":"IF($K61=照射試料の誘導放射能の計算書!$B$40&照射試料の誘導放射能の計算書!$D$40,COUNTIF($K61:$K319,照射試料の誘導放射能の計算書!$B$40&照射試料の誘導放射能の計算書!$D$40),\"\")","v":""},"Ge-77m","(n,γ)Ge-77m",0.09,53,"s"]
[33,"Kr-86","As",75,"As-75",100,"(n,γ)","As76","As",{"$f":"RIGHT(H62,2)","v":"76"},"As-75(n,γ)",{"$f":"IF($K62=照射試料の誘導放射能の計算書!$B$31&照射試料の誘導放射能の計算書!$D$31,COUNTIF($K62:$K320,照射試料の誘導放射能の計算書!$B$31&照射試料の誘導放射能の計算書!$D$31),\"\")","v":""},{"$f":"IF($K62=照射試料の誘導放射能の計算書!$B$32&照射試料の誘導放射能の計算書!$D$32,COUNTIF($K62:$K320,照射試料の誘導放射能の計算書!$B$32&照射試料の誘導放射能の計算書!$D$32),\"\")","v":""},{"$f":"IF($K62=照射試料の誘導放射能の計算書!$B$33&照射試料の誘導放射能の計算書!$D$33,COUNTIF($K62:$K320,照射試料の誘導放射能の計算書!$B$33&照射試料の誘導放射能の計算書!$D$33),\"\")","v":""},{"$f":"IF($K62=照射試料の誘導放射能の計算書!$B$34&照射試料の誘導放射能の計算書!$D$34,COUNTIF($K62:$K320,照射試料の誘導放射能の計算書!$B$34&照射試料の誘導放射能の計算書!$D$34),\"\")","v":""},{"$f":"IF($K62=照射試料の誘導放射能の計算書!$B$35&照射試料の誘導放射能の計算書!$D$35,COUNTIF($K62:$K320,照射試料の誘導放射能の計算書!$B$35&照射試料の誘導放射能の計算書!$D$35),\"\")","v":""},{"$f":"IF($K62=照射試料の誘導放射能の計算書!$B$36&照射試料の誘導放射能の計算書!$D$36,COUNTIF($K62:$K320,照射試料の誘導放射能の計算書!$B$36&照射試料の誘導放射能の計算書!$D$36),\"\")","v":""},{"$f":"IF($K62=照射試料の誘導放射能の計算書!$B$37&照射試料の誘導放射能の計算書!$D$37,COUNTIF($K62:$K320,照射試料の誘導放射能の計算書!$B$37&照射試料の誘導放射能の計算書!$D$37),\"\")","v":""},{"$f":"IF($K62=照射試料の誘導放射能の計算書!$B$38&照射試料の誘導放射能の計算書!$D$38,COUNTIF($K62:$K320,照射試料の誘導放射能の計算書!$B$38&照射試料の誘導放射能の計算書!$D$38),\"\")","v":""},{"$f":"IF($K62=照射試料の誘導放射能の計算書!$B$39&照射試料の誘導放射能の計算書!$D$39,COUNTIF($K62:$K320,照射試料の誘導放射能の計算書!$B$39&照射試料の誘導放射能の計算書!$D$39),\"\")","v":""},{"$f":"IF($K62=照射試料の誘導放射能の計算書!$B$40&照射試料の誘導放射能の計算書!$D$40,COUNTIF($K62:$K320,照射試料の誘導放射能の計算書!$B$40&照射試料の誘導放射能の計算書!$D$40),\"\")","v":""},"As-76","(n,γ)As-76",4.3,26.4,"h"]
[34,"Rb-85","Se",74,"Se-74",0.89,"(n,γ)","Se75","Se",{"$f":"RIGHT(H63,2)","v":"75"},"Se-74(n,γ)",{"$f":"IF($K63=照射試料の誘導放射能の計算書!$B$31&照射試料の誘導放射能の計算書!$D$31,COUNTIF($K63:$K321,照射試料の誘導放射能の計算書!$B$31&照射試料の誘導放射能の計算書!$D$31),\"\")","v":""},{"$f":"IF($K63=照射試料の誘導放射能の計算書!$B$32&照射試料の誘導放射能の計算書!$D$32,COUNTIF($K63:$K321,照射試料の誘導放射能の計算書!$B$32&照射試料の誘導放射能の計算書!$D$32),\"\")","v":""},{"$f":"IF($K63=照射試料の誘導放射能の計算書!$B$33&照射試料の誘導放射能の計算書!$D$33,COUNTIF($K63:$K321,照射試料の誘導放射能の計算書!$B$33&照射試料の誘導放射能の計算書!$D$33),\"\")","v":""},{"$f":"IF($K63=照射試料の誘導放射能の計算書!$B$34&照射試料の誘導放射能の計算書!$D$34,COUNTIF($K63:$K321,照射試料の誘導放射能の計算書!$B$34&照射試料の誘導放射能の計算書!$D$34),\"\")","v":""},{"$f":"IF($K63=照射試料の誘導放射能の計算書!$B$35&照射試料の誘導放射能の計算書!$D$35,COUNTIF($K63:$K321,照射試料の誘導放射能の計算書!$B$35&照射試料の誘導放射能の計算書!$D$35),\"\")","v":""},{"$f":"IF($K63=照射試料の誘導放射能の計算書!$B$36&照射試料の誘導放射能の計算書!$D$36,COUNTIF($K63:$K321,照射試料の誘導放射能の計算書!$B$36&照射試料の誘導放射能の計算書!$D$36),\"\")","v":""},{"$f":"IF($K63=照射試料の誘導放射能の計算書!$B$37&照射試料の誘導放射能の計算書!$D$37,COUNTIF($K63:$K321,照射試料の誘導放射能の計算書!$B$37&照射試料の誘導放射能の計算書!$D$37),\"\")","v":""},{"$f":"IF($K63=照射試料の誘導放射能の計算書!$B$38&照射試料の誘導放射能の計算書!$D$38,COUNTIF($K63:$K321,照射試料の誘導放射能の計算書!$B$38&照射試料の誘導放射能の計算書!$D$38),\"\")","v":""},{"$f":"IF($K63=照射試料の誘導放射能の計算書!$B$39&照射試料の誘導放射能の計算書!$D$39,COUNTIF($K63:$K321,照射試料の誘導放射能の計算書!$B$39&照射試料の誘導放射能の計算書!$D$39),\"\")","v":""},{"$f":"IF($K63=照射試料の誘導放射能の計算書!$B$40&照射試料の誘導放射能の計算書!$D$40,COUNTIF($K63:$K321,照射試料の誘導放射能の計算書!$B$40&照射試料の誘導放射能の計算書!$D$40),\"\")","v":""},"Se-75","(n,γ)Se-75",51.8,119.64,"d"]
[34,"Rb-87","Se",78,"Se-78",23.78,"(n,γ)","Se79","Se",{"$f":"RIGHT(H64,2)","v":"79"},"Se-78(n,γ)",{"$f":"IF($K64=照射試料の誘導放射能の計算書!$B$31&照射試料の誘導放射能の計算書!$D$31,COUNTIF($K64:$K322,照射試料の誘導放射能の計算書!$B$31&照射試料の誘導放射能の計算書!$D$31),\"\")","v":""},{"$f":"IF($K64=照射試料の誘導放射能の計算書!$B$32&照射試料の誘導放射能の計算書!$D$32,COUNTIF($K64:$K322,照射試料の誘導放射能の計算書!$B$32&照射試料の誘導放射能の計算書!$D$32),\"\")","v":""},{"$f":"IF($K64=照射試料の誘導放射能の計算書!$B$33&照射試料の誘導放射能の計算書!$D$33,COUNTIF($K64:$K322,照射試料の誘導放射能の計算書!$B$33&照射試料の誘導放射能の計算書!$D$33),\"\")","v":""},{"$f":"IF($K64=照射試料の誘導放射能の計算書!$B$34&照射試料の誘導放射能の計算書!$D$34,COUNTIF($K64:$K322,照射試料の誘導放射能の計算書!$B$34&照射試料の誘導放射能の計算書!$D$34),\"\")","v":""},{"$f":"IF($K64=照射試料の誘導放射能の計算書!$B$35&照射試料の誘導放射能の計算書!$D$35,COUNTIF($K64:$K322,照射試料の誘導放射能の計算書!$B$35&照射試料の誘導放射能の計算書!$D$35),\"\")","v":""},{"$f":"IF($K64=照射試料の誘導放射能の計算書!$B$36&照射試料の誘導放射能の計算書!$D$36,COUNTIF($K64:$K322,照射試料の誘導放射能の計算書!$B$36&照射試料の誘導放射能の計算書!$D$36),\"\")","v":""},{"$f":"IF($K64=照射試料の誘導放射能の計算書!$B$37&照射試料の誘導放射能の計算書!$D$37,COUNTIF($K64:$K322,照射試料の誘導放射能の計算書!$B$37&照射試料の誘導放射能の計算書!$D$37),\"\")","v":""},{"$f":"IF($K64=照射試料の誘導放射能の計算書!$B$38&照射試料の誘導放射能の計算書!$D$38,COUNTIF($K64:$K322,照射試料の誘導放射能の計算書!$B$38&照射試料の誘導放射能の計算書!$D$38),\"\")","v":""},{"$f":"IF($K64=照射試料の誘導放射能の計算書!$B$39&照射試料の誘導放射能の計算書!$D$39,COUNTIF($K64:$K322,照射試料の誘導放射能の計算書!$B$39&照射試料の誘導放射能の計算書!$D$39),\"\")","v":""},{"$f":"IF($K64=照射試料の誘導放射能の計算書!$B$40&照射試料の誘導放射能の計算書!$D$40,COUNTIF($K64:$K322,照射試料の誘導放射能の計算書!$B$40&照射試料の誘導放射能の計算書!$D$40),\"\")","v":""},"Se-79","(n,γ)Se-79",0.05,65000,"y"]
[34,"Sr-84","Se",78,"Se-78",23.78,"(n,γ)","Se79m","Se",{"$f":"RIGHT(H65,3)","v":"79m"},"Se-78(n,γ)",{"$f":"IF($K65=照射試料の誘導放射能の計算書!$B$31&照射試料の誘導放射能の計算書!$D$31,COUNTIF($K65:$K323,照射試料の誘導放射能の計算書!$B$31&照射試料の誘導放射能の計算書!$D$31),\"\")","v":""},{"$f":"IF($K65=照射試料の誘導放射能の計算書!$B$32&照射試料の誘導放射能の計算書!$D$32,COUNTIF($K65:$K323,照射試料の誘導放射能の計算書!$B$32&照射試料の誘導放射能の計算書!$D$32),\"\")","v":""},{"$f":"IF($K65=照射試料の誘導放射能の計算書!$B$33&照射試料の誘導放射能の計算書!$D$33,COUNTIF($K65:$K323,照射試料の誘導放射能の計算書!$B$33&照射試料の誘導放射能の計算書!$D$33),\"\")","v":""},{"$f":"IF($K65=照射試料の誘導放射能の計算書!$B$34&照射試料の誘導放射能の計算書!$D$34,COUNTIF($K65:$K323,照射試料の誘導放射能の計算書!$B$34&照射試料の誘導放射能の計算書!$D$34),\"\")","v":""},{"$f":"IF($K65=照射試料の誘導放射能の計算書!$B$35&照射試料の誘導放射能の計算書!$D$35,COUNTIF($K65:$K323,照射試料の誘導放射能の計算書!$B$35&照射試料の誘導放射能の計算書!$D$35),\"\")","v":""},{"$f":"IF($K65=照射試料の誘導放射能の計算書!$B$36&照射試料の誘導放射能の計算書!$D$36,COUNTIF($K65:$K323,照射試料の誘導放射能の計算書!$B$36&照射試料の誘導放射能の計算書!$D$36),\"\")","v":""},{"$f":"IF($K65=照射試料の誘導放射能の計算書!$B$37&照射試料の誘導放射能の計算書!$D$37,COUNTIF($K65:$K323,照射試料の誘導放射能の計算書!$B$37&照射試料の誘導放射能の計算書!$D$37),\"\")","v":""},{"$f":"IF($K65=照射試料の誘導放射能の計算書!$B$38&照射試料の誘導放射能の計算書!$D$38,COUNTIF($K65:$K323,照射試料の誘導放射能の計算書!$B$38&照射試料の誘導放射能の計算書!$D$38),\"\")","v":""},{"$f":"IF($K65=照射試料の誘導放射能の計算書!$B$39&照射試料の誘導放射能の計算書!$D$39,COUNTIF($K65:$K323,照射試料の誘導放射能の計算書!$B$39&照射試料の誘導放射能の計算書!$D$39),\"\")","v":""},{"$f":"IF($K65=照射試料の誘導放射能の計算書!$B$40&照射試料の誘導放射能の計算書!$D$40,COUNTIF($K65:$K323,照射試料の誘導放射能の計算書!$B$40&照射試料の誘導放射能の計算書!$D$40),\"\")","v":""},"Se-79m","(n,γ)Se-79m",0.33,3.9,"min"]
[34,"Sr-88","Se",80,"Se-80",49.61,"(n,γ)","Se81","Se",{"$f":"RIGHT(H66,2)","v":"81"},"Se-80(n,γ)",{"$f":"IF($K66=照射試料の誘導放射能の計算書!$B$31&照射試料の誘導放射能の計算書!$D$31,COUNTIF($K66:$K324,照射試料の誘導放射能の計算書!$B$31&照射試料の誘導放射能の計算書!$D$31),\"\")","v":""},{"$f":"IF($K66=照射試料の誘導放射能の計算書!$B$32&照射試料の誘導放射能の計算書!$D$32,COUNTIF($K66:$K324,照射試料の誘導放射能の計算書!$B$32&照射試料の誘導放射能の計算書!$D$32),\"\")","v":""},{"$f":"IF($K66=照射試料の誘導放射能の計算書!$B$33&照射試料の誘導放射能の計算書!$D$33,COUNTIF($K66:$K324,照射試料の誘導放射能の計算書!$B$33&照射試料の誘導放射能の計算書!$D$33),\"\")","v":""},{"$f":"IF($K66=照射試料の誘導放射能の計算書!$B$34&照射試料の誘導放射能の計算書!$D$34,COUNTIF($K66:$K324,照射試料の誘導放射能の計算書!$B$34&照射試料の誘導放射能の計算書!$D$34),\"\")","v":""},{"$f":"IF($K66=照射試料の誘導放射能の計算書!$B$35&照射試料の誘導放射能の計算書!$D$35,COUNTIF($K66:$K324,照射試料の誘導放射能の計算書!$B$35&照射試料の誘導放射能の計算書!$D$35),\"\")","v":""},{"$f":"IF($K66=照射試料の誘導放射能の計算書!$B$36&照射試料の誘導放射能の計算書!$D$36,COUNTIF($K66:$K324,照射試料の誘導放射能の計算書!$B$36&照射試料の誘導放射能の計算書!$D$36),\"\")","v":""},{"$f":"IF($K66=照射試料の誘導放射能の計算書!$B$37&照射試料の誘導放射能の計算書!$D$37,COUNTIF($K66:$K324,照射試料の誘導放射能の計算書!$B$37&照射試料の誘導放射能の計算書!$D$37),\"\")","v":""},{"$f":"IF($K66=照射試料の誘導放射能の計算書!$B$38&照射試料の誘導放射能の計算書!$D$38,COUNTIF($K66:$K324,照射試料の誘導放射能の計算書!$B$38&照射試料の誘導放射能の計算書!$D$38),\"\")","v":""},{"$f":"IF($K66=照射試料の誘導放射能の計算書!$B$39&照射試料の誘導放射能の計算書!$D$39,COUNTIF($K66:$K324,照射試料の誘導放射能の計算書!$B$39&照射試料の誘導放射能の計算書!$D$39),\"\")","v":""},{"$f":"IF($K66=照射試料の誘導放射能の計算書!$B$40&照射試料の誘導放射能の計算書!$D$40,COUNTIF($K66:$K324,照射試料の誘導放射能の計算書!$B$40&照射試料の誘導放射能の計算書!$D$40),\"\")","v":""},"Se-81","(n,γ)Se-81",0.61,18,"min"]
[34,"Y-89","Se",80,{"$f":"CONCATENATE(C67,\"-\",D67)","v":"Se-80"},49.61,{"$f":"IF(C67=I67,\"(n,γ)\",\"(n,p)\")","v":"(n,γ)"},"Se81m","Se",{"$f":"RIGHT(H67,3)","v":"81m"},"Se-80(n,γ)",{"$f":"IF($K67=照射試料の誘導放射能の計算書!$B$31&照射試料の誘導放射能の計算書!$D$31,COUNTIF($K67:$K325,照射試料の誘導放射能の計算書!$B$31&照射試料の誘導放射能の計算書!$D$31),\"\")","v":""},{"$f":"IF($K67=照射試料の誘導放射能の計算書!$B$32&照射試料の誘導放射能の計算書!$D$32,COUNTIF($K67:$K325,照射試料の誘導放射能の計算書!$B$32&照射試料の誘導放射能の計算書!$D$32),\"\")","v":""},{"$f":"IF($K67=照射試料の誘導放射能の計算書!$B$33&照射試料の誘導放射能の計算書!$D$33,COUNTIF($K67:$K325,照射試料の誘導放射能の計算書!$B$33&照射試料の誘導放射能の計算書!$D$33),\"\")","v":""},{"$f":"IF($K67=照射試料の誘導放射能の計算書!$B$34&照射試料の誘導放射能の計算書!$D$34,COUNTIF($K67:$K325,照射試料の誘導放射能の計算書!$B$34&照射試料の誘導放射能の計算書!$D$34),\"\")","v":""},{"$f":"IF($K67=照射試料の誘導放射能の計算書!$B$35&照射試料の誘導放射能の計算書!$D$35,COUNTIF($K67:$K325,照射試料の誘導放射能の計算書!$B$35&照射試料の誘導放射能の計算書!$D$35),\"\")","v":""},{"$f":"IF($K67=照射試料の誘導放射能の計算書!$B$36&照射試料の誘導放射能の計算書!$D$36,COUNTIF($K67:$K325,照射試料の誘導放射能の計算書!$B$36&照射試料の誘導放射能の計算書!$D$36),\"\")","v":""},{"$f":"IF($K67=照射試料の誘導放射能の計算書!$B$37&照射試料の誘導放射能の計算書!$D$37,COUNTIF($K67:$K325,照射試料の誘導放射能の計算書!$B$37&照射試料の誘導放射能の計算書!$D$37),\"\")","v":""},{"$f":"IF($K67=照射試料の誘導放射能の計算書!$B$38&照射試料の誘導放射能の計算書!$D$38,COUNTIF($K67:$K325,照射試料の誘導放射能の計算書!$B$38&照射試料の誘導放射能の計算書!$D$38),\"\")","v":""},{"$f":"IF($K67=照射試料の誘導放射能の計算書!$B$39&照射試料の誘導放射能の計算書!$D$39,COUNTIF($K67:$K325,照射試料の誘導放射能の計算書!$B$39&照射試料の誘導放射能の計算書!$D$39),\"\")","v":""},{"$f":"IF($K67=照射試料の誘導放射能の計算書!$B$40&照射試料の誘導放射能の計算書!$D$40,COUNTIF($K67:$K325,照射試料の誘導放射能の計算書!$B$40&照射試料の誘導放射能の計算書!$D$40),\"\")","v":""},{"$f":"CONCATENATE(I67,\"-\",J67)","v":"Se-81m"},{"$f":"G67&V67","v":"(n,γ)Se-81m"},7.0000000000000007E-2,57.3,"min"]
[34,"Zr-92","Se",82,"Se-82",8.73,"(n,γ)","Se83",{"$f":"LEFT(H68,2)","v":"Se"},{"$f":"RIGHT(H68,3)","v":"e83"},{"$f":"E68&G68","v":"Se-82(n,γ)"},{"$f":"IF($K68=照射試料の誘導放射能の計算書!$B$31&照射試料の誘導放射能の計算書!$D$31,COUNTIF($K68:$K326,照射試料の誘導放射能の計算書!$B$31&照射試料の誘導放射能の計算書!$D$31),\"\")","v":""},{"$f":"IF($K68=照射試料の誘導放射能の計算書!$B$32&照射試料の誘導放射能の計算書!$D$32,COUNTIF($K68:$K326,照射試料の誘導放射能の計算書!$B$32&照射試料の誘導放射能の計算書!$D$32),\"\")","v":""},{"$f":"IF($K68=照射試料の誘導放射能の計算書!$B$33&照射試料の誘導放射能の計算書!$D$33,COUNTIF($K68:$K326,照射試料の誘導放射能の計算書!$B$33&照射試料の誘導放射能の計算書!$D$33),\"\")","v":""},{"$f":"IF($K68=照射試料の誘導放射能の計算書!$B$34&照射試料の誘導放射能の計算書!$D$34,COUNTIF($K68:$K326,照射試料の誘導放射能の計算書!$B$34&照射試料の誘導放射能の計算書!$D$34),\"\")","v":""},{"$f":"IF($K68=照射試料の誘導放射能の計算書!$B$35&照射試料の誘導放射能の計算書!$D$35,COUNTIF($K68:$K326,照射試料の誘導放射能の計算書!$B$35&照射試料の誘導放射能の計算書!$D$35),\"\")","v":""},{"$f":"IF($K68=照射試料の誘導放射能の計算書!$B$36&照射試料の誘導放射能の計算書!$D$36,COUNTIF($K68:$K326,照射試料の誘導放射能の計算書!$B$36&照射試料の誘導放射能の計算書!$D$36),\"\")","v":""},{"$f":"IF($K68=照射試料の誘導放射能の計算書!$B$37&照射試料の誘導放射能の計算書!$D$37,COUNTIF($K68:$K326,照射試料の誘導放射能の計算書!$B$37&照射試料の誘導放射能の計算書!$D$37),\"\")","v":""},{"$f":"IF($K68=照射試料の誘導放射能の計算書!$B$38&照射試料の誘導放射能の計算書!$D$38,COUNTIF($K68:$K326,照射試料の誘導放射能の計算書!$B$38&照射試料の誘導放射能の計算書!$D$38),\"\")","v":""},{"$f":"IF($K68=照射試料の誘導放射能の計算書!$B$39&照射試料の誘導放射能の計算書!$D$39,COUNTIF($K68:$K326,照射試料の誘導放射能の計算書!$B$39&照射試料の誘導放射能の計算書!$D$39),\"\")","v":""},{"$f":"IF($K68=照射試料の誘導放射能の計算書!$B$40&照射試料の誘導放射能の計算書!$D$40,COUNTIF($K68:$K326,照射試料の誘導放射能の計算書!$B$40&照射試料の誘導放射能の計算書!$D$40),\"\")","v":""},"Se-e83","(n,γ)Se-e83",5.7999999999999996E-3,22.4,"min"]
[34,"Zr-94","Se",82,"Se-82",8.73,"(n,γ)","Se83m","Se",{"$f":"RIGHT(H69,3)","v":"83m"},"Se-82(n,γ)",{"$f":"IF($K69=照射試料の誘導放射能の計算書!$B$31&照射試料の誘導放射能の計算書!$D$31,COUNTIF($K69:$K327,照射試料の誘導放射能の計算書!$B$31&照射試料の誘導放射能の計算書!$D$31),\"\")","v":""},{"$f":"IF($K69=照射試料の誘導放射能の計算書!$B$32&照射試料の誘導放射能の計算書!$D$32,COUNTIF($K69:$K327,照射試料の誘導放射能の計算書!$B$32&照射試料の誘導放射能の計算書!$D$32),\"\")","v":""},{"$f":"IF($K69=照射試料の誘導放射能の計算書!$B$33&照射試料の誘導放射能の計算書!$D$33,COUNTIF($K69:$K327,照射試料の誘導放射能の計算書!$B$33&照射試料の誘導放射能の計算書!$D$33),\"\")","v":""},{"$f":"IF($K69=照射試料の誘導放射能の計算書!$B$34&照射試料の誘導放射能の計算書!$D$34,COUNTIF($K69:$K327,照射試料の誘導放射能の計算書!$B$34&照射試料の誘導放射能の計算書!$D$34),\"\")","v":""},{"$f":"IF($K69=照射試料の誘導放射能の計算書!$B$35&照射試料の誘導放射能の計算書!$D$35,COUNTIF($K69:$K327,照射試料の誘導放射能の計算書!$B$35&照射試料の誘導放射能の計算書!$D$35),\"\")","v":""},{"$f":"IF($K69=照射試料の誘導放射能の計算書!$B$36&照射試料の誘導放射能の計算書!$D$36,COUNTIF($K69:$K327,照射試料の誘導放射能の計算書!$B$36&照射試料の誘導放射能の計算書!$D$36),\"\")","v":""},{"$f":"IF($K69=照射試料の誘導放射能の計算書!$B$37&照射試料の誘導放射能の計算書!$D$37,COUNTIF($K69:$K327,照射試料の誘導放射能の計算書!$B$37&照射試料の誘導放射能の計算書!$D$37),\"\")","v":""},{"$f":"IF($K69=照射試料の誘導放射能の計算書!$B$38&照射試料の誘導放射能の計算書!$D$38,COUNTIF($K69:$K327,照射試料の誘導放射能の計算書!$B$38&照射試料の誘導放射能の計算書!$D$38),\"\")","v":""},{"$f":"IF($K69=照射試料の誘導放射能の計算書!$B$39&照射試料の誘導放射能の計算書!$D$39,COUNTIF($K69:$K327,照射試料の誘導放射能の計算書!$B$39&照射試料の誘導放射能の計算書!$D$39),\"\")","v":""},{"$f":"IF($K69=照射試料の誘導放射能の計算書!$B$40&照射試料の誘導放射能の計算書!$D$40,COUNTIF($K69:$K327,照射試料の誘導放射能の計算書!$B$40&照射試料の誘導放射能の計算書!$D$40),\"\")","v":""},"Se-83m","(n,γ)Se-83m",3.9E-2,69,"s"]
[35,"Zr-96","Br",79,"Br-79",50.69,"(n,γ)","Br80","Br",{"$f":"RIGHT(H70,2)","v":"80"},"Br-79(n,γ)",{"$f":"IF($K70=照射試料の誘導放射能の計算書!$B$31&照射試料の誘導放射能の計算書!$D$31,COUNTIF($K70:$K328,照射試料の誘導放射能の計算書!$B$31&照射試料の誘導放射能の計算書!$D$31),\"\")","v":""},{"$f":"IF($K70=照射試料の誘導放射能の計算書!$B$32&照射試料の誘導放射能の計算書!$D$32,COUNTIF($K70:$K328,照射試料の誘導放射能の計算書!$B$32&照射試料の誘導放射能の計算書!$D$32),\"\")","v":""},{"$f":"IF($K70=照射試料の誘導放射能の計算書!$B$33&照射試料の誘導放射能の計算書!$D$33,COUNTIF($K70:$K328,照射試料の誘導放射能の計算書!$B$33&照射試料の誘導放射能の計算書!$D$33),\"\")","v":""},{"$f":"IF($K70=照射試料の誘導放射能の計算書!$B$34&照射試料の誘導放射能の計算書!$D$34,COUNTIF($K70:$K328,照射試料の誘導放射能の計算書!$B$34&照射試料の誘導放射能の計算書!$D$34),\"\")","v":""},{"$f":"IF($K70=照射試料の誘導放射能の計算書!$B$35&照射試料の誘導放射能の計算書!$D$35,COUNTIF($K70:$K328,照射試料の誘導放射能の計算書!$B$35&照射試料の誘導放射能の計算書!$D$35),\"\")","v":""},{"$f":"IF($K70=照射試料の誘導放射能の計算書!$B$36&照射試料の誘導放射能の計算書!$D$36,COUNTIF($K70:$K328,照射試料の誘導放射能の計算書!$B$36&照射試料の誘導放射能の計算書!$D$36),\"\")","v":""},{"$f":"IF($K70=照射試料の誘導放射能の計算書!$B$37&照射試料の誘導放射能の計算書!$D$37,COUNTIF($K70:$K328,照射試料の誘導放射能の計算書!$B$37&照射試料の誘導放射能の計算書!$D$37),\"\")","v":""},{"$f":"IF($K70=照射試料の誘導放射能の計算書!$B$38&照射試料の誘導放射能の計算書!$D$38,COUNTIF($K70:$K328,照射試料の誘導放射能の計算書!$B$38&照射試料の誘導放射能の計算書!$D$38),\"\")","v":""},{"$f":"IF($K70=照射試料の誘導放射能の計算書!$B$39&照射試料の誘導放射能の計算書!$D$39,COUNTIF($K70:$K328,照射試料の誘導放射能の計算書!$B$39&照射試料の誘導放射能の計算書!$D$39),\"\")","v":""},{"$f":"IF($K70=照射試料の誘導放射能の計算書!$B$40&照射試料の誘導放射能の計算書!$D$40,COUNTIF($K70:$K328,照射試料の誘導放射能の計算書!$B$40&照射試料の誘導放射能の計算書!$D$40),\"\")","v":""},"Br-80","(n,γ)Br-80",8.3000000000000007,17.600000000000001,"min"]
[35,"Nb-93","Br",79,"Br-79",50.69,"(n,γ)","Br80m","Br",{"$f":"RIGHT(H71,3)","v":"80m"},"Br-79(n,γ)",{"$f":"IF($K71=照射試料の誘導放射能の計算書!$B$31&照射試料の誘導放射能の計算書!$D$31,COUNTIF($K71:$K329,照射試料の誘導放射能の計算書!$B$31&照射試料の誘導放射能の計算書!$D$31),\"\")","v":""},{"$f":"IF($K71=照射試料の誘導放射能の計算書!$B$32&照射試料の誘導放射能の計算書!$D$32,COUNTIF($K71:$K329,照射試料の誘導放射能の計算書!$B$32&照射試料の誘導放射能の計算書!$D$32),\"\")","v":""},{"$f":"IF($K71=照射試料の誘導放射能の計算書!$B$33&照射試料の誘導放射能の計算書!$D$33,COUNTIF($K71:$K329,照射試料の誘導放射能の計算書!$B$33&照射試料の誘導放射能の計算書!$D$33),\"\")","v":""},{"$f":"IF($K71=照射試料の誘導放射能の計算書!$B$34&照射試料の誘導放射能の計算書!$D$34,COUNTIF($K71:$K329,照射試料の誘導放射能の計算書!$B$34&照射試料の誘導放射能の計算書!$D$34),\"\")","v":""},{"$f":"IF($K71=照射試料の誘導放射能の計算書!$B$35&照射試料の誘導放射能の計算書!$D$35,COUNTIF($K71:$K329,照射試料の誘導放射能の計算書!$B$35&照射試料の誘導放射能の計算書!$D$35),\"\")","v":""},{"$f":"IF($K71=照射試料の誘導放射能の計算書!$B$36&照射試料の誘導放射能の計算書!$D$36,COUNTIF($K71:$K329,照射試料の誘導放射能の計算書!$B$36&照射試料の誘導放射能の計算書!$D$36),\"\")","v":""},{"$f":"IF($K71=照射試料の誘導放射能の計算書!$B$37&照射試料の誘導放射能の計算書!$D$37,COUNTIF($K71:$K329,照射試料の誘導放射能の計算書!$B$37&照射試料の誘導放射能の計算書!$D$37),\"\")","v":""},{"$f":"IF($K71=照射試料の誘導放射能の計算書!$B$38&照射試料の誘導放射能の計算書!$D$38,COUNTIF($K71:$K329,照射試料の誘導放射能の計算書!$B$38&照射試料の誘導放射能の計算書!$D$38),\"\")","v":""},{"$f":"IF($K71=照射試料の誘導放射能の計算書!$B$39&照射試料の誘導放射能の計算書!$D$39,COUNTIF($K71:$K329,照射試料の誘導放射能の計算書!$B$39&照射試料の誘導放射能の計算書!$D$39),\"\")","v":""},{"$f":"IF($K71=照射試料の誘導放射能の計算書!$B$40&照射試料の誘導放射能の計算書!$D$40,COUNTIF($K71:$K329,照射試料の誘導放射能の計算書!$B$40&照射試料の誘導放射能の計算書!$D$40),\"\")","v":""},"Br-80m","(n,γ)Br-80m",2.5,4.42,"h"]
[35,"Mo-98","Br",81,"Br-81",49.31,"(n,γ)","Br82","Br",{"$f":"RIGHT(H72,2)","v":"82"},"Br-81(n,γ)",{"$f":"IF($K72=照射試料の誘導放射能の計算書!$B$31&照射試料の誘導放射能の計算書!$D$31,COUNTIF($K72:$K330,照射試料の誘導放射能の計算書!$B$31&照射試料の誘導放射能の計算書!$D$31),\"\")","v":""},{"$f":"IF($K72=照射試料の誘導放射能の計算書!$B$32&照射試料の誘導放射能の計算書!$D$32,COUNTIF($K72:$K340,照射試料の誘導放射能の計算書!$B$32&照射試料の誘導放射能の計算書!$D$32),\"\")","v":""},{"$f":"IF($K72=照射試料の誘導放射能の計算書!$B$33&照射試料の誘導放射能の計算書!$D$33,COUNTIF($K72:$K350,照射試料の誘導放射能の計算書!$B$33&照射試料の誘導放射能の計算書!$D$33),\"\")","v":""},{"$f":"IF($K72=照射試料の誘導放射能の計算書!$B$34&照射試料の誘導放射能の計算書!$D$34,COUNTIF($K72:$K360,照射試料の誘導放射能の計算書!$B$34&照射試料の誘導放射能の計算書!$D$34),\"\")","v":""},{"$f":"IF($K72=照射試料の誘導放射能の計算書!$B$35&照射試料の誘導放射能の計算書!$D$35,COUNTIF($K72:$K370,照射試料の誘導放射能の計算書!$B$35&照射試料の誘導放射能の計算書!$D$35),\"\")","v":""},{"$f":"IF($K72=照射試料の誘導放射能の計算書!$B$36&照射試料の誘導放射能の計算書!$D$36,COUNTIF($K72:$K380,照射試料の誘導放射能の計算書!$B$36&照射試料の誘導放射能の計算書!$D$36),\"\")","v":""},{"$f":"IF($K72=照射試料の誘導放射能の計算書!$B$37&照射試料の誘導放射能の計算書!$D$37,COUNTIF($K72:$K390,照射試料の誘導放射能の計算書!$B$37&照射試料の誘導放射能の計算書!$D$37),\"\")","v":""},{"$f":"IF($K72=照射試料の誘導放射能の計算書!$B$38&照射試料の誘導放射能の計算書!$D$38,COUNTIF($K72:$K400,照射試料の誘導放射能の計算書!$B$38&照射試料の誘導放射能の計算書!$D$38),\"\")","v":""},{"$f":"IF($K72=照射試料の誘導放射能の計算書!$B$39&照射試料の誘導放射能の計算書!$D$39,COUNTIF($K72:$K410,照射試料の誘導放射能の計算書!$B$39&照射試料の誘導放射能の計算書!$D$39),\"\")","v":""},{"$f":"IF($K72=照射試料の誘導放射能の計算書!$B$40&照射試料の誘導放射能の計算書!$D$40,COUNTIF($K72:$K420,照射試料の誘導放射能の計算書!$B$40&照射試料の誘導放射能の計算書!$D$40),\"\")","v":""},"Br-82","(n,γ)Br-82",2.69,35.340000000000003,"h"]
[35,"Mo-100","Br",81,"Br-81",49.31,"(n,γ)","Br82m","Br",{"$f":"RIGHT(H73,3)","v":"82m"},"Br-81(n,γ)",{"$f":"IF($K73=照射試料の誘導放射能の計算書!$B$31&照射試料の誘導放射能の計算書!$D$31,COUNTIF($K73:$K331,照射試料の誘導放射能の計算書!$B$31&照射試料の誘導放射能の計算書!$D$31),\"\")","v":""},{"$f":"IF($K73=照射試料の誘導放射能の計算書!$B$32&照射試料の誘導放射能の計算書!$D$32,COUNTIF($K73:$K341,照射試料の誘導放射能の計算書!$B$32&照射試料の誘導放射能の計算書!$D$32),\"\")","v":""},{"$f":"IF($K73=照射試料の誘導放射能の計算書!$B$33&照射試料の誘導放射能の計算書!$D$33,COUNTIF($K73:$K351,照射試料の誘導放射能の計算書!$B$33&照射試料の誘導放射能の計算書!$D$33),\"\")","v":""},{"$f":"IF($K73=照射試料の誘導放射能の計算書!$B$34&照射試料の誘導放射能の計算書!$D$34,COUNTIF($K73:$K361,照射試料の誘導放射能の計算書!$B$34&照射試料の誘導放射能の計算書!$D$34),\"\")","v":""},{"$f":"IF($K73=照射試料の誘導放射能の計算書!$B$35&照射試料の誘導放射能の計算書!$D$35,COUNTIF($K73:$K371,照射試料の誘導放射能の計算書!$B$35&照射試料の誘導放射能の計算書!$D$35),\"\")","v":""},{"$f":"IF($K73=照射試料の誘導放射能の計算書!$B$36&照射試料の誘導放射能の計算書!$D$36,COUNTIF($K73:$K381,照射試料の誘導放射能の計算書!$B$36&照射試料の誘導放射能の計算書!$D$36),\"\")","v":""},{"$f":"IF($K73=照射試料の誘導放射能の計算書!$B$37&照射試料の誘導放射能の計算書!$D$37,COUNTIF($K73:$K391,照射試料の誘導放射能の計算書!$B$37&照射試料の誘導放射能の計算書!$D$37),\"\")","v":""},{"$f":"IF($K73=照射試料の誘導放射能の計算書!$B$38&照射試料の誘導放射能の計算書!$D$38,COUNTIF($K73:$K401,照射試料の誘導放射能の計算書!$B$38&照射試料の誘導放射能の計算書!$D$38),\"\")","v":""},{"$f":"IF($K73=照射試料の誘導放射能の計算書!$B$39&照射試料の誘導放射能の計算書!$D$39,COUNTIF($K73:$K411,照射試料の誘導放射能の計算書!$B$39&照射試料の誘導放射能の計算書!$D$39),\"\")","v":""},{"$f":"IF($K73=照射試料の誘導放射能の計算書!$B$40&照射試料の誘導放射能の計算書!$D$40,COUNTIF($K73:$K421,照射試料の誘導放射能の計算書!$B$40&照射試料の誘導放射能の計算書!$D$40),\"\")","v":""},"Br-82m","(n,γ)Br-82m",2.4,6.1,"min"]
[36,"Ru-96","Kr",78,"Kr-78",0.35,"(n,γ)","Kr79","Kr",{"$f":"RIGHT(H74,2)","v":"79"},"Kr-78(n,γ)",{"$f":"IF($K74=照射試料の誘導放射能の計算書!$B$31&照射試料の誘導放射能の計算書!$D$31,COUNTIF($K74:$K332,照射試料の誘導放射能の計算書!$B$31&照射試料の誘導放射能の計算書!$D$31),\"\")","v":""},{"$f":"IF($K74=照射試料の誘導放射能の計算書!$B$32&照射試料の誘導放射能の計算書!$D$32,COUNTIF($K74:$K342,照射試料の誘導放射能の計算書!$B$32&照射試料の誘導放射能の計算書!$D$32),\"\")","v":""},{"$f":"IF($K74=照射試料の誘導放射能の計算書!$B$33&照射試料の誘導放射能の計算書!$D$33,COUNTIF($K74:$K352,照射試料の誘導放射能の計算書!$B$33&照射試料の誘導放射能の計算書!$D$33),\"\")","v":""},{"$f":"IF($K74=照射試料の誘導放射能の計算書!$B$34&照射試料の誘導放射能の計算書!$D$34,COUNTIF($K74:$K362,照射試料の誘導放射能の計算書!$B$34&照射試料の誘導放射能の計算書!$D$34),\"\")","v":""},{"$f":"IF($K74=照射試料の誘導放射能の計算書!$B$35&照射試料の誘導放射能の計算書!$D$35,COUNTIF($K74:$K372,照射試料の誘導放射能の計算書!$B$35&照射試料の誘導放射能の計算書!$D$35),\"\")","v":""},{"$f":"IF($K74=照射試料の誘導放射能の計算書!$B$36&照射試料の誘導放射能の計算書!$D$36,COUNTIF($K74:$K382,照射試料の誘導放射能の計算書!$B$36&照射試料の誘導放射能の計算書!$D$36),\"\")","v":""},{"$f":"IF($K74=照射試料の誘導放射能の計算書!$B$37&照射試料の誘導放射能の計算書!$D$37,COUNTIF($K74:$K392,照射試料の誘導放射能の計算書!$B$37&照射試料の誘導放射能の計算書!$D$37),\"\")","v":""},{"$f":"IF($K74=照射試料の誘導放射能の計算書!$B$38&照射試料の誘導放射能の計算書!$D$38,COUNTIF($K74:$K402,照射試料の誘導放射能の計算書!$B$38&照射試料の誘導放射能の計算書!$D$38),\"\")","v":""},{"$f":"IF($K74=照射試料の誘導放射能の計算書!$B$39&照射試料の誘導放射能の計算書!$D$39,COUNTIF($K74:$K412,照射試料の誘導放射能の計算書!$B$39&照射試料の誘導放射能の計算書!$D$39),\"\")","v":""},{"$f":"IF($K74=照射試料の誘導放射能の計算書!$B$40&照射試料の誘導放射能の計算書!$D$40,COUNTIF($K74:$K422,照射試料の誘導放射能の計算書!$B$40&照射試料の誘導放射能の計算書!$D$40),\"\")","v":""},"Kr-79","(n,γ)Kr-79",4.5,34.9,"h"]
[36,"Ru-102","Kr",78,"Kr-78",0.35,"(n,γ)","Kr79m","Kr",{"$f":"RIGHT(H75,3)","v":"79m"},"Kr-78(n,γ)",{"$f":"IF($K75=照射試料の誘導放射能の計算書!$B$31&照射試料の誘導放射能の計算書!$D$31,COUNTIF($K75:$K333,照射試料の誘導放射能の計算書!$B$31&照射試料の誘導放射能の計算書!$D$31),\"\")","v":""},{"$f":"IF($K75=照射試料の誘導放射能の計算書!$B$32&照射試料の誘導放射能の計算書!$D$32,COUNTIF($K75:$K343,照射試料の誘導放射能の計算書!$B$32&照射試料の誘導放射能の計算書!$D$32),\"\")","v":""},{"$f":"IF($K75=照射試料の誘導放射能の計算書!$B$33&照射試料の誘導放射能の計算書!$D$33,COUNTIF($K75:$K353,照射試料の誘導放射能の計算書!$B$33&照射試料の誘導放射能の計算書!$D$33),\"\")","v":""},{"$f":"IF($K75=照射試料の誘導放射能の計算書!$B$34&照射試料の誘導放射能の計算書!$D$34,COUNTIF($K75:$K363,照射試料の誘導放射能の計算書!$B$34&照射試料の誘導放射能の計算書!$D$34),\"\")","v":""},{"$f":"IF($K75=照射試料の誘導放射能の計算書!$B$35&照射試料の誘導放射能の計算書!$D$35,COUNTIF($K75:$K373,照射試料の誘導放射能の計算書!$B$35&照射試料の誘導放射能の計算書!$D$35),\"\")","v":""},{"$f":"IF($K75=照射試料の誘導放射能の計算書!$B$36&照射試料の誘導放射能の計算書!$D$36,COUNTIF($K75:$K383,照射試料の誘導放射能の計算書!$B$36&照射試料の誘導放射能の計算書!$D$36),\"\")","v":""},{"$f":"IF($K75=照射試料の誘導放射能の計算書!$B$37&照射試料の誘導放射能の計算書!$D$37,COUNTIF($K75:$K393,照射試料の誘導放射能の計算書!$B$37&照射試料の誘導放射能の計算書!$D$37),\"\")","v":""},{"$f":"IF($K75=照射試料の誘導放射能の計算書!$B$38&照射試料の誘導放射能の計算書!$D$38,COUNTIF($K75:$K403,照射試料の誘導放射能の計算書!$B$38&照射試料の誘導放射能の計算書!$D$38),\"\")","v":""},{"$f":"IF($K75=照射試料の誘導放射能の計算書!$B$39&照射試料の誘導放射能の計算書!$D$39,COUNTIF($K75:$K413,照射試料の誘導放射能の計算書!$B$39&照射試料の誘導放射能の計算書!$D$39),\"\")","v":""},{"$f":"IF($K75=照射試料の誘導放射能の計算書!$B$40&照射試料の誘導放射能の計算書!$D$40,COUNTIF($K75:$K423,照射試料の誘導放射能の計算書!$B$40&照射試料の誘導放射能の計算書!$D$40),\"\")","v":""},"Kr-79m","(n,γ)Kr-79m",0.17,50,"s"]
[36,"Ru-104","Kr",80,"Kr-80",2.25,"(n,γ)","Kr81","Kr",{"$f":"RIGHT(H76,2)","v":"81"},"Kr-80(n,γ)",{"$f":"IF($K76=照射試料の誘導放射能の計算書!$B$31&照射試料の誘導放射能の計算書!$D$31,COUNTIF($K76:$K334,照射試料の誘導放射能の計算書!$B$31&照射試料の誘導放射能の計算書!$D$31),\"\")","v":""},{"$f":"IF($K76=照射試料の誘導放射能の計算書!$B$32&照射試料の誘導放射能の計算書!$D$32,COUNTIF($K76:$K344,照射試料の誘導放射能の計算書!$B$32&照射試料の誘導放射能の計算書!$D$32),\"\")","v":""},{"$f":"IF($K76=照射試料の誘導放射能の計算書!$B$33&照射試料の誘導放射能の計算書!$D$33,COUNTIF($K76:$K354,照射試料の誘導放射能の計算書!$B$33&照射試料の誘導放射能の計算書!$D$33),\"\")","v":""},{"$f":"IF($K76=照射試料の誘導放射能の計算書!$B$34&照射試料の誘導放射能の計算書!$D$34,COUNTIF($K76:$K364,照射試料の誘導放射能の計算書!$B$34&照射試料の誘導放射能の計算書!$D$34),\"\")","v":""},{"$f":"IF($K76=照射試料の誘導放射能の計算書!$B$35&照射試料の誘導放射能の計算書!$D$35,COUNTIF($K76:$K374,照射試料の誘導放射能の計算書!$B$35&照射試料の誘導放射能の計算書!$D$35),\"\")","v":""},{"$f":"IF($K76=照射試料の誘導放射能の計算書!$B$36&照射試料の誘導放射能の計算書!$D$36,COUNTIF($K76:$K384,照射試料の誘導放射能の計算書!$B$36&照射試料の誘導放射能の計算書!$D$36),\"\")","v":""},{"$f":"IF($K76=照射試料の誘導放射能の計算書!$B$37&照射試料の誘導放射能の計算書!$D$37,COUNTIF($K76:$K394,照射試料の誘導放射能の計算書!$B$37&照射試料の誘導放射能の計算書!$D$37),\"\")","v":""},{"$f":"IF($K76=照射試料の誘導放射能の計算書!$B$38&照射試料の誘導放射能の計算書!$D$38,COUNTIF($K76:$K404,照射試料の誘導放射能の計算書!$B$38&照射試料の誘導放射能の計算書!$D$38),\"\")","v":""},{"$f":"IF($K76=照射試料の誘導放射能の計算書!$B$39&照射試料の誘導放射能の計算書!$D$39,COUNTIF($K76:$K414,照射試料の誘導放射能の計算書!$B$39&照射試料の誘導放射能の計算書!$D$39),\"\")","v":""},{"$f":"IF($K76=照射試料の誘導放射能の計算書!$B$40&照射試料の誘導放射能の計算書!$D$40,COUNTIF($K76:$K424,照射試料の誘導放射能の計算書!$B$40&照射試料の誘導放射能の計算書!$D$40),\"\")","v":""},"Kr-81","(n,γ)Kr-81",9.4,230000,"y"]
[36,"Rh-103","Kr",80,"Kr-80",2.25,"(n,γ)","Kr81m","Kr",{"$f":"RIGHT(H77,3)","v":"81m"},"Kr-80(n,γ)",{"$f":"IF($K77=照射試料の誘導放射能の計算書!$B$31&照射試料の誘導放射能の計算書!$D$31,COUNTIF($K77:$K335,照射試料の誘導放射能の計算書!$B$31&照射試料の誘導放射能の計算書!$D$31),\"\")","v":""},{"$f":"IF($K77=照射試料の誘導放射能の計算書!$B$32&照射試料の誘導放射能の計算書!$D$32,COUNTIF($K77:$K345,照射試料の誘導放射能の計算書!$B$32&照射試料の誘導放射能の計算書!$D$32),\"\")","v":""},{"$f":"IF($K77=照射試料の誘導放射能の計算書!$B$33&照射試料の誘導放射能の計算書!$D$33,COUNTIF($K77:$K355,照射試料の誘導放射能の計算書!$B$33&照射試料の誘導放射能の計算書!$D$33),\"\")","v":""},{"$f":"IF($K77=照射試料の誘導放射能の計算書!$B$34&照射試料の誘導放射能の計算書!$D$34,COUNTIF($K77:$K365,照射試料の誘導放射能の計算書!$B$34&照射試料の誘導放射能の計算書!$D$34),\"\")","v":""},{"$f":"IF($K77=照射試料の誘導放射能の計算書!$B$35&照射試料の誘導放射能の計算書!$D$35,COUNTIF($K77:$K375,照射試料の誘導放射能の計算書!$B$35&照射試料の誘導放射能の計算書!$D$35),\"\")","v":""},{"$f":"IF($K77=照射試料の誘導放射能の計算書!$B$36&照射試料の誘導放射能の計算書!$D$36,COUNTIF($K77:$K385,照射試料の誘導放射能の計算書!$B$36&照射試料の誘導放射能の計算書!$D$36),\"\")","v":""},{"$f":"IF($K77=照射試料の誘導放射能の計算書!$B$37&照射試料の誘導放射能の計算書!$D$37,COUNTIF($K77:$K395,照射試料の誘導放射能の計算書!$B$37&照射試料の誘導放射能の計算書!$D$37),\"\")","v":""},{"$f":"IF($K77=照射試料の誘導放射能の計算書!$B$38&照射試料の誘導放射能の計算書!$D$38,COUNTIF($K77:$K405,照射試料の誘導放射能の計算書!$B$38&照射試料の誘導放射能の計算書!$D$38),\"\")","v":""},{"$f":"IF($K77=照射試料の誘導放射能の計算書!$B$39&照射試料の誘導放射能の計算書!$D$39,COUNTIF($K77:$K415,照射試料の誘導放射能の計算書!$B$39&照射試料の誘導放射能の計算書!$D$39),\"\")","v":""},{"$f":"IF($K77=照射試料の誘導放射能の計算書!$B$40&照射試料の誘導放射能の計算書!$D$40,COUNTIF($K77:$K425,照射試料の誘導放射能の計算書!$B$40&照射試料の誘導放射能の計算書!$D$40),\"\")","v":""},"Kr-81m","(n,γ)Kr-81m",4.5999999999999996,13.1,"s"]
[36,"Pd-102","Kr",84,"Kr-84",57,"(n,γ)","Kr85","Kr",{"$f":"RIGHT(H78,2)","v":"85"},"Kr-84(n,γ)",{"$f":"IF($K78=照射試料の誘導放射能の計算書!$B$31&照射試料の誘導放射能の計算書!$D$31,COUNTIF($K78:$K336,照射試料の誘導放射能の計算書!$B$31&照射試料の誘導放射能の計算書!$D$31),\"\")","v":""},{"$f":"IF($K78=照射試料の誘導放射能の計算書!$B$32&照射試料の誘導放射能の計算書!$D$32,COUNTIF($K78:$K346,照射試料の誘導放射能の計算書!$B$32&照射試料の誘導放射能の計算書!$D$32),\"\")","v":""},{"$f":"IF($K78=照射試料の誘導放射能の計算書!$B$33&照射試料の誘導放射能の計算書!$D$33,COUNTIF($K78:$K356,照射試料の誘導放射能の計算書!$B$33&照射試料の誘導放射能の計算書!$D$33),\"\")","v":""},{"$f":"IF($K78=照射試料の誘導放射能の計算書!$B$34&照射試料の誘導放射能の計算書!$D$34,COUNTIF($K78:$K366,照射試料の誘導放射能の計算書!$B$34&照射試料の誘導放射能の計算書!$D$34),\"\")","v":""},{"$f":"IF($K78=照射試料の誘導放射能の計算書!$B$35&照射試料の誘導放射能の計算書!$D$35,COUNTIF($K78:$K376,照射試料の誘導放射能の計算書!$B$35&照射試料の誘導放射能の計算書!$D$35),\"\")","v":""},{"$f":"IF($K78=照射試料の誘導放射能の計算書!$B$36&照射試料の誘導放射能の計算書!$D$36,COUNTIF($K78:$K386,照射試料の誘導放射能の計算書!$B$36&照射試料の誘導放射能の計算書!$D$36),\"\")","v":""},{"$f":"IF($K78=照射試料の誘導放射能の計算書!$B$37&照射試料の誘導放射能の計算書!$D$37,COUNTIF($K78:$K396,照射試料の誘導放射能の計算書!$B$37&照射試料の誘導放射能の計算書!$D$37),\"\")","v":""},{"$f":"IF($K78=照射試料の誘導放射能の計算書!$B$38&照射試料の誘導放射能の計算書!$D$38,COUNTIF($K78:$K406,照射試料の誘導放射能の計算書!$B$38&照射試料の誘導放射能の計算書!$D$38),\"\")","v":""},{"$f":"IF($K78=照射試料の誘導放射能の計算書!$B$39&照射試料の誘導放射能の計算書!$D$39,COUNTIF($K78:$K416,照射試料の誘導放射能の計算書!$B$39&照射試料の誘導放射能の計算書!$D$39),\"\")","v":""},{"$f":"IF($K78=照射試料の誘導放射能の計算書!$B$40&照射試料の誘導放射能の計算書!$D$40,COUNTIF($K78:$K426,照射試料の誘導放射能の計算書!$B$40&照射試料の誘導放射能の計算書!$D$40),\"\")","v":""},"Kr-85","(n,γ)Kr-85",4.2000000000000003E-2,10.76,"y"]
[36,"Pd-106","Kr",84,"Kr-84",57,"(n,γ)","Kr85m","Kr",{"$f":"RIGHT(H79,3)","v":"85m"},"Kr-84(n,γ)",{"$f":"IF($K79=照射試料の誘導放射能の計算書!$B$31&照射試料の誘導放射能の計算書!$D$31,COUNTIF($K79:$K337,照射試料の誘導放射能の計算書!$B$31&照射試料の誘導放射能の計算書!$D$31),\"\")","v":""},{"$f":"IF($K79=照射試料の誘導放射能の計算書!$B$32&照射試料の誘導放射能の計算書!$D$32,COUNTIF($K79:$K347,照射試料の誘導放射能の計算書!$B$32&照射試料の誘導放射能の計算書!$D$32),\"\")","v":""},{"$f":"IF($K79=照射試料の誘導放射能の計算書!$B$33&照射試料の誘導放射能の計算書!$D$33,COUNTIF($K79:$K357,照射試料の誘導放射能の計算書!$B$33&照射試料の誘導放射能の計算書!$D$33),\"\")","v":""},{"$f":"IF($K79=照射試料の誘導放射能の計算書!$B$34&照射試料の誘導放射能の計算書!$D$34,COUNTIF($K79:$K367,照射試料の誘導放射能の計算書!$B$34&照射試料の誘導放射能の計算書!$D$34),\"\")","v":""},{"$f":"IF($K79=照射試料の誘導放射能の計算書!$B$35&照射試料の誘導放射能の計算書!$D$35,COUNTIF($K79:$K377,照射試料の誘導放射能の計算書!$B$35&照射試料の誘導放射能の計算書!$D$35),\"\")","v":""},{"$f":"IF($K79=照射試料の誘導放射能の計算書!$B$36&照射試料の誘導放射能の計算書!$D$36,COUNTIF($K79:$K387,照射試料の誘導放射能の計算書!$B$36&照射試料の誘導放射能の計算書!$D$36),\"\")","v":""},{"$f":"IF($K79=照射試料の誘導放射能の計算書!$B$37&照射試料の誘導放射能の計算書!$D$37,COUNTIF($K79:$K397,照射試料の誘導放射能の計算書!$B$37&照射試料の誘導放射能の計算書!$D$37),\"\")","v":""},{"$f":"IF($K79=照射試料の誘導放射能の計算書!$B$38&照射試料の誘導放射能の計算書!$D$38,COUNTIF($K79:$K407,照射試料の誘導放射能の計算書!$B$38&照射試料の誘導放射能の計算書!$D$38),\"\")","v":""},{"$f":"IF($K79=照射試料の誘導放射能の計算書!$B$39&照射試料の誘導放射能の計算書!$D$39,COUNTIF($K79:$K417,照射試料の誘導放射能の計算書!$B$39&照射試料の誘導放射能の計算書!$D$39),\"\")","v":""},{"$f":"IF($K79=照射試料の誘導放射能の計算書!$B$40&照射試料の誘導放射能の計算書!$D$40,COUNTIF($K79:$K427,照射試料の誘導放射能の計算書!$B$40&照射試料の誘導放射能の計算書!$D$40),\"\")","v":""},"Kr-85m","(n,γ)Kr-85m",0.09,4.4800000000000004,"h"]
[36,"Pd-108","Kr",86,"Kr-86",17.3,"(n,γ)","Kr87","Kr",{"$f":"RIGHT(H80,2)","v":"87"},"Kr-86(n,γ)",{"$f":"IF($K80=照射試料の誘導放射能の計算書!$B$31&照射試料の誘導放射能の計算書!$D$31,COUNTIF($K80:$K338,照射試料の誘導放射能の計算書!$B$31&照射試料の誘導放射能の計算書!$D$31),\"\")","v":""},{"$f":"IF($K80=照射試料の誘導放射能の計算書!$B$32&照射試料の誘導放射能の計算書!$D$32,COUNTIF($K80:$K348,照射試料の誘導放射能の計算書!$B$32&照射試料の誘導放射能の計算書!$D$32),\"\")","v":""},{"$f":"IF($K80=照射試料の誘導放射能の計算書!$B$33&照射試料の誘導放射能の計算書!$D$33,COUNTIF($K80:$K358,照射試料の誘導放射能の計算書!$B$33&照射試料の誘導放射能の計算書!$D$33),\"\")","v":""},{"$f":"IF($K80=照射試料の誘導放射能の計算書!$B$34&照射試料の誘導放射能の計算書!$D$34,COUNTIF($K80:$K368,照射試料の誘導放射能の計算書!$B$34&照射試料の誘導放射能の計算書!$D$34),\"\")","v":""},{"$f":"IF($K80=照射試料の誘導放射能の計算書!$B$35&照射試料の誘導放射能の計算書!$D$35,COUNTIF($K80:$K378,照射試料の誘導放射能の計算書!$B$35&照射試料の誘導放射能の計算書!$D$35),\"\")","v":""},{"$f":"IF($K80=照射試料の誘導放射能の計算書!$B$36&照射試料の誘導放射能の計算書!$D$36,COUNTIF($K80:$K388,照射試料の誘導放射能の計算書!$B$36&照射試料の誘導放射能の計算書!$D$36),\"\")","v":""},{"$f":"IF($K80=照射試料の誘導放射能の計算書!$B$37&照射試料の誘導放射能の計算書!$D$37,COUNTIF($K80:$K398,照射試料の誘導放射能の計算書!$B$37&照射試料の誘導放射能の計算書!$D$37),\"\")","v":""},{"$f":"IF($K80=照射試料の誘導放射能の計算書!$B$38&照射試料の誘導放射能の計算書!$D$38,COUNTIF($K80:$K408,照射試料の誘導放射能の計算書!$B$38&照射試料の誘導放射能の計算書!$D$38),\"\")","v":""},{"$f":"IF($K80=照射試料の誘導放射能の計算書!$B$39&照射試料の誘導放射能の計算書!$D$39,COUNTIF($K80:$K418,照射試料の誘導放射能の計算書!$B$39&照射試料の誘導放射能の計算書!$D$39),\"\")","v":""},{"$f":"IF($K80=照射試料の誘導放射能の計算書!$B$40&照射試料の誘導放射能の計算書!$D$40,COUNTIF($K80:$K428,照射試料の誘導放射能の計算書!$B$40&照射試料の誘導放射能の計算書!$D$40),\"\")","v":""},"Kr-87","(n,γ)Kr-87",0.06,76.3,"min"]
[37,"Pd-110","Rb",85,"Rb-85",72.165000000000006,"(n,γ)","Rb86","Rb",{"$f":"RIGHT(H81,2)","v":"86"},"Rb-85(n,γ)",{"$f":"IF($K81=照射試料の誘導放射能の計算書!$B$31&照射試料の誘導放射能の計算書!$D$31,COUNTIF($K81:$K339,照射試料の誘導放射能の計算書!$B$31&照射試料の誘導放射能の計算書!$D$31),\"\")","v":""},{"$f":"IF($K81=照射試料の誘導放射能の計算書!$B$32&照射試料の誘導放射能の計算書!$D$32,COUNTIF($K81:$K349,照射試料の誘導放射能の計算書!$B$32&照射試料の誘導放射能の計算書!$D$32),\"\")","v":""},{"$f":"IF($K81=照射試料の誘導放射能の計算書!$B$33&照射試料の誘導放射能の計算書!$D$33,COUNTIF($K81:$K359,照射試料の誘導放射能の計算書!$B$33&照射試料の誘導放射能の計算書!$D$33),\"\")","v":""},{"$f":"IF($K81=照射試料の誘導放射能の計算書!$B$34&照射試料の誘導放射能の計算書!$D$34,COUNTIF($K81:$K369,照射試料の誘導放射能の計算書!$B$34&照射試料の誘導放射能の計算書!$D$34),\"\")","v":""},{"$f":"IF($K81=照射試料の誘導放射能の計算書!$B$35&照射試料の誘導放射能の計算書!$D$35,COUNTIF($K81:$K379,照射試料の誘導放射能の計算書!$B$35&照射試料の誘導放射能の計算書!$D$35),\"\")","v":""},{"$f":"IF($K81=照射試料の誘導放射能の計算書!$B$36&照射試料の誘導放射能の計算書!$D$36,COUNTIF($K81:$K389,照射試料の誘導放射能の計算書!$B$36&照射試料の誘導放射能の計算書!$D$36),\"\")","v":""},{"$f":"IF($K81=照射試料の誘導放射能の計算書!$B$37&照射試料の誘導放射能の計算書!$D$37,COUNTIF($K81:$K399,照射試料の誘導放射能の計算書!$B$37&照射試料の誘導放射能の計算書!$D$37),\"\")","v":""},{"$f":"IF($K81=照射試料の誘導放射能の計算書!$B$38&照射試料の誘導放射能の計算書!$D$38,COUNTIF($K81:$K409,照射試料の誘導放射能の計算書!$B$38&照射試料の誘導放射能の計算書!$D$38),\"\")","v":""},{"$f":"IF($K81=照射試料の誘導放射能の計算書!$B$39&照射試料の誘導放射能の計算書!$D$39,COUNTIF($K81:$K419,照射試料の誘導放射能の計算書!$B$39&照射試料の誘導放射能の計算書!$D$39),\"\")","v":""},{"$f":"IF($K81=照射試料の誘導放射能の計算書!$B$40&照射試料の誘導放射能の計算書!$D$40,COUNTIF($K81:$K429,照射試料の誘導放射能の計算書!$B$40&照射試料の誘導放射能の計算書!$D$40),\"\")","v":""},"Rb-86","(n,γ)Rb-86",0.45,18.7,"d"]
[37,"Ag-107","Rb",85,"Rb-85",72.165000000000006,"(n,γ)","Rb86m","Rb",{"$f":"RIGHT(H82,3)","v":"86m"},"Rb-85(n,γ)",{"$f":"IF($K82=照射試料の誘導放射能の計算書!$B$31&照射試料の誘導放射能の計算書!$D$31,COUNTIF($K82:$K340,照射試料の誘導放射能の計算書!$B$31&照射試料の誘導放射能の計算書!$D$31),\"\")","v":""},{"$f":"IF($K82=照射試料の誘導放射能の計算書!$B$32&照射試料の誘導放射能の計算書!$D$32,COUNTIF($K82:$K340,照射試料の誘導放射能の計算書!$B$32&照射試料の誘導放射能の計算書!$D$32),\"\")","v":""},{"$f":"IF($K82=照射試料の誘導放射能の計算書!$B$33&照射試料の誘導放射能の計算書!$D$33,COUNTIF($K82:$K340,照射試料の誘導放射能の計算書!$B$33&照射試料の誘導放射能の計算書!$D$33),\"\")","v":""},{"$f":"IF($K82=照射試料の誘導放射能の計算書!$B$34&照射試料の誘導放射能の計算書!$D$34,COUNTIF($K82:$K340,照射試料の誘導放射能の計算書!$B$34&照射試料の誘導放射能の計算書!$D$34),\"\")","v":""},{"$f":"IF($K82=照射試料の誘導放射能の計算書!$B$35&照射試料の誘導放射能の計算書!$D$35,COUNTIF($K82:$K340,照射試料の誘導放射能の計算書!$B$35&照射試料の誘導放射能の計算書!$D$35),\"\")","v":""},{"$f":"IF($K82=照射試料の誘導放射能の計算書!$B$36&照射試料の誘導放射能の計算書!$D$36,COUNTIF($K82:$K340,照射試料の誘導放射能の計算書!$B$36&照射試料の誘導放射能の計算書!$D$36),\"\")","v":""},{"$f":"IF($K82=照射試料の誘導放射能の計算書!$B$37&照射試料の誘導放射能の計算書!$D$37,COUNTIF($K82:$K340,照射試料の誘導放射能の計算書!$B$37&照射試料の誘導放射能の計算書!$D$37),\"\")","v":""},{"$f":"IF($K82=照射試料の誘導放射能の計算書!$B$38&照射試料の誘導放射能の計算書!$D$38,COUNTIF($K82:$K340,照射試料の誘導放射能の計算書!$B$38&照射試料の誘導放射能の計算書!$D$38),\"\")","v":""},{"$f":"IF($K82=照射試料の誘導放射能の計算書!$B$39&照射試料の誘導放射能の計算書!$D$39,COUNTIF($K82:$K340,照射試料の誘導放射能の計算書!$B$39&照射試料の誘導放射能の計算書!$D$39),\"\")","v":""},{"$f":"IF($K82=照射試料の誘導放射能の計算書!$B$40&照射試料の誘導放射能の計算書!$D$40,COUNTIF($K82:$K340,照射試料の誘導放射能の計算書!$B$40&照射試料の誘導放射能の計算書!$D$40),\"\")","v":""},"Rb-86m","(n,γ)Rb-86m",0.05,1.02,"min"]
[37,"Ag-109","Rb",87,"Rb-87",27.835000000000001,"(n,γ)","Rb88","Rb",{"$f":"RIGHT(H83,2)","v":"88"},"Rb-87(n,γ)",{"$f":"IF($K83=照射試料の誘導放射能の計算書!$B$31&照射試料の誘導放射能の計算書!$D$31,COUNTIF($K83:$K341,照射試料の誘導放射能の計算書!$B$31&照射試料の誘導放射能の計算書!$D$31),\"\")","v":""},{"$f":"IF($K83=照射試料の誘導放射能の計算書!$B$32&照射試料の誘導放射能の計算書!$D$32,COUNTIF($K83:$K341,照射試料の誘導放射能の計算書!$B$32&照射試料の誘導放射能の計算書!$D$32),\"\")","v":""},{"$f":"IF($K83=照射試料の誘導放射能の計算書!$B$33&照射試料の誘導放射能の計算書!$D$33,COUNTIF($K83:$K341,照射試料の誘導放射能の計算書!$B$33&照射試料の誘導放射能の計算書!$D$33),\"\")","v":""},{"$f":"IF($K83=照射試料の誘導放射能の計算書!$B$34&照射試料の誘導放射能の計算書!$D$34,COUNTIF($K83:$K341,照射試料の誘導放射能の計算書!$B$34&照射試料の誘導放射能の計算書!$D$34),\"\")","v":""},{"$f":"IF($K83=照射試料の誘導放射能の計算書!$B$35&照射試料の誘導放射能の計算書!$D$35,COUNTIF($K83:$K341,照射試料の誘導放射能の計算書!$B$35&照射試料の誘導放射能の計算書!$D$35),\"\")","v":""},{"$f":"IF($K83=照射試料の誘導放射能の計算書!$B$36&照射試料の誘導放射能の計算書!$D$36,COUNTIF($K83:$K341,照射試料の誘導放射能の計算書!$B$36&照射試料の誘導放射能の計算書!$D$36),\"\")","v":""},{"$f":"IF($K83=照射試料の誘導放射能の計算書!$B$37&照射試料の誘導放射能の計算書!$D$37,COUNTIF($K83:$K341,照射試料の誘導放射能の計算書!$B$37&照射試料の誘導放射能の計算書!$D$37),\"\")","v":""},{"$f":"IF($K83=照射試料の誘導放射能の計算書!$B$38&照射試料の誘導放射能の計算書!$D$38,COUNTIF($K83:$K341,照射試料の誘導放射能の計算書!$B$38&照射試料の誘導放射能の計算書!$D$38),\"\")","v":""},{"$f":"IF($K83=照射試料の誘導放射能の計算書!$B$39&照射試料の誘導放射能の計算書!$D$39,COUNTIF($K83:$K341,照射試料の誘導放射能の計算書!$B$39&照射試料の誘導放射能の計算書!$D$39),\"\")","v":""},{"$f":"IF($K83=照射試料の誘導放射能の計算書!$B$40&照射試料の誘導放射能の計算書!$D$40,COUNTIF($K83:$K341,照射試料の誘導放射能の計算書!$B$40&照射試料の誘導放射能の計算書!$D$40),\"\")","v":""},"Rb-88","(n,γ)Rb-88",0.12,17.8,"min"]
[38,"Cd-106","Sr",84,"Sr-84",0.56000000000000005,"(n,γ)","Sr85","Sr",{"$f":"RIGHT(H84,2)","v":"85"},"Sr-84(n,γ)",{"$f":"IF($K84=照射試料の誘導放射能の計算書!$B$31&照射試料の誘導放射能の計算書!$D$31,COUNTIF($K84:$K342,照射試料の誘導放射能の計算書!$B$31&照射試料の誘導放射能の計算書!$D$31),\"\")","v":""},{"$f":"IF($K84=照射試料の誘導放射能の計算書!$B$32&照射試料の誘導放射能の計算書!$D$32,COUNTIF($K84:$K342,照射試料の誘導放射能の計算書!$B$32&照射試料の誘導放射能の計算書!$D$32),\"\")","v":""},{"$f":"IF($K84=照射試料の誘導放射能の計算書!$B$33&照射試料の誘導放射能の計算書!$D$33,COUNTIF($K84:$K342,照射試料の誘導放射能の計算書!$B$33&照射試料の誘導放射能の計算書!$D$33),\"\")","v":""},{"$f":"IF($K84=照射試料の誘導放射能の計算書!$B$34&照射試料の誘導放射能の計算書!$D$34,COUNTIF($K84:$K342,照射試料の誘導放射能の計算書!$B$34&照射試料の誘導放射能の計算書!$D$34),\"\")","v":""},{"$f":"IF($K84=照射試料の誘導放射能の計算書!$B$35&照射試料の誘導放射能の計算書!$D$35,COUNTIF($K84:$K342,照射試料の誘導放射能の計算書!$B$35&照射試料の誘導放射能の計算書!$D$35),\"\")","v":""},{"$f":"IF($K84=照射試料の誘導放射能の計算書!$B$36&照射試料の誘導放射能の計算書!$D$36,COUNTIF($K84:$K342,照射試料の誘導放射能の計算書!$B$36&照射試料の誘導放射能の計算書!$D$36),\"\")","v":""},{"$f":"IF($K84=照射試料の誘導放射能の計算書!$B$37&照射試料の誘導放射能の計算書!$D$37,COUNTIF($K84:$K342,照射試料の誘導放射能の計算書!$B$37&照射試料の誘導放射能の計算書!$D$37),\"\")","v":""},{"$f":"IF($K84=照射試料の誘導放射能の計算書!$B$38&照射試料の誘導放射能の計算書!$D$38,COUNTIF($K84:$K342,照射試料の誘導放射能の計算書!$B$38&照射試料の誘導放射能の計算書!$D$38),\"\")","v":""},{"$f":"IF($K84=照射試料の誘導放射能の計算書!$B$39&照射試料の誘導放射能の計算書!$D$39,COUNTIF($K84:$K342,照射試料の誘導放射能の計算書!$B$39&照射試料の誘導放射能の計算書!$D$39),\"\")","v":""},{"$f":"IF($K84=照射試料の誘導放射能の計算書!$B$40&照射試料の誘導放射能の計算書!$D$40,COUNTIF($K84:$K342,照射試料の誘導放射能の計算書!$B$40&照射試料の誘導放射能の計算書!$D$40),\"\")","v":""},"Sr-85","(n,γ)Sr-85",0.26,64.900000000000006,"d"]
[38,"Cd-108","Sr",88,"Sr-88",82.58,"(n,γ)","Sr89","Sr",{"$f":"RIGHT(H85,2)","v":"89"},"Sr-88(n,γ)",{"$f":"IF($K85=照射試料の誘導放射能の計算書!$B$31&照射試料の誘導放射能の計算書!$D$31,COUNTIF($K85:$K343,照射試料の誘導放射能の計算書!$B$31&照射試料の誘導放射能の計算書!$D$31),\"\")","v":""},{"$f":"IF($K85=照射試料の誘導放射能の計算書!$B$32&照射試料の誘導放射能の計算書!$D$32,COUNTIF($K85:$K343,照射試料の誘導放射能の計算書!$B$32&照射試料の誘導放射能の計算書!$D$32),\"\")","v":""},{"$f":"IF($K85=照射試料の誘導放射能の計算書!$B$33&照射試料の誘導放射能の計算書!$D$33,COUNTIF($K85:$K343,照射試料の誘導放射能の計算書!$B$33&照射試料の誘導放射能の計算書!$D$33),\"\")","v":""},{"$f":"IF($K85=照射試料の誘導放射能の計算書!$B$34&照射試料の誘導放射能の計算書!$D$34,COUNTIF($K85:$K343,照射試料の誘導放射能の計算書!$B$34&照射試料の誘導放射能の計算書!$D$34),\"\")","v":""},{"$f":"IF($K85=照射試料の誘導放射能の計算書!$B$35&照射試料の誘導放射能の計算書!$D$35,COUNTIF($K85:$K343,照射試料の誘導放射能の計算書!$B$35&照射試料の誘導放射能の計算書!$D$35),\"\")","v":""},{"$f":"IF($K85=照射試料の誘導放射能の計算書!$B$36&照射試料の誘導放射能の計算書!$D$36,COUNTIF($K85:$K343,照射試料の誘導放射能の計算書!$B$36&照射試料の誘導放射能の計算書!$D$36),\"\")","v":""},{"$f":"IF($K85=照射試料の誘導放射能の計算書!$B$37&照射試料の誘導放射能の計算書!$D$37,COUNTIF($K85:$K343,照射試料の誘導放射能の計算書!$B$37&照射試料の誘導放射能の計算書!$D$37),\"\")","v":""},{"$f":"IF($K85=照射試料の誘導放射能の計算書!$B$38&照射試料の誘導放射能の計算書!$D$38,COUNTIF($K85:$K343,照射試料の誘導放射能の計算書!$B$38&照射試料の誘導放射能の計算書!$D$38),\"\")","v":""},{"$f":"IF($K85=照射試料の誘導放射能の計算書!$B$39&照射試料の誘導放射能の計算書!$D$39,COUNTIF($K85:$K343,照射試料の誘導放射能の計算書!$B$39&照射試料の誘導放射能の計算書!$D$39),\"\")","v":""},{"$f":"IF($K85=照射試料の誘導放射能の計算書!$B$40&照射試料の誘導放射能の計算書!$D$40,COUNTIF($K85:$K343,照射試料の誘導放射能の計算書!$B$40&照射試料の誘導放射能の計算書!$D$40),\"\")","v":""},"Sr-89","(n,γ)Sr-89",5.7999999999999996E-3,50.5,"d"]
[39,"Cd-110","Y",89,"Y-89",100,"(n,γ)","Y90m",{"$f":"LEFT(H86,1)","v":"Y"},{"$f":"RIGHT(H86,3)","v":"90m"},"Y-89(n,γ)",{"$f":"IF($K86=照射試料の誘導放射能の計算書!$B$31&照射試料の誘導放射能の計算書!$D$31,COUNTIF($K86:$K344,照射試料の誘導放射能の計算書!$B$31&照射試料の誘導放射能の計算書!$D$31),\"\")","v":""},{"$f":"IF($K86=照射試料の誘導放射能の計算書!$B$32&照射試料の誘導放射能の計算書!$D$32,COUNTIF($K86:$K344,照射試料の誘導放射能の計算書!$B$32&照射試料の誘導放射能の計算書!$D$32),\"\")","v":""},{"$f":"IF($K86=照射試料の誘導放射能の計算書!$B$33&照射試料の誘導放射能の計算書!$D$33,COUNTIF($K86:$K344,照射試料の誘導放射能の計算書!$B$33&照射試料の誘導放射能の計算書!$D$33),\"\")","v":""},{"$f":"IF($K86=照射試料の誘導放射能の計算書!$B$34&照射試料の誘導放射能の計算書!$D$34,COUNTIF($K86:$K344,照射試料の誘導放射能の計算書!$B$34&照射試料の誘導放射能の計算書!$D$34),\"\")","v":""},{"$f":"IF($K86=照射試料の誘導放射能の計算書!$B$35&照射試料の誘導放射能の計算書!$D$35,COUNTIF($K86:$K344,照射試料の誘導放射能の計算書!$B$35&照射試料の誘導放射能の計算書!$D$35),\"\")","v":""},{"$f":"IF($K86=照射試料の誘導放射能の計算書!$B$36&照射試料の誘導放射能の計算書!$D$36,COUNTIF($K86:$K344,照射試料の誘導放射能の計算書!$B$36&照射試料の誘導放射能の計算書!$D$36),\"\")","v":""},{"$f":"IF($K86=照射試料の誘導放射能の計算書!$B$37&照射試料の誘導放射能の計算書!$D$37,COUNTIF($K86:$K344,照射試料の誘導放射能の計算書!$B$37&照射試料の誘導放射能の計算書!$D$37),\"\")","v":""},{"$f":"IF($K86=照射試料の誘導放射能の計算書!$B$38&照射試料の誘導放射能の計算書!$D$38,COUNTIF($K86:$K344,照射試料の誘導放射能の計算書!$B$38&照射試料の誘導放射能の計算書!$D$38),\"\")","v":""},{"$f":"IF($K86=照射試料の誘導放射能の計算書!$B$39&照射試料の誘導放射能の計算書!$D$39,COUNTIF($K86:$K344,照射試料の誘導放射能の計算書!$B$39&照射試料の誘導放射能の計算書!$D$39),\"\")","v":""},{"$f":"IF($K86=照射試料の誘導放射能の計算書!$B$40&照射試料の誘導放射能の計算書!$D$40,COUNTIF($K86:$K344,照射試料の誘導放射能の計算書!$B$40&照射試料の誘導放射能の計算書!$D$40),\"\")","v":""},"Y-90m","(n,γ)Y-90m",1.28,64.099999999999994,"h"]
[39,"Cd-112","Y",89,"Y-89",100,"(n,γ)","Y90m","Y",{"$f":"RIGHT(H87,3)","v":"90m"},"Y-89(n,γ)",{"$f":"IF($K87=照射試料の誘導放射能の計算書!$B$31&照射試料の誘導放射能の計算書!$D$31,COUNTIF($K87:$K345,照射試料の誘導放射能の計算書!$B$31&照射試料の誘導放射能の計算書!$D$31),\"\")","v":""},{"$f":"IF($K87=照射試料の誘導放射能の計算書!$B$32&照射試料の誘導放射能の計算書!$D$32,COUNTIF($K87:$K345,照射試料の誘導放射能の計算書!$B$32&照射試料の誘導放射能の計算書!$D$32),\"\")","v":""},{"$f":"IF($K87=照射試料の誘導放射能の計算書!$B$33&照射試料の誘導放射能の計算書!$D$33,COUNTIF($K87:$K345,照射試料の誘導放射能の計算書!$B$33&照射試料の誘導放射能の計算書!$D$33),\"\")","v":""},{"$f":"IF($K87=照射試料の誘導放射能の計算書!$B$34&照射試料の誘導放射能の計算書!$D$34,COUNTIF($K87:$K345,照射試料の誘導放射能の計算書!$B$34&照射試料の誘導放射能の計算書!$D$34),\"\")","v":""},{"$f":"IF($K87=照射試料の誘導放射能の計算書!$B$35&照射試料の誘導放射能の計算書!$D$35,COUNTIF($K87:$K345,照射試料の誘導放射能の計算書!$B$35&照射試料の誘導放射能の計算書!$D$35),\"\")","v":""},{"$f":"IF($K87=照射試料の誘導放射能の計算書!$B$36&照射試料の誘導放射能の計算書!$D$36,COUNTIF($K87:$K345,照射試料の誘導放射能の計算書!$B$36&照射試料の誘導放射能の計算書!$D$36),\"\")","v":""},{"$f":"IF($K87=照射試料の誘導放射能の計算書!$B$37&照射試料の誘導放射能の計算書!$D$37,COUNTIF($K87:$K345,照射試料の誘導放射能の計算書!$B$37&照射試料の誘導放射能の計算書!$D$37),\"\")","v":""},{"$f":"IF($K87=照射試料の誘導放射能の計算書!$B$38&照射試料の誘導放射能の計算書!$D$38,COUNTIF($K87:$K345,照射試料の誘導放射能の計算書!$B$38&照射試料の誘導放射能の計算書!$D$38),\"\")","v":""},{"$f":"IF($K87=照射試料の誘導放射能の計算書!$B$39&照射試料の誘導放射能の計算書!$D$39,COUNTIF($K87:$K345,照射試料の誘導放射能の計算書!$B$39&照射試料の誘導放射能の計算書!$D$39),\"\")","v":""},{"$f":"IF($K87=照射試料の誘導放射能の計算書!$B$40&照射試料の誘導放射能の計算書!$D$40,COUNTIF($K87:$K345,照射試料の誘導放射能の計算書!$B$40&照射試料の誘導放射能の計算書!$D$40),\"\")","v":""},"Y-90m","(n,γ)Y-90m",1E-3,3.19,"h"]
[40,"Cd-114","Zr",92,"Zr-92",17.149999999999999,"(n,γ)","Zr93","Zr",{"$f":"RIGHT(H88,2)","v":"93"},"Zr-92(n,γ)",{"$f":"IF($K88=照射試料の誘導放射能の計算書!$B$31&照射試料の誘導放射能の計算書!$D$31,COUNTIF($K88:$K346,照射試料の誘導放射能の計算書!$B$31&照射試料の誘導放射能の計算書!$D$31),\"\")","v":""},{"$f":"IF($K88=照射試料の誘導放射能の計算書!$B$32&照射試料の誘導放射能の計算書!$D$32,COUNTIF($K88:$K346,照射試料の誘導放射能の計算書!$B$32&照射試料の誘導放射能の計算書!$D$32),\"\")","v":""},{"$f":"IF($K88=照射試料の誘導放射能の計算書!$B$33&照射試料の誘導放射能の計算書!$D$33,COUNTIF($K88:$K346,照射試料の誘導放射能の計算書!$B$33&照射試料の誘導放射能の計算書!$D$33),\"\")","v":""},{"$f":"IF($K88=照射試料の誘導放射能の計算書!$B$34&照射試料の誘導放射能の計算書!$D$34,COUNTIF($K88:$K346,照射試料の誘導放射能の計算書!$B$34&照射試料の誘導放射能の計算書!$D$34),\"\")","v":""},{"$f":"IF($K88=照射試料の誘導放射能の計算書!$B$35&照射試料の誘導放射能の計算書!$D$35,COUNTIF($K88:$K346,照射試料の誘導放射能の計算書!$B$35&照射試料の誘導放射能の計算書!$D$35),\"\")","v":""},{"$f":"IF($K88=照射試料の誘導放射能の計算書!$B$36&照射試料の誘導放射能の計算書!$D$36,COUNTIF($K88:$K346,照射試料の誘導放射能の計算書!$B$36&照射試料の誘導放射能の計算書!$D$36),\"\")","v":""},{"$f":"IF($K88=照射試料の誘導放射能の計算書!$B$37&照射試料の誘導放射能の計算書!$D$37,COUNTIF($K88:$K346,照射試料の誘導放射能の計算書!$B$37&照射試料の誘導放射能の計算書!$D$37),\"\")","v":""},{"$f":"IF($K88=照射試料の誘導放射能の計算書!$B$38&照射試料の誘導放射能の計算書!$D$38,COUNTIF($K88:$K346,照射試料の誘導放射能の計算書!$B$38&照射試料の誘導放射能の計算書!$D$38),\"\")","v":""},{"$f":"IF($K88=照射試料の誘導放射能の計算書!$B$39&照射試料の誘導放射能の計算書!$D$39,COUNTIF($K88:$K346,照射試料の誘導放射能の計算書!$B$39&照射試料の誘導放射能の計算書!$D$39),\"\")","v":""},{"$f":"IF($K88=照射試料の誘導放射能の計算書!$B$40&照射試料の誘導放射能の計算書!$D$40,COUNTIF($K88:$K346,照射試料の誘導放射能の計算書!$B$40&照射試料の誘導放射能の計算書!$D$40),\"\")","v":""},"Zr-93","(n,γ)Zr-93",0.26,1500000,"y"]
[40,"Cd-116","Zr",94,"Zr-94",17.38,"(n,γ)","Zr95","Zr",{"$f":"RIGHT(H89,2)","v":"95"},"Zr-94(n,γ)",{"$f":"IF($K89=照射試料の誘導放射能の計算書!$B$31&照射試料の誘導放射能の計算書!$D$31,COUNTIF($K89:$K347,照射試料の誘導放射能の計算書!$B$31&照射試料の誘導放射能の計算書!$D$31),\"\")","v":""},{"$f":"IF($K89=照射試料の誘導放射能の計算書!$B$32&照射試料の誘導放射能の計算書!$D$32,COUNTIF($K89:$K347,照射試料の誘導放射能の計算書!$B$32&照射試料の誘導放射能の計算書!$D$32),\"\")","v":""},{"$f":"IF($K89=照射試料の誘導放射能の計算書!$B$33&照射試料の誘導放射能の計算書!$D$33,COUNTIF($K89:$K347,照射試料の誘導放射能の計算書!$B$33&照射試料の誘導放射能の計算書!$D$33),\"\")","v":""},{"$f":"IF($K89=照射試料の誘導放射能の計算書!$B$34&照射試料の誘導放射能の計算書!$D$34,COUNTIF($K89:$K347,照射試料の誘導放射能の計算書!$B$34&照射試料の誘導放射能の計算書!$D$34),\"\")","v":""},{"$f":"IF($K89=照射試料の誘導放射能の計算書!$B$35&照射試料の誘導放射能の計算書!$D$35,COUNTIF($K89:$K347,照射試料の誘導放射能の計算書!$B$35&照射試料の誘導放射能の計算書!$D$35),\"\")","v":""},{"$f":"IF($K89=照射試料の誘導放射能の計算書!$B$36&照射試料の誘導放射能の計算書!$D$36,COUNTIF($K89:$K347,照射試料の誘導放射能の計算書!$B$36&照射試料の誘導放射能の計算書!$D$36),\"\")","v":""},{"$f":"IF($K89=照射試料の誘導放射能の計算書!$B$37&照射試料の誘導放射能の計算書!$D$37,COUNTIF($K89:$K347,照射試料の誘導放射能の計算書!$B$37&照射試料の誘導放射能の計算書!$D$37),\"\")","v":""},{"$f":"IF($K89=照射試料の誘導放射能の計算書!$B$38&照射試料の誘導放射能の計算書!$D$38,COUNTIF($K89:$K347,照射試料の誘導放射能の計算書!$B$38&照射試料の誘導放射能の計算書!$D$38),\"\")","v":""},{"$f":"IF($K89=照射試料の誘導放射能の計算書!$B$39&照射試料の誘導放射能の計算書!$D$39,COUNTIF($K89:$K347,照射試料の誘導放射能の計算書!$B$39&照射試料の誘導放射能の計算書!$D$39),\"\")","v":""},{"$f":"IF($K89=照射試料の誘導放射能の計算書!$B$40&照射試料の誘導放射能の計算書!$D$40,COUNTIF($K89:$K347,照射試料の誘導放射能の計算書!$B$40&照射試料の誘導放射能の計算書!$D$40),\"\")","v":""},"Zr-95","(n,γ)Zr-95",5.6000000000000001E-2,64,"d"]
[40,"In-113","Zr",96,"Zr-96",2.8,"(n,γ)","Zr97","Zr",{"$f":"RIGHT(H90,2)","v":"97"},"Zr-96(n,γ)",{"$f":"IF($K90=照射試料の誘導放射能の計算書!$B$31&照射試料の誘導放射能の計算書!$D$31,COUNTIF($K90:$K348,照射試料の誘導放射能の計算書!$B$31&照射試料の誘導放射能の計算書!$D$31),\"\")","v":""},{"$f":"IF($K90=照射試料の誘導放射能の計算書!$B$32&照射試料の誘導放射能の計算書!$D$32,COUNTIF($K90:$K348,照射試料の誘導放射能の計算書!$B$32&照射試料の誘導放射能の計算書!$D$32),\"\")","v":""},{"$f":"IF($K90=照射試料の誘導放射能の計算書!$B$33&照射試料の誘導放射能の計算書!$D$33,COUNTIF($K90:$K348,照射試料の誘導放射能の計算書!$B$33&照射試料の誘導放射能の計算書!$D$33),\"\")","v":""},{"$f":"IF($K90=照射試料の誘導放射能の計算書!$B$34&照射試料の誘導放射能の計算書!$D$34,COUNTIF($K90:$K348,照射試料の誘導放射能の計算書!$B$34&照射試料の誘導放射能の計算書!$D$34),\"\")","v":""},{"$f":"IF($K90=照射試料の誘導放射能の計算書!$B$35&照射試料の誘導放射能の計算書!$D$35,COUNTIF($K90:$K348,照射試料の誘導放射能の計算書!$B$35&照射試料の誘導放射能の計算書!$D$35),\"\")","v":""},{"$f":"IF($K90=照射試料の誘導放射能の計算書!$B$36&照射試料の誘導放射能の計算書!$D$36,COUNTIF($K90:$K348,照射試料の誘導放射能の計算書!$B$36&照射試料の誘導放射能の計算書!$D$36),\"\")","v":""},{"$f":"IF($K90=照射試料の誘導放射能の計算書!$B$37&照射試料の誘導放射能の計算書!$D$37,COUNTIF($K90:$K348,照射試料の誘導放射能の計算書!$B$37&照射試料の誘導放射能の計算書!$D$37),\"\")","v":""},{"$f":"IF($K90=照射試料の誘導放射能の計算書!$B$38&照射試料の誘導放射能の計算書!$D$38,COUNTIF($K90:$K348,照射試料の誘導放射能の計算書!$B$38&照射試料の誘導放射能の計算書!$D$38),\"\")","v":""},{"$f":"IF($K90=照射試料の誘導放射能の計算書!$B$39&照射試料の誘導放射能の計算書!$D$39,COUNTIF($K90:$K348,照射試料の誘導放射能の計算書!$B$39&照射試料の誘導放射能の計算書!$D$39),\"\")","v":""},{"$f":"IF($K90=照射試料の誘導放射能の計算書!$B$40&照射試料の誘導放射能の計算書!$D$40,COUNTIF($K90:$K348,照射試料の誘導放射能の計算書!$B$40&照射試料の誘導放射能の計算書!$D$40),\"\")","v":""},"Zr-97","(n,γ)Zr-97",1.7000000000000001E-2,16.8,"h"]
[41,"In-115","Nb",93,"Nb-93",100,"(n,γ)","Nb94","Nb",{"$f":"RIGHT(H91,2)","v":"94"},"Nb-93(n,γ)",{"$f":"IF($K91=照射試料の誘導放射能の計算書!$B$31&照射試料の誘導放射能の計算書!$D$31,COUNTIF($K91:$K349,照射試料の誘導放射能の計算書!$B$31&照射試料の誘導放射能の計算書!$D$31),\"\")","v":""},{"$f":"IF($K91=照射試料の誘導放射能の計算書!$B$32&照射試料の誘導放射能の計算書!$D$32,COUNTIF($K91:$K349,照射試料の誘導放射能の計算書!$B$32&照射試料の誘導放射能の計算書!$D$32),\"\")","v":""},{"$f":"IF($K91=照射試料の誘導放射能の計算書!$B$33&照射試料の誘導放射能の計算書!$D$33,COUNTIF($K91:$K349,照射試料の誘導放射能の計算書!$B$33&照射試料の誘導放射能の計算書!$D$33),\"\")","v":""},{"$f":"IF($K91=照射試料の誘導放射能の計算書!$B$34&照射試料の誘導放射能の計算書!$D$34,COUNTIF($K91:$K349,照射試料の誘導放射能の計算書!$B$34&照射試料の誘導放射能の計算書!$D$34),\"\")","v":""},{"$f":"IF($K91=照射試料の誘導放射能の計算書!$B$35&照射試料の誘導放射能の計算書!$D$35,COUNTIF($K91:$K349,照射試料の誘導放射能の計算書!$B$35&照射試料の誘導放射能の計算書!$D$35),\"\")","v":""},{"$f":"IF($K91=照射試料の誘導放射能の計算書!$B$36&照射試料の誘導放射能の計算書!$D$36,COUNTIF($K91:$K349,照射試料の誘導放射能の計算書!$B$36&照射試料の誘導放射能の計算書!$D$36),\"\")","v":""},{"$f":"IF($K91=照射試料の誘導放射能の計算書!$B$37&照射試料の誘導放射能の計算書!$D$37,COUNTIF($K91:$K349,照射試料の誘導放射能の計算書!$B$37&照射試料の誘導放射能の計算書!$D$37),\"\")","v":""},{"$f":"IF($K91=照射試料の誘導放射能の計算書!$B$38&照射試料の誘導放射能の計算書!$D$38,COUNTIF($K91:$K349,照射試料の誘導放射能の計算書!$B$38&照射試料の誘導放射能の計算書!$D$38),\"\")","v":""},{"$f":"IF($K91=照射試料の誘導放射能の計算書!$B$39&照射試料の誘導放射能の計算書!$D$39,COUNTIF($K91:$K349,照射試料の誘導放射能の計算書!$B$39&照射試料の誘導放射能の計算書!$D$39),\"\")","v":""},{"$f":"IF($K91=照射試料の誘導放射能の計算書!$B$40&照射試料の誘導放射能の計算書!$D$40,COUNTIF($K91:$K349,照射試料の誘導放射能の計算書!$B$40&照射試料の誘導放射能の計算書!$D$40),\"\")","v":""},"Nb-94","(n,γ)Nb-94",1.1499999999999999,20000,"y"]
[41,"Sn-112","Nb",93,"Nb-93",100,"(n,γ)","Nb94m","Nb",{"$f":"RIGHT(H92,3)","v":"94m"},"Nb-93(n,γ)",{"$f":"IF($K92=照射試料の誘導放射能の計算書!$B$31&照射試料の誘導放射能の計算書!$D$31,COUNTIF($K92:$K350,照射試料の誘導放射能の計算書!$B$31&照射試料の誘導放射能の計算書!$D$31),\"\")","v":""},{"$f":"IF($K92=照射試料の誘導放射能の計算書!$B$32&照射試料の誘導放射能の計算書!$D$32,COUNTIF($K92:$K350,照射試料の誘導放射能の計算書!$B$32&照射試料の誘導放射能の計算書!$D$32),\"\")","v":""},{"$f":"IF($K92=照射試料の誘導放射能の計算書!$B$33&照射試料の誘導放射能の計算書!$D$33,COUNTIF($K92:$K350,照射試料の誘導放射能の計算書!$B$33&照射試料の誘導放射能の計算書!$D$33),\"\")","v":""},{"$f":"IF($K92=照射試料の誘導放射能の計算書!$B$34&照射試料の誘導放射能の計算書!$D$34,COUNTIF($K92:$K350,照射試料の誘導放射能の計算書!$B$34&照射試料の誘導放射能の計算書!$D$34),\"\")","v":""},{"$f":"IF($K92=照射試料の誘導放射能の計算書!$B$35&照射試料の誘導放射能の計算書!$D$35,COUNTIF($K92:$K350,照射試料の誘導放射能の計算書!$B$35&照射試料の誘導放射能の計算書!$D$35),\"\")","v":""},{"$f":"IF($K92=照射試料の誘導放射能の計算書!$B$36&照射試料の誘導放射能の計算書!$D$36,COUNTIF($K92:$K350,照射試料の誘導放射能の計算書!$B$36&照射試料の誘導放射能の計算書!$D$36),\"\")","v":""},{"$f":"IF($K92=照射試料の誘導放射能の計算書!$B$37&照射試料の誘導放射能の計算書!$D$37,COUNTIF($K92:$K350,照射試料の誘導放射能の計算書!$B$37&照射試料の誘導放射能の計算書!$D$37),\"\")","v":""},{"$f":"IF($K92=照射試料の誘導放射能の計算書!$B$38&照射試料の誘導放射能の計算書!$D$38,COUNTIF($K92:$K350,照射試料の誘導放射能の計算書!$B$38&照射試料の誘導放射能の計算書!$D$38),\"\")","v":""},{"$f":"IF($K92=照射試料の誘導放射能の計算書!$B$39&照射試料の誘導放射能の計算書!$D$39,COUNTIF($K92:$K350,照射試料の誘導放射能の計算書!$B$39&照射試料の誘導放射能の計算書!$D$39),\"\")","v":""},{"$f":"IF($K92=照射試料の誘導放射能の計算書!$B$40&照射試料の誘導放射能の計算書!$D$40,COUNTIF($K92:$K350,照射試料の誘導放射能の計算書!$B$40&照射試料の誘導放射能の計算書!$D$40),\"\")","v":""},"Nb-94m","(n,γ)Nb-94m",1,6.26,"min"]
[42,"Sn-120","Mo",98,"Mo-98",24.13,"(n,γ)","Mo99","Mo",{"$f":"RIGHT(H93,2)","v":"99"},"Mo-98(n,γ)",{"$f":"IF($K93=照射試料の誘導放射能の計算書!$B$31&照射試料の誘導放射能の計算書!$D$31,COUNTIF($K93:$K351,照射試料の誘導放射能の計算書!$B$31&照射試料の誘導放射能の計算書!$D$31),\"\")","v":""},{"$f":"IF($K93=照射試料の誘導放射能の計算書!$B$32&照射試料の誘導放射能の計算書!$D$32,COUNTIF($K93:$K351,照射試料の誘導放射能の計算書!$B$32&照射試料の誘導放射能の計算書!$D$32),\"\")","v":""},{"$f":"IF($K93=照射試料の誘導放射能の計算書!$B$33&照射試料の誘導放射能の計算書!$D$33,COUNTIF($K93:$K351,照射試料の誘導放射能の計算書!$B$33&照射試料の誘導放射能の計算書!$D$33),\"\")","v":""},{"$f":"IF($K93=照射試料の誘導放射能の計算書!$B$34&照射試料の誘導放射能の計算書!$D$34,COUNTIF($K93:$K351,照射試料の誘導放射能の計算書!$B$34&照射試料の誘導放射能の計算書!$D$34),\"\")","v":""},{"$f":"IF($K93=照射試料の誘導放射能の計算書!$B$35&照射試料の誘導放射能の計算書!$D$35,COUNTIF($K93:$K351,照射試料の誘導放射能の計算書!$B$35&照射試料の誘導放射能の計算書!$D$35),\"\")","v":""},{"$f":"IF($K93=照射試料の誘導放射能の計算書!$B$36&照射試料の誘導放射能の計算書!$D$36,COUNTIF($K93:$K351,照射試料の誘導放射能の計算書!$B$36&照射試料の誘導放射能の計算書!$D$36),\"\")","v":""},{"$f":"IF($K93=照射試料の誘導放射能の計算書!$B$37&照射試料の誘導放射能の計算書!$D$37,COUNTIF($K93:$K351,照射試料の誘導放射能の計算書!$B$37&照射試料の誘導放射能の計算書!$D$37),\"\")","v":""},{"$f":"IF($K93=照射試料の誘導放射能の計算書!$B$38&照射試料の誘導放射能の計算書!$D$38,COUNTIF($K93:$K351,照射試料の誘導放射能の計算書!$B$38&照射試料の誘導放射能の計算書!$D$38),\"\")","v":""},{"$f":"IF($K93=照射試料の誘導放射能の計算書!$B$39&照射試料の誘導放射能の計算書!$D$39,COUNTIF($K93:$K351,照射試料の誘導放射能の計算書!$B$39&照射試料の誘導放射能の計算書!$D$39),\"\")","v":""},{"$f":"IF($K93=照射試料の誘導放射能の計算書!$B$40&照射試料の誘導放射能の計算書!$D$40,COUNTIF($K93:$K351,照射試料の誘導放射能の計算書!$B$40&照射試料の誘導放射能の計算書!$D$40),\"\")","v":""},"Mo-99","(n,γ)Mo-99",0.13,66,"h"]
[42,"Sn-122","Mo",100,"Mo-100",9.6300000000000008,"(n,γ)","Mo101","Mo",{"$f":"RIGHT(H94,3)","v":"101"},"Mo-100(n,γ)",{"$f":"IF($K94=照射試料の誘導放射能の計算書!$B$31&照射試料の誘導放射能の計算書!$D$31,COUNTIF($K94:$K352,照射試料の誘導放射能の計算書!$B$31&照射試料の誘導放射能の計算書!$D$31),\"\")","v":""},{"$f":"IF($K94=照射試料の誘導放射能の計算書!$B$32&照射試料の誘導放射能の計算書!$D$32,COUNTIF($K94:$K352,照射試料の誘導放射能の計算書!$B$32&照射試料の誘導放射能の計算書!$D$32),\"\")","v":""},{"$f":"IF($K94=照射試料の誘導放射能の計算書!$B$33&照射試料の誘導放射能の計算書!$D$33,COUNTIF($K94:$K352,照射試料の誘導放射能の計算書!$B$33&照射試料の誘導放射能の計算書!$D$33),\"\")","v":""},{"$f":"IF($K94=照射試料の誘導放射能の計算書!$B$34&照射試料の誘導放射能の計算書!$D$34,COUNTIF($K94:$K352,照射試料の誘導放射能の計算書!$B$34&照射試料の誘導放射能の計算書!$D$34),\"\")","v":""},{"$f":"IF($K94=照射試料の誘導放射能の計算書!$B$35&照射試料の誘導放射能の計算書!$D$35,COUNTIF($K94:$K352,照射試料の誘導放射能の計算書!$B$35&照射試料の誘導放射能の計算書!$D$35),\"\")","v":""},{"$f":"IF($K94=照射試料の誘導放射能の計算書!$B$36&照射試料の誘導放射能の計算書!$D$36,COUNTIF($K94:$K352,照射試料の誘導放射能の計算書!$B$36&照射試料の誘導放射能の計算書!$D$36),\"\")","v":""},{"$f":"IF($K94=照射試料の誘導放射能の計算書!$B$37&照射試料の誘導放射能の計算書!$D$37,COUNTIF($K94:$K352,照射試料の誘導放射能の計算書!$B$37&照射試料の誘導放射能の計算書!$D$37),\"\")","v":""},{"$f":"IF($K94=照射試料の誘導放射能の計算書!$B$38&照射試料の誘導放射能の計算書!$D$38,COUNTIF($K94:$K352,照射試料の誘導放射能の計算書!$B$38&照射試料の誘導放射能の計算書!$D$38),\"\")","v":""},{"$f":"IF($K94=照射試料の誘導放射能の計算書!$B$39&照射試料の誘導放射能の計算書!$D$39,COUNTIF($K94:$K352,照射試料の誘導放射能の計算書!$B$39&照射試料の誘導放射能の計算書!$D$39),\"\")","v":""},{"$f":"IF($K94=照射試料の誘導放射能の計算書!$B$40&照射試料の誘導放射能の計算書!$D$40,COUNTIF($K94:$K352,照射試料の誘導放射能の計算書!$B$40&照射試料の誘導放射能の計算書!$D$40),\"\")","v":""},"Mo-101","(n,γ)Mo-101",0.19,14.6,"min"]
[44,"Sn-124","Ru",96,"Ru-96",5.52,"(n,γ)","Ru97","Ru",{"$f":"RIGHT(H95,2)","v":"97"},"Ru-96(n,γ)",{"$f":"IF($K95=照射試料の誘導放射能の計算書!$B$31&照射試料の誘導放射能の計算書!$D$31,COUNTIF($K95:$K353,照射試料の誘導放射能の計算書!$B$31&照射試料の誘導放射能の計算書!$D$31),\"\")","v":""},{"$f":"IF($K95=照射試料の誘導放射能の計算書!$B$32&照射試料の誘導放射能の計算書!$D$32,COUNTIF($K95:$K353,照射試料の誘導放射能の計算書!$B$32&照射試料の誘導放射能の計算書!$D$32),\"\")","v":""},{"$f":"IF($K95=照射試料の誘導放射能の計算書!$B$33&照射試料の誘導放射能の計算書!$D$33,COUNTIF($K95:$K353,照射試料の誘導放射能の計算書!$B$33&照射試料の誘導放射能の計算書!$D$33),\"\")","v":""},{"$f":"IF($K95=照射試料の誘導放射能の計算書!$B$34&照射試料の誘導放射能の計算書!$D$34,COUNTIF($K95:$K353,照射試料の誘導放射能の計算書!$B$34&照射試料の誘導放射能の計算書!$D$34),\"\")","v":""},{"$f":"IF($K95=照射試料の誘導放射能の計算書!$B$35&照射試料の誘導放射能の計算書!$D$35,COUNTIF($K95:$K353,照射試料の誘導放射能の計算書!$B$35&照射試料の誘導放射能の計算書!$D$35),\"\")","v":""},{"$f":"IF($K95=照射試料の誘導放射能の計算書!$B$36&照射試料の誘導放射能の計算書!$D$36,COUNTIF($K95:$K353,照射試料の誘導放射能の計算書!$B$36&照射試料の誘導放射能の計算書!$D$36),\"\")","v":""},{"$f":"IF($K95=照射試料の誘導放射能の計算書!$B$37&照射試料の誘導放射能の計算書!$D$37,COUNTIF($K95:$K353,照射試料の誘導放射能の計算書!$B$37&照射試料の誘導放射能の計算書!$D$37),\"\")","v":""},{"$f":"IF($K95=照射試料の誘導放射能の計算書!$B$38&照射試料の誘導放射能の計算書!$D$38,COUNTIF($K95:$K353,照射試料の誘導放射能の計算書!$B$38&照射試料の誘導放射能の計算書!$D$38),\"\")","v":""},{"$f":"IF($K95=照射試料の誘導放射能の計算書!$B$39&照射試料の誘導放射能の計算書!$D$39,COUNTIF($K95:$K353,照射試料の誘導放射能の計算書!$B$39&照射試料の誘導放射能の計算書!$D$39),\"\")","v":""},{"$f":"IF($K95=照射試料の誘導放射能の計算書!$B$40&照射試料の誘導放射能の計算書!$D$40,COUNTIF($K95:$K353,照射試料の誘導放射能の計算書!$B$40&照射試料の誘導放射能の計算書!$D$40),\"\")","v":""},"Ru-97","(n,γ)Ru-97",0.25,2.9,"d"]
[44,"Sb-121","Ru",102,"Ru-102",31.6,"(n,γ)","Ru103","Ru",{"$f":"RIGHT(H96,3)","v":"103"},"Ru-102(n,γ)",{"$f":"IF($K96=照射試料の誘導放射能の計算書!$B$31&照射試料の誘導放射能の計算書!$D$31,COUNTIF($K96:$K354,照射試料の誘導放射能の計算書!$B$31&照射試料の誘導放射能の計算書!$D$31),\"\")","v":""},{"$f":"IF($K96=照射試料の誘導放射能の計算書!$B$32&照射試料の誘導放射能の計算書!$D$32,COUNTIF($K96:$K354,照射試料の誘導放射能の計算書!$B$32&照射試料の誘導放射能の計算書!$D$32),\"\")","v":""},{"$f":"IF($K96=照射試料の誘導放射能の計算書!$B$33&照射試料の誘導放射能の計算書!$D$33,COUNTIF($K96:$K354,照射試料の誘導放射能の計算書!$B$33&照射試料の誘導放射能の計算書!$D$33),\"\")","v":""},{"$f":"IF($K96=照射試料の誘導放射能の計算書!$B$34&照射試料の誘導放射能の計算書!$D$34,COUNTIF($K96:$K354,照射試料の誘導放射能の計算書!$B$34&照射試料の誘導放射能の計算書!$D$34),\"\")","v":""},{"$f":"IF($K96=照射試料の誘導放射能の計算書!$B$35&照射試料の誘導放射能の計算書!$D$35,COUNTIF($K96:$K354,照射試料の誘導放射能の計算書!$B$35&照射試料の誘導放射能の計算書!$D$35),\"\")","v":""},{"$f":"IF($K96=照射試料の誘導放射能の計算書!$B$36&照射試料の誘導放射能の計算書!$D$36,COUNTIF($K96:$K354,照射試料の誘導放射能の計算書!$B$36&照射試料の誘導放射能の計算書!$D$36),\"\")","v":""},{"$f":"IF($K96=照射試料の誘導放射能の計算書!$B$37&照射試料の誘導放射能の計算書!$D$37,COUNTIF($K96:$K354,照射試料の誘導放射能の計算書!$B$37&照射試料の誘導放射能の計算書!$D$37),\"\")","v":""},{"$f":"IF($K96=照射試料の誘導放射能の計算書!$B$38&照射試料の誘導放射能の計算書!$D$38,COUNTIF($K96:$K354,照射試料の誘導放射能の計算書!$B$38&照射試料の誘導放射能の計算書!$D$38),\"\")","v":""},{"$f":"IF($K96=照射試料の誘導放射能の計算書!$B$39&照射試料の誘導放射能の計算書!$D$39,COUNTIF($K96:$K354,照射試料の誘導放射能の計算書!$B$39&照射試料の誘導放射能の計算書!$D$39),\"\")","v":""},{"$f":"IF($K96=照射試料の誘導放射能の計算書!$B$40&照射試料の誘導放射能の計算書!$D$40,COUNTIF($K96:$K354,照射試料の誘導放射能の計算書!$B$40&照射試料の誘導放射能の計算書!$D$40),\"\")","v":""},"Ru-103","(n,γ)Ru-103",1.3,39.5,"d"]
[44,"Sb-123","Ru",104,"Ru-104",18.7,"(n,γ)","Ru105","Ru",{"$f":"RIGHT(H97,3)","v":"105"},"Ru-104(n,γ)",{"$f":"IF($K97=照射試料の誘導放射能の計算書!$B$31&照射試料の誘導放射能の計算書!$D$31,COUNTIF($K97:$K355,照射試料の誘導放射能の計算書!$B$31&照射試料の誘導放射能の計算書!$D$31),\"\")","v":""},{"$f":"IF($K97=照射試料の誘導放射能の計算書!$B$32&照射試料の誘導放射能の計算書!$D$32,COUNTIF($K97:$K355,照射試料の誘導放射能の計算書!$B$32&照射試料の誘導放射能の計算書!$D$32),\"\")","v":""},{"$f":"IF($K97=照射試料の誘導放射能の計算書!$B$33&照射試料の誘導放射能の計算書!$D$33,COUNTIF($K97:$K355,照射試料の誘導放射能の計算書!$B$33&照射試料の誘導放射能の計算書!$D$33),\"\")","v":""},{"$f":"IF($K97=照射試料の誘導放射能の計算書!$B$34&照射試料の誘導放射能の計算書!$D$34,COUNTIF($K97:$K355,照射試料の誘導放射能の計算書!$B$34&照射試料の誘導放射能の計算書!$D$34),\"\")","v":""},{"$f":"IF($K97=照射試料の誘導放射能の計算書!$B$35&照射試料の誘導放射能の計算書!$D$35,COUNTIF($K97:$K355,照射試料の誘導放射能の計算書!$B$35&照射試料の誘導放射能の計算書!$D$35),\"\")","v":""},{"$f":"IF($K97=照射試料の誘導放射能の計算書!$B$36&照射試料の誘導放射能の計算書!$D$36,COUNTIF($K97:$K355,照射試料の誘導放射能の計算書!$B$36&照射試料の誘導放射能の計算書!$D$36),\"\")","v":""},{"$f":"IF($K97=照射試料の誘導放射能の計算書!$B$37&照射試料の誘導放射能の計算書!$D$37,COUNTIF($K97:$K355,照射試料の誘導放射能の計算書!$B$37&照射試料の誘導放射能の計算書!$D$37),\"\")","v":""},{"$f":"IF($K97=照射試料の誘導放射能の計算書!$B$38&照射試料の誘導放射能の計算書!$D$38,COUNTIF($K97:$K355,照射試料の誘導放射能の計算書!$B$38&照射試料の誘導放射能の計算書!$D$38),\"\")","v":""},{"$f":"IF($K97=照射試料の誘導放射能の計算書!$B$39&照射試料の誘導放射能の計算書!$D$39,COUNTIF($K97:$K355,照射試料の誘導放射能の計算書!$B$39&照射試料の誘導放射能の計算書!$D$39),\"\")","v":""},{"$f":"IF($K97=照射試料の誘導放射能の計算書!$B$40&照射試料の誘導放射能の計算書!$D$40,COUNTIF($K97:$K355,照射試料の誘導放射能の計算書!$B$40&照射試料の誘導放射能の計算書!$D$40),\"\")","v":""},"Ru-105","(n,γ)Ru-105",0.47,4.4400000000000004,"h"]
[45,"Te-120","Rh",103,"Rh-103",100,"(n,γ)","Rh104","Rh",{"$f":"RIGHT(H98,3)","v":"104"},"Rh-103(n,γ)",{"$f":"IF($K98=照射試料の誘導放射能の計算書!$B$31&照射試料の誘導放射能の計算書!$D$31,COUNTIF($K98:$K356,照射試料の誘導放射能の計算書!$B$31&照射試料の誘導放射能の計算書!$D$31),\"\")","v":""},{"$f":"IF($K98=照射試料の誘導放射能の計算書!$B$32&照射試料の誘導放射能の計算書!$D$32,COUNTIF($K98:$K356,照射試料の誘導放射能の計算書!$B$32&照射試料の誘導放射能の計算書!$D$32),\"\")","v":""},{"$f":"IF($K98=照射試料の誘導放射能の計算書!$B$33&照射試料の誘導放射能の計算書!$D$33,COUNTIF($K98:$K356,照射試料の誘導放射能の計算書!$B$33&照射試料の誘導放射能の計算書!$D$33),\"\")","v":""},{"$f":"IF($K98=照射試料の誘導放射能の計算書!$B$34&照射試料の誘導放射能の計算書!$D$34,COUNTIF($K98:$K356,照射試料の誘導放射能の計算書!$B$34&照射試料の誘導放射能の計算書!$D$34),\"\")","v":""},{"$f":"IF($K98=照射試料の誘導放射能の計算書!$B$35&照射試料の誘導放射能の計算書!$D$35,COUNTIF($K98:$K356,照射試料の誘導放射能の計算書!$B$35&照射試料の誘導放射能の計算書!$D$35),\"\")","v":""},{"$f":"IF($K98=照射試料の誘導放射能の計算書!$B$36&照射試料の誘導放射能の計算書!$D$36,COUNTIF($K98:$K356,照射試料の誘導放射能の計算書!$B$36&照射試料の誘導放射能の計算書!$D$36),\"\")","v":""},{"$f":"IF($K98=照射試料の誘導放射能の計算書!$B$37&照射試料の誘導放射能の計算書!$D$37,COUNTIF($K98:$K356,照射試料の誘導放射能の計算書!$B$37&照射試料の誘導放射能の計算書!$D$37),\"\")","v":""},{"$f":"IF($K98=照射試料の誘導放射能の計算書!$B$38&照射試料の誘導放射能の計算書!$D$38,COUNTIF($K98:$K356,照射試料の誘導放射能の計算書!$B$38&照射試料の誘導放射能の計算書!$D$38),\"\")","v":""},{"$f":"IF($K98=照射試料の誘導放射能の計算書!$B$39&照射試料の誘導放射能の計算書!$D$39,COUNTIF($K98:$K356,照射試料の誘導放射能の計算書!$B$39&照射試料の誘導放射能の計算書!$D$39),\"\")","v":""},{"$f":"IF($K98=照射試料の誘導放射能の計算書!$B$40&照射試料の誘導放射能の計算書!$D$40,COUNTIF($K98:$K356,照射試料の誘導放射能の計算書!$B$40&照射試料の誘導放射能の計算書!$D$40),\"\")","v":""},"Rh-104","(n,γ)Rh-104",139,42,"s"]
[45,"Te-122","Rh",103,"Rh-103",100,"(n,γ)","Rh104m","Rh",{"$f":"RIGHT(H99,4)","v":"104m"},"Rh-103(n,γ)",{"$f":"IF($K99=照射試料の誘導放射能の計算書!$B$31&照射試料の誘導放射能の計算書!$D$31,COUNTIF($K99:$K357,照射試料の誘導放射能の計算書!$B$31&照射試料の誘導放射能の計算書!$D$31),\"\")","v":""},{"$f":"IF($K99=照射試料の誘導放射能の計算書!$B$32&照射試料の誘導放射能の計算書!$D$32,COUNTIF($K99:$K357,照射試料の誘導放射能の計算書!$B$32&照射試料の誘導放射能の計算書!$D$32),\"\")","v":""},{"$f":"IF($K99=照射試料の誘導放射能の計算書!$B$33&照射試料の誘導放射能の計算書!$D$33,COUNTIF($K99:$K357,照射試料の誘導放射能の計算書!$B$33&照射試料の誘導放射能の計算書!$D$33),\"\")","v":""},{"$f":"IF($K99=照射試料の誘導放射能の計算書!$B$34&照射試料の誘導放射能の計算書!$D$34,COUNTIF($K99:$K357,照射試料の誘導放射能の計算書!$B$34&照射試料の誘導放射能の計算書!$D$34),\"\")","v":""},{"$f":"IF($K99=照射試料の誘導放射能の計算書!$B$35&照射試料の誘導放射能の計算書!$D$35,COUNTIF($K99:$K357,照射試料の誘導放射能の計算書!$B$35&照射試料の誘導放射能の計算書!$D$35),\"\")","v":""},{"$f":"IF($K99=照射試料の誘導放射能の計算書!$B$36&照射試料の誘導放射能の計算書!$D$36,COUNTIF($K99:$K357,照射試料の誘導放射能の計算書!$B$36&照射試料の誘導放射能の計算書!$D$36),\"\")","v":""},{"$f":"IF($K99=照射試料の誘導放射能の計算書!$B$37&照射試料の誘導放射能の計算書!$D$37,COUNTIF($K99:$K357,照射試料の誘導放射能の計算書!$B$37&照射試料の誘導放射能の計算書!$D$37),\"\")","v":""},{"$f":"IF($K99=照射試料の誘導放射能の計算書!$B$38&照射試料の誘導放射能の計算書!$D$38,COUNTIF($K99:$K357,照射試料の誘導放射能の計算書!$B$38&照射試料の誘導放射能の計算書!$D$38),\"\")","v":""},{"$f":"IF($K99=照射試料の誘導放射能の計算書!$B$39&照射試料の誘導放射能の計算書!$D$39,COUNTIF($K99:$K357,照射試料の誘導放射能の計算書!$B$39&照射試料の誘導放射能の計算書!$D$39),\"\")","v":""},{"$f":"IF($K99=照射試料の誘導放射能の計算書!$B$40&照射試料の誘導放射能の計算書!$D$40,COUNTIF($K99:$K357,照射試料の誘導放射能の計算書!$B$40&照射試料の誘導放射能の計算書!$D$40),\"\")","v":""},"Rh-104m","(n,γ)Rh-104m",11,4.4000000000000004,"min"]
[46,"Te-124","Pd",102,"Pd-102",1.02,"(n,γ)","Pd103","Pd",{"$f":"RIGHT(H100,3)","v":"103"},"Pd-102(n,γ)",{"$f":"IF($K100=照射試料の誘導放射能の計算書!$B$31&照射試料の誘導放射能の計算書!$D$31,COUNTIF($K100:$K358,照射試料の誘導放射能の計算書!$B$31&照射試料の誘導放射能の計算書!$D$31),\"\")","v":""},{"$f":"IF($K100=照射試料の誘導放射能の計算書!$B$32&照射試料の誘導放射能の計算書!$D$32,COUNTIF($K100:$K358,照射試料の誘導放射能の計算書!$B$32&照射試料の誘導放射能の計算書!$D$32),\"\")","v":""},{"$f":"IF($K100=照射試料の誘導放射能の計算書!$B$33&照射試料の誘導放射能の計算書!$D$33,COUNTIF($K100:$K358,照射試料の誘導放射能の計算書!$B$33&照射試料の誘導放射能の計算書!$D$33),\"\")","v":""},{"$f":"IF($K100=照射試料の誘導放射能の計算書!$B$34&照射試料の誘導放射能の計算書!$D$34,COUNTIF($K100:$K358,照射試料の誘導放射能の計算書!$B$34&照射試料の誘導放射能の計算書!$D$34),\"\")","v":""},{"$f":"IF($K100=照射試料の誘導放射能の計算書!$B$35&照射試料の誘導放射能の計算書!$D$35,COUNTIF($K100:$K358,照射試料の誘導放射能の計算書!$B$35&照射試料の誘導放射能の計算書!$D$35),\"\")","v":""},{"$f":"IF($K100=照射試料の誘導放射能の計算書!$B$36&照射試料の誘導放射能の計算書!$D$36,COUNTIF($K100:$K358,照射試料の誘導放射能の計算書!$B$36&照射試料の誘導放射能の計算書!$D$36),\"\")","v":""},{"$f":"IF($K100=照射試料の誘導放射能の計算書!$B$37&照射試料の誘導放射能の計算書!$D$37,COUNTIF($K100:$K358,照射試料の誘導放射能の計算書!$B$37&照射試料の誘導放射能の計算書!$D$37),\"\")","v":""},{"$f":"IF($K100=照射試料の誘導放射能の計算書!$B$38&照射試料の誘導放射能の計算書!$D$38,COUNTIF($K100:$K358,照射試料の誘導放射能の計算書!$B$38&照射試料の誘導放射能の計算書!$D$38),\"\")","v":""},{"$f":"IF($K100=照射試料の誘導放射能の計算書!$B$39&照射試料の誘導放射能の計算書!$D$39,COUNTIF($K100:$K358,照射試料の誘導放射能の計算書!$B$39&照射試料の誘導放射能の計算書!$D$39),\"\")","v":""},{"$f":"IF($K100=照射試料の誘導放射能の計算書!$B$40&照射試料の誘導放射能の計算書!$D$40,COUNTIF($K100:$K358,照射試料の誘導放射能の計算書!$B$40&照射試料の誘導放射能の計算書!$D$40),\"\")","v":""},"Pd-103","(n,γ)Pd-103",4.8,16.96,"d"]
[46,"Te-126","Pd",106,"Pd-106",27.33,"(n,γ)","Pd107","Pd",{"$f":"RIGHT(H101,3)","v":"107"},"Pd-106(n,γ)",{"$f":"IF($K101=照射試料の誘導放射能の計算書!$B$31&照射試料の誘導放射能の計算書!$D$31,COUNTIF($K101:$K359,照射試料の誘導放射能の計算書!$B$31&照射試料の誘導放射能の計算書!$D$31),\"\")","v":""},{"$f":"IF($K101=照射試料の誘導放射能の計算書!$B$32&照射試料の誘導放射能の計算書!$D$32,COUNTIF($K101:$K359,照射試料の誘導放射能の計算書!$B$32&照射試料の誘導放射能の計算書!$D$32),\"\")","v":""},{"$f":"IF($K101=照射試料の誘導放射能の計算書!$B$33&照射試料の誘導放射能の計算書!$D$33,COUNTIF($K101:$K359,照射試料の誘導放射能の計算書!$B$33&照射試料の誘導放射能の計算書!$D$33),\"\")","v":""},{"$f":"IF($K101=照射試料の誘導放射能の計算書!$B$34&照射試料の誘導放射能の計算書!$D$34,COUNTIF($K101:$K359,照射試料の誘導放射能の計算書!$B$34&照射試料の誘導放射能の計算書!$D$34),\"\")","v":""},{"$f":"IF($K101=照射試料の誘導放射能の計算書!$B$35&照射試料の誘導放射能の計算書!$D$35,COUNTIF($K101:$K359,照射試料の誘導放射能の計算書!$B$35&照射試料の誘導放射能の計算書!$D$35),\"\")","v":""},{"$f":"IF($K101=照射試料の誘導放射能の計算書!$B$36&照射試料の誘導放射能の計算書!$D$36,COUNTIF($K101:$K359,照射試料の誘導放射能の計算書!$B$36&照射試料の誘導放射能の計算書!$D$36),\"\")","v":""},{"$f":"IF($K101=照射試料の誘導放射能の計算書!$B$37&照射試料の誘導放射能の計算書!$D$37,COUNTIF($K101:$K359,照射試料の誘導放射能の計算書!$B$37&照射試料の誘導放射能の計算書!$D$37),\"\")","v":""},{"$f":"IF($K101=照射試料の誘導放射能の計算書!$B$38&照射試料の誘導放射能の計算書!$D$38,COUNTIF($K101:$K359,照射試料の誘導放射能の計算書!$B$38&照射試料の誘導放射能の計算書!$D$38),\"\")","v":""},{"$f":"IF($K101=照射試料の誘導放射能の計算書!$B$39&照射試料の誘導放射能の計算書!$D$39,COUNTIF($K101:$K359,照射試料の誘導放射能の計算書!$B$39&照射試料の誘導放射能の計算書!$D$39),\"\")","v":""},{"$f":"IF($K101=照射試料の誘導放射能の計算書!$B$40&照射試料の誘導放射能の計算書!$D$40,COUNTIF($K101:$K359,照射試料の誘導放射能の計算書!$B$40&照射試料の誘導放射能の計算書!$D$40),\"\")","v":""},"Pd-107","(n,γ)Pd-107",0.28999999999999998,6500000,"y"]
[46,"Te-128","Pd",106,"Pd-106",27.33,"(n,γ)","Pd107m","Pd",{"$f":"RIGHT(H102,4)","v":"107m"},"Pd-106(n,γ)",{"$f":"IF($K102=照射試料の誘導放射能の計算書!$B$31&照射試料の誘導放射能の計算書!$D$31,COUNTIF($K102:$K360,照射試料の誘導放射能の計算書!$B$31&照射試料の誘導放射能の計算書!$D$31),\"\")","v":""},{"$f":"IF($K102=照射試料の誘導放射能の計算書!$B$32&照射試料の誘導放射能の計算書!$D$32,COUNTIF($K102:$K360,照射試料の誘導放射能の計算書!$B$32&照射試料の誘導放射能の計算書!$D$32),\"\")","v":""},{"$f":"IF($K102=照射試料の誘導放射能の計算書!$B$33&照射試料の誘導放射能の計算書!$D$33,COUNTIF($K102:$K360,照射試料の誘導放射能の計算書!$B$33&照射試料の誘導放射能の計算書!$D$33),\"\")","v":""},{"$f":"IF($K102=照射試料の誘導放射能の計算書!$B$34&照射試料の誘導放射能の計算書!$D$34,COUNTIF($K102:$K360,照射試料の誘導放射能の計算書!$B$34&照射試料の誘導放射能の計算書!$D$34),\"\")","v":""},{"$f":"IF($K102=照射試料の誘導放射能の計算書!$B$35&照射試料の誘導放射能の計算書!$D$35,COUNTIF($K102:$K360,照射試料の誘導放射能の計算書!$B$35&照射試料の誘導放射能の計算書!$D$35),\"\")","v":""},{"$f":"IF($K102=照射試料の誘導放射能の計算書!$B$36&照射試料の誘導放射能の計算書!$D$36,COUNTIF($K102:$K360,照射試料の誘導放射能の計算書!$B$36&照射試料の誘導放射能の計算書!$D$36),\"\")","v":""},{"$f":"IF($K102=照射試料の誘導放射能の計算書!$B$37&照射試料の誘導放射能の計算書!$D$37,COUNTIF($K102:$K360,照射試料の誘導放射能の計算書!$B$37&照射試料の誘導放射能の計算書!$D$37),\"\")","v":""},{"$f":"IF($K102=照射試料の誘導放射能の計算書!$B$38&照射試料の誘導放射能の計算書!$D$38,COUNTIF($K102:$K360,照射試料の誘導放射能の計算書!$B$38&照射試料の誘導放射能の計算書!$D$38),\"\")","v":""},{"$f":"IF($K102=照射試料の誘導放射能の計算書!$B$39&照射試料の誘導放射能の計算書!$D$39,COUNTIF($K102:$K360,照射試料の誘導放射能の計算書!$B$39&照射試料の誘導放射能の計算書!$D$39),\"\")","v":""},{"$f":"IF($K102=照射試料の誘導放射能の計算書!$B$40&照射試料の誘導放射能の計算書!$D$40,COUNTIF($K102:$K360,照射試料の誘導放射能の計算書!$B$40&照射試料の誘導放射能の計算書!$D$40),\"\")","v":""},"Pd-107m","(n,γ)Pd-107m",1.2999999999999999E-2,21.3,"s"]
[46,"Te-130","Pd",108,"Pd-108",26.46,"(n,γ)","Pd109","Pd",{"$f":"RIGHT(H103,3)","v":"109"},"Pd-108(n,γ)",{"$f":"IF($K103=照射試料の誘導放射能の計算書!$B$31&照射試料の誘導放射能の計算書!$D$31,COUNTIF($K103:$K361,照射試料の誘導放射能の計算書!$B$31&照射試料の誘導放射能の計算書!$D$31),\"\")","v":""},{"$f":"IF($K103=照射試料の誘導放射能の計算書!$B$32&照射試料の誘導放射能の計算書!$D$32,COUNTIF($K103:$K361,照射試料の誘導放射能の計算書!$B$32&照射試料の誘導放射能の計算書!$D$32),\"\")","v":""},{"$f":"IF($K103=照射試料の誘導放射能の計算書!$B$33&照射試料の誘導放射能の計算書!$D$33,COUNTIF($K103:$K361,照射試料の誘導放射能の計算書!$B$33&照射試料の誘導放射能の計算書!$D$33),\"\")","v":""},{"$f":"IF($K103=照射試料の誘導放射能の計算書!$B$34&照射試料の誘導放射能の計算書!$D$34,COUNTIF($K103:$K361,照射試料の誘導放射能の計算書!$B$34&照射試料の誘導放射能の計算書!$D$34),\"\")","v":""},{"$f":"IF($K103=照射試料の誘導放射能の計算書!$B$35&照射試料の誘導放射能の計算書!$D$35,COUNTIF($K103:$K361,照射試料の誘導放射能の計算書!$B$35&照射試料の誘導放射能の計算書!$D$35),\"\")","v":""},{"$f":"IF($K103=照射試料の誘導放射能の計算書!$B$36&照射試料の誘導放射能の計算書!$D$36,COUNTIF($K103:$K361,照射試料の誘導放射能の計算書!$B$36&照射試料の誘導放射能の計算書!$D$36),\"\")","v":""},{"$f":"IF($K103=照射試料の誘導放射能の計算書!$B$37&照射試料の誘導放射能の計算書!$D$37,COUNTIF($K103:$K361,照射試料の誘導放射能の計算書!$B$37&照射試料の誘導放射能の計算書!$D$37),\"\")","v":""},{"$f":"IF($K103=照射試料の誘導放射能の計算書!$B$38&照射試料の誘導放射能の計算書!$D$38,COUNTIF($K103:$K361,照射試料の誘導放射能の計算書!$B$38&照射試料の誘導放射能の計算書!$D$38),\"\")","v":""},{"$f":"IF($K103=照射試料の誘導放射能の計算書!$B$39&照射試料の誘導放射能の計算書!$D$39,COUNTIF($K103:$K361,照射試料の誘導放射能の計算書!$B$39&照射試料の誘導放射能の計算書!$D$39),\"\")","v":""},{"$f":"IF($K103=照射試料の誘導放射能の計算書!$B$40&照射試料の誘導放射能の計算書!$D$40,COUNTIF($K103:$K361,照射試料の誘導放射能の計算書!$B$40&照射試料の誘導放射能の計算書!$D$40),\"\")","v":""},"Pd-109","(n,γ)Pd-109",12,13.43,"h"]
[46,"I-127","Pd",108,"Pd-108",26.46,"(n,γ)","Pd109m","Pd",{"$f":"RIGHT(H104,4)","v":"109m"},"Pd-108(n,γ)",{"$f":"IF($K104=照射試料の誘導放射能の計算書!$B$31&照射試料の誘導放射能の計算書!$D$31,COUNTIF($K104:$K362,照射試料の誘導放射能の計算書!$B$31&照射試料の誘導放射能の計算書!$D$31),\"\")","v":""},{"$f":"IF($K104=照射試料の誘導放射能の計算書!$B$32&照射試料の誘導放射能の計算書!$D$32,COUNTIF($K104:$K362,照射試料の誘導放射能の計算書!$B$32&照射試料の誘導放射能の計算書!$D$32),\"\")","v":""},{"$f":"IF($K104=照射試料の誘導放射能の計算書!$B$33&照射試料の誘導放射能の計算書!$D$33,COUNTIF($K104:$K362,照射試料の誘導放射能の計算書!$B$33&照射試料の誘導放射能の計算書!$D$33),\"\")","v":""},{"$f":"IF($K104=照射試料の誘導放射能の計算書!$B$34&照射試料の誘導放射能の計算書!$D$34,COUNTIF($K104:$K362,照射試料の誘導放射能の計算書!$B$34&照射試料の誘導放射能の計算書!$D$34),\"\")","v":""},{"$f":"IF($K104=照射試料の誘導放射能の計算書!$B$35&照射試料の誘導放射能の計算書!$D$35,COUNTIF($K104:$K362,照射試料の誘導放射能の計算書!$B$35&照射試料の誘導放射能の計算書!$D$35),\"\")","v":""},{"$f":"IF($K104=照射試料の誘導放射能の計算書!$B$36&照射試料の誘導放射能の計算書!$D$36,COUNTIF($K104:$K362,照射試料の誘導放射能の計算書!$B$36&照射試料の誘導放射能の計算書!$D$36),\"\")","v":""},{"$f":"IF($K104=照射試料の誘導放射能の計算書!$B$37&照射試料の誘導放射能の計算書!$D$37,COUNTIF($K104:$K362,照射試料の誘導放射能の計算書!$B$37&照射試料の誘導放射能の計算書!$D$37),\"\")","v":""},{"$f":"IF($K104=照射試料の誘導放射能の計算書!$B$38&照射試料の誘導放射能の計算書!$D$38,COUNTIF($K104:$K362,照射試料の誘導放射能の計算書!$B$38&照射試料の誘導放射能の計算書!$D$38),\"\")","v":""},{"$f":"IF($K104=照射試料の誘導放射能の計算書!$B$39&照射試料の誘導放射能の計算書!$D$39,COUNTIF($K104:$K362,照射試料の誘導放射能の計算書!$B$39&照射試料の誘導放射能の計算書!$D$39),\"\")","v":""},{"$f":"IF($K104=照射試料の誘導放射能の計算書!$B$40&照射試料の誘導放射能の計算書!$D$40,COUNTIF($K104:$K362,照射試料の誘導放射能の計算書!$B$40&照射試料の誘導放射能の計算書!$D$40),\"\")","v":""},"Pd-109m","(n,γ)Pd-109m",0.2,4.6900000000000004,"min"]
[46,"Xe-124","Pd",110,"Pd-110",11.72,"(n,γ)","Pd111","Pd",{"$f":"RIGHT(H105,3)","v":"111"},"Pd-110(n,γ)",{"$f":"IF($K105=照射試料の誘導放射能の計算書!$B$31&照射試料の誘導放射能の計算書!$D$31,COUNTIF($K105:$K363,照射試料の誘導放射能の計算書!$B$31&照射試料の誘導放射能の計算書!$D$31),\"\")","v":""},{"$f":"IF($K105=照射試料の誘導放射能の計算書!$B$32&照射試料の誘導放射能の計算書!$D$32,COUNTIF($K105:$K363,照射試料の誘導放射能の計算書!$B$32&照射試料の誘導放射能の計算書!$D$32),\"\")","v":""},{"$f":"IF($K105=照射試料の誘導放射能の計算書!$B$33&照射試料の誘導放射能の計算書!$D$33,COUNTIF($K105:$K363,照射試料の誘導放射能の計算書!$B$33&照射試料の誘導放射能の計算書!$D$33),\"\")","v":""},{"$f":"IF($K105=照射試料の誘導放射能の計算書!$B$34&照射試料の誘導放射能の計算書!$D$34,COUNTIF($K105:$K363,照射試料の誘導放射能の計算書!$B$34&照射試料の誘導放射能の計算書!$D$34),\"\")","v":""},{"$f":"IF($K105=照射試料の誘導放射能の計算書!$B$35&照射試料の誘導放射能の計算書!$D$35,COUNTIF($K105:$K363,照射試料の誘導放射能の計算書!$B$35&照射試料の誘導放射能の計算書!$D$35),\"\")","v":""},{"$f":"IF($K105=照射試料の誘導放射能の計算書!$B$36&照射試料の誘導放射能の計算書!$D$36,COUNTIF($K105:$K363,照射試料の誘導放射能の計算書!$B$36&照射試料の誘導放射能の計算書!$D$36),\"\")","v":""},{"$f":"IF($K105=照射試料の誘導放射能の計算書!$B$37&照射試料の誘導放射能の計算書!$D$37,COUNTIF($K105:$K363,照射試料の誘導放射能の計算書!$B$37&照射試料の誘導放射能の計算書!$D$37),\"\")","v":""},{"$f":"IF($K105=照射試料の誘導放射能の計算書!$B$38&照射試料の誘導放射能の計算書!$D$38,COUNTIF($K105:$K363,照射試料の誘導放射能の計算書!$B$38&照射試料の誘導放射能の計算書!$D$38),\"\")","v":""},{"$f":"IF($K105=照射試料の誘導放射能の計算書!$B$39&照射試料の誘導放射能の計算書!$D$39,COUNTIF($K105:$K363,照射試料の誘導放射能の計算書!$B$39&照射試料の誘導放射能の計算書!$D$39),\"\")","v":""},{"$f":"IF($K105=照射試料の誘導放射能の計算書!$B$40&照射試料の誘導放射能の計算書!$D$40,COUNTIF($K105:$K363,照射試料の誘導放射能の計算書!$B$40&照射試料の誘導放射能の計算書!$D$40),\"\")","v":""},"Pd-111","(n,γ)Pd-111",0.2,23.4,"min"]
[46,"Xe-126","Pd",110,"Pd-110",11.72,"(n,γ)","Pd111m","Pd",{"$f":"RIGHT(H106,4)","v":"111m"},"Pd-110(n,γ)",{"$f":"IF($K106=照射試料の誘導放射能の計算書!$B$31&照射試料の誘導放射能の計算書!$D$31,COUNTIF($K106:$K364,照射試料の誘導放射能の計算書!$B$31&照射試料の誘導放射能の計算書!$D$31),\"\")","v":""},{"$f":"IF($K106=照射試料の誘導放射能の計算書!$B$32&照射試料の誘導放射能の計算書!$D$32,COUNTIF($K106:$K364,照射試料の誘導放射能の計算書!$B$32&照射試料の誘導放射能の計算書!$D$32),\"\")","v":""},{"$f":"IF($K106=照射試料の誘導放射能の計算書!$B$33&照射試料の誘導放射能の計算書!$D$33,COUNTIF($K106:$K364,照射試料の誘導放射能の計算書!$B$33&照射試料の誘導放射能の計算書!$D$33),\"\")","v":""},{"$f":"IF($K106=照射試料の誘導放射能の計算書!$B$34&照射試料の誘導放射能の計算書!$D$34,COUNTIF($K106:$K364,照射試料の誘導放射能の計算書!$B$34&照射試料の誘導放射能の計算書!$D$34),\"\")","v":""},{"$f":"IF($K106=照射試料の誘導放射能の計算書!$B$35&照射試料の誘導放射能の計算書!$D$35,COUNTIF($K106:$K364,照射試料の誘導放射能の計算書!$B$35&照射試料の誘導放射能の計算書!$D$35),\"\")","v":""},{"$f":"IF($K106=照射試料の誘導放射能の計算書!$B$36&照射試料の誘導放射能の計算書!$D$36,COUNTIF($K106:$K364,照射試料の誘導放射能の計算書!$B$36&照射試料の誘導放射能の計算書!$D$36),\"\")","v":""},{"$f":"IF($K106=照射試料の誘導放射能の計算書!$B$37&照射試料の誘導放射能の計算書!$D$37,COUNTIF($K106:$K364,照射試料の誘導放射能の計算書!$B$37&照射試料の誘導放射能の計算書!$D$37),\"\")","v":""},{"$f":"IF($K106=照射試料の誘導放射能の計算書!$B$38&照射試料の誘導放射能の計算書!$D$38,COUNTIF($K106:$K364,照射試料の誘導放射能の計算書!$B$38&照射試料の誘導放射能の計算書!$D$38),\"\")","v":""},{"$f":"IF($K106=照射試料の誘導放射能の計算書!$B$39&照射試料の誘導放射能の計算書!$D$39,COUNTIF($K106:$K364,照射試料の誘導放射能の計算書!$B$39&照射試料の誘導放射能の計算書!$D$39),\"\")","v":""},{"$f":"IF($K106=照射試料の誘導放射能の計算書!$B$40&照射試料の誘導放射能の計算書!$D$40,COUNTIF($K106:$K364,照射試料の誘導放射能の計算書!$B$40&照射試料の誘導放射能の計算書!$D$40),\"\")","v":""},"Pd-111m","(n,γ)Pd-111m",0.02,5.5,"h"]
[47,"Xe-128","Ag",107,"Ag-107",51.838999999999999,"(n,γ)","Ag108","Ag",{"$f":"RIGHT(H107,3)","v":"108"},"Ag-107(n,γ)",{"$f":"IF($K107=照射試料の誘導放射能の計算書!$B$31&照射試料の誘導放射能の計算書!$D$31,COUNTIF($K107:$K365,照射試料の誘導放射能の計算書!$B$31&照射試料の誘導放射能の計算書!$D$31),\"\")","v":""},{"$f":"IF($K107=照射試料の誘導放射能の計算書!$B$32&照射試料の誘導放射能の計算書!$D$32,COUNTIF($K107:$K365,照射試料の誘導放射能の計算書!$B$32&照射試料の誘導放射能の計算書!$D$32),\"\")","v":""},{"$f":"IF($K107=照射試料の誘導放射能の計算書!$B$33&照射試料の誘導放射能の計算書!$D$33,COUNTIF($K107:$K365,照射試料の誘導放射能の計算書!$B$33&照射試料の誘導放射能の計算書!$D$33),\"\")","v":""},{"$f":"IF($K107=照射試料の誘導放射能の計算書!$B$34&照射試料の誘導放射能の計算書!$D$34,COUNTIF($K107:$K365,照射試料の誘導放射能の計算書!$B$34&照射試料の誘導放射能の計算書!$D$34),\"\")","v":""},{"$f":"IF($K107=照射試料の誘導放射能の計算書!$B$35&照射試料の誘導放射能の計算書!$D$35,COUNTIF($K107:$K365,照射試料の誘導放射能の計算書!$B$35&照射試料の誘導放射能の計算書!$D$35),\"\")","v":""},{"$f":"IF($K107=照射試料の誘導放射能の計算書!$B$36&照射試料の誘導放射能の計算書!$D$36,COUNTIF($K107:$K365,照射試料の誘導放射能の計算書!$B$36&照射試料の誘導放射能の計算書!$D$36),\"\")","v":""},{"$f":"IF($K107=照射試料の誘導放射能の計算書!$B$37&照射試料の誘導放射能の計算書!$D$37,COUNTIF($K107:$K365,照射試料の誘導放射能の計算書!$B$37&照射試料の誘導放射能の計算書!$D$37),\"\")","v":""},{"$f":"IF($K107=照射試料の誘導放射能の計算書!$B$38&照射試料の誘導放射能の計算書!$D$38,COUNTIF($K107:$K365,照射試料の誘導放射能の計算書!$B$38&照射試料の誘導放射能の計算書!$D$38),\"\")","v":""},{"$f":"IF($K107=照射試料の誘導放射能の計算書!$B$39&照射試料の誘導放射能の計算書!$D$39,COUNTIF($K107:$K365,照射試料の誘導放射能の計算書!$B$39&照射試料の誘導放射能の計算書!$D$39),\"\")","v":""},{"$f":"IF($K107=照射試料の誘導放射能の計算書!$B$40&照射試料の誘導放射能の計算書!$D$40,COUNTIF($K107:$K365,照射試料の誘導放射能の計算書!$B$40&照射試料の誘導放射能の計算書!$D$40),\"\")","v":""},"Ag-108","(n,γ)Ag-108",37.200000000000003,2.41,"min"]
[47,"Xe-130","Ag",107,"Ag-107",51.838999999999999,"(n,γ)","Ag108m","Ag",{"$f":"RIGHT(H108,4)","v":"108m"},"Ag-107(n,γ)",{"$f":"IF($K108=照射試料の誘導放射能の計算書!$B$31&照射試料の誘導放射能の計算書!$D$31,COUNTIF($K108:$K366,照射試料の誘導放射能の計算書!$B$31&照射試料の誘導放射能の計算書!$D$31),\"\")","v":""},{"$f":"IF($K108=照射試料の誘導放射能の計算書!$B$32&照射試料の誘導放射能の計算書!$D$32,COUNTIF($K108:$K366,照射試料の誘導放射能の計算書!$B$32&照射試料の誘導放射能の計算書!$D$32),\"\")","v":""},{"$f":"IF($K108=照射試料の誘導放射能の計算書!$B$33&照射試料の誘導放射能の計算書!$D$33,COUNTIF($K108:$K366,照射試料の誘導放射能の計算書!$B$33&照射試料の誘導放射能の計算書!$D$33),\"\")","v":""},{"$f":"IF($K108=照射試料の誘導放射能の計算書!$B$34&照射試料の誘導放射能の計算書!$D$34,COUNTIF($K108:$K366,照射試料の誘導放射能の計算書!$B$34&照射試料の誘導放射能の計算書!$D$34),\"\")","v":""},{"$f":"IF($K108=照射試料の誘導放射能の計算書!$B$35&照射試料の誘導放射能の計算書!$D$35,COUNTIF($K108:$K366,照射試料の誘導放射能の計算書!$B$35&照射試料の誘導放射能の計算書!$D$35),\"\")","v":""},{"$f":"IF($K108=照射試料の誘導放射能の計算書!$B$36&照射試料の誘導放射能の計算書!$D$36,COUNTIF($K108:$K366,照射試料の誘導放射能の計算書!$B$36&照射試料の誘導放射能の計算書!$D$36),\"\")","v":""},{"$f":"IF($K108=照射試料の誘導放射能の計算書!$B$37&照射試料の誘導放射能の計算書!$D$37,COUNTIF($K108:$K366,照射試料の誘導放射能の計算書!$B$37&照射試料の誘導放射能の計算書!$D$37),\"\")","v":""},{"$f":"IF($K108=照射試料の誘導放射能の計算書!$B$38&照射試料の誘導放射能の計算書!$D$38,COUNTIF($K108:$K366,照射試料の誘導放射能の計算書!$B$38&照射試料の誘導放射能の計算書!$D$38),\"\")","v":""},{"$f":"IF($K108=照射試料の誘導放射能の計算書!$B$39&照射試料の誘導放射能の計算書!$D$39,COUNTIF($K108:$K366,照射試料の誘導放射能の計算書!$B$39&照射試料の誘導放射能の計算書!$D$39),\"\")","v":""},{"$f":"IF($K108=照射試料の誘導放射能の計算書!$B$40&照射試料の誘導放射能の計算書!$D$40,COUNTIF($K108:$K366,照射試料の誘導放射能の計算書!$B$40&照射試料の誘導放射能の計算書!$D$40),\"\")","v":""},"Ag-108m","(n,γ)Ag-108m",3,418,"y"]
[47,"Xe-132","Ag",109,"Ag-109",48.161000000000001,"(n,γ)","Ag110","Ag",{"$f":"RIGHT(H109,3)","v":"110"},"Ag-109(n,γ)",{"$f":"IF($K109=照射試料の誘導放射能の計算書!$B$31&照射試料の誘導放射能の計算書!$D$31,COUNTIF($K109:$K367,照射試料の誘導放射能の計算書!$B$31&照射試料の誘導放射能の計算書!$D$31),\"\")","v":""},{"$f":"IF($K109=照射試料の誘導放射能の計算書!$B$32&照射試料の誘導放射能の計算書!$D$32,COUNTIF($K109:$K367,照射試料の誘導放射能の計算書!$B$32&照射試料の誘導放射能の計算書!$D$32),\"\")","v":""},{"$f":"IF($K109=照射試料の誘導放射能の計算書!$B$33&照射試料の誘導放射能の計算書!$D$33,COUNTIF($K109:$K367,照射試料の誘導放射能の計算書!$B$33&照射試料の誘導放射能の計算書!$D$33),\"\")","v":""},{"$f":"IF($K109=照射試料の誘導放射能の計算書!$B$34&照射試料の誘導放射能の計算書!$D$34,COUNTIF($K109:$K367,照射試料の誘導放射能の計算書!$B$34&照射試料の誘導放射能の計算書!$D$34),\"\")","v":""},{"$f":"IF($K109=照射試料の誘導放射能の計算書!$B$35&照射試料の誘導放射能の計算書!$D$35,COUNTIF($K109:$K367,照射試料の誘導放射能の計算書!$B$35&照射試料の誘導放射能の計算書!$D$35),\"\")","v":""},{"$f":"IF($K109=照射試料の誘導放射能の計算書!$B$36&照射試料の誘導放射能の計算書!$D$36,COUNTIF($K109:$K367,照射試料の誘導放射能の計算書!$B$36&照射試料の誘導放射能の計算書!$D$36),\"\")","v":""},{"$f":"IF($K109=照射試料の誘導放射能の計算書!$B$37&照射試料の誘導放射能の計算書!$D$37,COUNTIF($K109:$K367,照射試料の誘導放射能の計算書!$B$37&照射試料の誘導放射能の計算書!$D$37),\"\")","v":""},{"$f":"IF($K109=照射試料の誘導放射能の計算書!$B$38&照射試料の誘導放射能の計算書!$D$38,COUNTIF($K109:$K367,照射試料の誘導放射能の計算書!$B$38&照射試料の誘導放射能の計算書!$D$38),\"\")","v":""},{"$f":"IF($K109=照射試料の誘導放射能の計算書!$B$39&照射試料の誘導放射能の計算書!$D$39,COUNTIF($K109:$K367,照射試料の誘導放射能の計算書!$B$39&照射試料の誘導放射能の計算書!$D$39),\"\")","v":""},{"$f":"IF($K109=照射試料の誘導放射能の計算書!$B$40&照射試料の誘導放射能の計算書!$D$40,COUNTIF($K109:$K367,照射試料の誘導放射能の計算書!$B$40&照射試料の誘導放射能の計算書!$D$40),\"\")","v":""},"Ag-110","(n,γ)Ag-110",89,24.6,"s"]
[47,"Xe-134","Ag",109,"Ag-109",48.161000000000001,"(n,γ)","Ag110m","Ag",{"$f":"RIGHT(H110,4)","v":"110m"},"Ag-109(n,γ)",{"$f":"IF($K110=照射試料の誘導放射能の計算書!$B$31&照射試料の誘導放射能の計算書!$D$31,COUNTIF($K110:$K368,照射試料の誘導放射能の計算書!$B$31&照射試料の誘導放射能の計算書!$D$31),\"\")","v":""},{"$f":"IF($K110=照射試料の誘導放射能の計算書!$B$32&照射試料の誘導放射能の計算書!$D$32,COUNTIF($K110:$K368,照射試料の誘導放射能の計算書!$B$32&照射試料の誘導放射能の計算書!$D$32),\"\")","v":""},{"$f":"IF($K110=照射試料の誘導放射能の計算書!$B$33&照射試料の誘導放射能の計算書!$D$33,COUNTIF($K110:$K368,照射試料の誘導放射能の計算書!$B$33&照射試料の誘導放射能の計算書!$D$33),\"\")","v":""},{"$f":"IF($K110=照射試料の誘導放射能の計算書!$B$34&照射試料の誘導放射能の計算書!$D$34,COUNTIF($K110:$K368,照射試料の誘導放射能の計算書!$B$34&照射試料の誘導放射能の計算書!$D$34),\"\")","v":""},{"$f":"IF($K110=照射試料の誘導放射能の計算書!$B$35&照射試料の誘導放射能の計算書!$D$35,COUNTIF($K110:$K368,照射試料の誘導放射能の計算書!$B$35&照射試料の誘導放射能の計算書!$D$35),\"\")","v":""},{"$f":"IF($K110=照射試料の誘導放射能の計算書!$B$36&照射試料の誘導放射能の計算書!$D$36,COUNTIF($K110:$K368,照射試料の誘導放射能の計算書!$B$36&照射試料の誘導放射能の計算書!$D$36),\"\")","v":""},{"$f":"IF($K110=照射試料の誘導放射能の計算書!$B$37&照射試料の誘導放射能の計算書!$D$37,COUNTIF($K110:$K368,照射試料の誘導放射能の計算書!$B$37&照射試料の誘導放射能の計算書!$D$37),\"\")","v":""},{"$f":"IF($K110=照射試料の誘導放射能の計算書!$B$38&照射試料の誘導放射能の計算書!$D$38,COUNTIF($K110:$K368,照射試料の誘導放射能の計算書!$B$38&照射試料の誘導放射能の計算書!$D$38),\"\")","v":""},{"$f":"IF($K110=照射試料の誘導放射能の計算書!$B$39&照射試料の誘導放射能の計算書!$D$39,COUNTIF($K110:$K368,照射試料の誘導放射能の計算書!$B$39&照射試料の誘導放射能の計算書!$D$39),\"\")","v":""},{"$f":"IF($K110=照射試料の誘導放射能の計算書!$B$40&照射試料の誘導放射能の計算書!$D$40,COUNTIF($K110:$K368,照射試料の誘導放射能の計算書!$B$40&照射試料の誘導放射能の計算書!$D$40),\"\")","v":""},"Ag-110m","(n,γ)Ag-110m",4.5,249.9,"d"]
[48,"Xe-136","Cd",106,"Cd-106",1.25,"(n,γ)","Cd107","Cd",{"$f":"RIGHT(H111,3)","v":"107"},"Cd-106(n,γ)",{"$f":"IF($K111=照射試料の誘導放射能の計算書!$B$31&照射試料の誘導放射能の計算書!$D$31,COUNTIF($K111:$K369,照射試料の誘導放射能の計算書!$B$31&照射試料の誘導放射能の計算書!$D$31),\"\")","v":""},{"$f":"IF($K111=照射試料の誘導放射能の計算書!$B$32&照射試料の誘導放射能の計算書!$D$32,COUNTIF($K111:$K369,照射試料の誘導放射能の計算書!$B$32&照射試料の誘導放射能の計算書!$D$32),\"\")","v":""},{"$f":"IF($K111=照射試料の誘導放射能の計算書!$B$33&照射試料の誘導放射能の計算書!$D$33,COUNTIF($K111:$K369,照射試料の誘導放射能の計算書!$B$33&照射試料の誘導放射能の計算書!$D$33),\"\")","v":""},{"$f":"IF($K111=照射試料の誘導放射能の計算書!$B$34&照射試料の誘導放射能の計算書!$D$34,COUNTIF($K111:$K369,照射試料の誘導放射能の計算書!$B$34&照射試料の誘導放射能の計算書!$D$34),\"\")","v":""},{"$f":"IF($K111=照射試料の誘導放射能の計算書!$B$35&照射試料の誘導放射能の計算書!$D$35,COUNTIF($K111:$K369,照射試料の誘導放射能の計算書!$B$35&照射試料の誘導放射能の計算書!$D$35),\"\")","v":""},{"$f":"IF($K111=照射試料の誘導放射能の計算書!$B$36&照射試料の誘導放射能の計算書!$D$36,COUNTIF($K111:$K369,照射試料の誘導放射能の計算書!$B$36&照射試料の誘導放射能の計算書!$D$36),\"\")","v":""},{"$f":"IF($K111=照射試料の誘導放射能の計算書!$B$37&照射試料の誘導放射能の計算書!$D$37,COUNTIF($K111:$K369,照射試料の誘導放射能の計算書!$B$37&照射試料の誘導放射能の計算書!$D$37),\"\")","v":""},{"$f":"IF($K111=照射試料の誘導放射能の計算書!$B$38&照射試料の誘導放射能の計算書!$D$38,COUNTIF($K111:$K369,照射試料の誘導放射能の計算書!$B$38&照射試料の誘導放射能の計算書!$D$38),\"\")","v":""},{"$f":"IF($K111=照射試料の誘導放射能の計算書!$B$39&照射試料の誘導放射能の計算書!$D$39,COUNTIF($K111:$K369,照射試料の誘導放射能の計算書!$B$39&照射試料の誘導放射能の計算書!$D$39),\"\")","v":""},{"$f":"IF($K111=照射試料の誘導放射能の計算書!$B$40&照射試料の誘導放射能の計算書!$D$40,COUNTIF($K111:$K369,照射試料の誘導放射能の計算書!$B$40&照射試料の誘導放射能の計算書!$D$40),\"\")","v":""},"Cd-107","(n,γ)Cd-107",1,6.5,"h"]
[48,"Cs-133","Cd",108,"Cd-108",0.89,"(n,γ)","Cd109","Cd",{"$f":"RIGHT(H112,3)","v":"109"},"Cd-108(n,γ)",{"$f":"IF($K112=照射試料の誘導放射能の計算書!$B$31&照射試料の誘導放射能の計算書!$D$31,COUNTIF($K112:$K370,照射試料の誘導放射能の計算書!$B$31&照射試料の誘導放射能の計算書!$D$31),\"\")","v":""},{"$f":"IF($K112=照射試料の誘導放射能の計算書!$B$32&照射試料の誘導放射能の計算書!$D$32,COUNTIF($K112:$K370,照射試料の誘導放射能の計算書!$B$32&照射試料の誘導放射能の計算書!$D$32),\"\")","v":""},{"$f":"IF($K112=照射試料の誘導放射能の計算書!$B$33&照射試料の誘導放射能の計算書!$D$33,COUNTIF($K112:$K370,照射試料の誘導放射能の計算書!$B$33&照射試料の誘導放射能の計算書!$D$33),\"\")","v":""},{"$f":"IF($K112=照射試料の誘導放射能の計算書!$B$34&照射試料の誘導放射能の計算書!$D$34,COUNTIF($K112:$K370,照射試料の誘導放射能の計算書!$B$34&照射試料の誘導放射能の計算書!$D$34),\"\")","v":""},{"$f":"IF($K112=照射試料の誘導放射能の計算書!$B$35&照射試料の誘導放射能の計算書!$D$35,COUNTIF($K112:$K370,照射試料の誘導放射能の計算書!$B$35&照射試料の誘導放射能の計算書!$D$35),\"\")","v":""},{"$f":"IF($K112=照射試料の誘導放射能の計算書!$B$36&照射試料の誘導放射能の計算書!$D$36,COUNTIF($K112:$K370,照射試料の誘導放射能の計算書!$B$36&照射試料の誘導放射能の計算書!$D$36),\"\")","v":""},{"$f":"IF($K112=照射試料の誘導放射能の計算書!$B$37&照射試料の誘導放射能の計算書!$D$37,COUNTIF($K112:$K370,照射試料の誘導放射能の計算書!$B$37&照射試料の誘導放射能の計算書!$D$37),\"\")","v":""},{"$f":"IF($K112=照射試料の誘導放射能の計算書!$B$38&照射試料の誘導放射能の計算書!$D$38,COUNTIF($K112:$K370,照射試料の誘導放射能の計算書!$B$38&照射試料の誘導放射能の計算書!$D$38),\"\")","v":""},{"$f":"IF($K112=照射試料の誘導放射能の計算書!$B$39&照射試料の誘導放射能の計算書!$D$39,COUNTIF($K112:$K370,照射試料の誘導放射能の計算書!$B$39&照射試料の誘導放射能の計算書!$D$39),\"\")","v":""},{"$f":"IF($K112=照射試料の誘導放射能の計算書!$B$40&照射試料の誘導放射能の計算書!$D$40,COUNTIF($K112:$K370,照射試料の誘導放射能の計算書!$B$40&照射試料の誘導放射能の計算書!$D$40),\"\")","v":""},"Cd-109","(n,γ)Cd-109",1.1000000000000001,462.6,"d"]
[48,"Ba-130","Cd",110,"Cd-110",12.49,"(n,γ)","Cd111m","Cd",{"$f":"RIGHT(H113,4)","v":"111m"},"Cd-110(n,γ)",{"$f":"IF($K113=照射試料の誘導放射能の計算書!$B$31&照射試料の誘導放射能の計算書!$D$31,COUNTIF($K113:$K371,照射試料の誘導放射能の計算書!$B$31&照射試料の誘導放射能の計算書!$D$31),\"\")","v":""},{"$f":"IF($K113=照射試料の誘導放射能の計算書!$B$32&照射試料の誘導放射能の計算書!$D$32,COUNTIF($K113:$K371,照射試料の誘導放射能の計算書!$B$32&照射試料の誘導放射能の計算書!$D$32),\"\")","v":""},{"$f":"IF($K113=照射試料の誘導放射能の計算書!$B$33&照射試料の誘導放射能の計算書!$D$33,COUNTIF($K113:$K371,照射試料の誘導放射能の計算書!$B$33&照射試料の誘導放射能の計算書!$D$33),\"\")","v":""},{"$f":"IF($K113=照射試料の誘導放射能の計算書!$B$34&照射試料の誘導放射能の計算書!$D$34,COUNTIF($K113:$K371,照射試料の誘導放射能の計算書!$B$34&照射試料の誘導放射能の計算書!$D$34),\"\")","v":""},{"$f":"IF($K113=照射試料の誘導放射能の計算書!$B$35&照射試料の誘導放射能の計算書!$D$35,COUNTIF($K113:$K371,照射試料の誘導放射能の計算書!$B$35&照射試料の誘導放射能の計算書!$D$35),\"\")","v":""},{"$f":"IF($K113=照射試料の誘導放射能の計算書!$B$36&照射試料の誘導放射能の計算書!$D$36,COUNTIF($K113:$K371,照射試料の誘導放射能の計算書!$B$36&照射試料の誘導放射能の計算書!$D$36),\"\")","v":""},{"$f":"IF($K113=照射試料の誘導放射能の計算書!$B$37&照射試料の誘導放射能の計算書!$D$37,COUNTIF($K113:$K371,照射試料の誘導放射能の計算書!$B$37&照射試料の誘導放射能の計算書!$D$37),\"\")","v":""},{"$f":"IF($K113=照射試料の誘導放射能の計算書!$B$38&照射試料の誘導放射能の計算書!$D$38,COUNTIF($K113:$K371,照射試料の誘導放射能の計算書!$B$38&照射試料の誘導放射能の計算書!$D$38),\"\")","v":""},{"$f":"IF($K113=照射試料の誘導放射能の計算書!$B$39&照射試料の誘導放射能の計算書!$D$39,COUNTIF($K113:$K371,照射試料の誘導放射能の計算書!$B$39&照射試料の誘導放射能の計算書!$D$39),\"\")","v":""},{"$f":"IF($K113=照射試料の誘導放射能の計算書!$B$40&照射試料の誘導放射能の計算書!$D$40,COUNTIF($K113:$K371,照射試料の誘導放射能の計算書!$B$40&照射試料の誘導放射能の計算書!$D$40),\"\")","v":""},"Cd-111m","(n,γ)Cd-111m",0.1,49,"min"]
[48,"Ba-132","Cd",112,"Cd-112",24.13,"(n,γ)","Cd113","Cd",{"$f":"RIGHT(H114,3)","v":"113"},"Cd-112(n,γ)",{"$f":"IF($K114=照射試料の誘導放射能の計算書!$B$31&照射試料の誘導放射能の計算書!$D$31,COUNTIF($K114:$K372,照射試料の誘導放射能の計算書!$B$31&照射試料の誘導放射能の計算書!$D$31),\"\")","v":""},{"$f":"IF($K114=照射試料の誘導放射能の計算書!$B$32&照射試料の誘導放射能の計算書!$D$32,COUNTIF($K114:$K372,照射試料の誘導放射能の計算書!$B$32&照射試料の誘導放射能の計算書!$D$32),\"\")","v":""},{"$f":"IF($K114=照射試料の誘導放射能の計算書!$B$33&照射試料の誘導放射能の計算書!$D$33,COUNTIF($K114:$K372,照射試料の誘導放射能の計算書!$B$33&照射試料の誘導放射能の計算書!$D$33),\"\")","v":""},{"$f":"IF($K114=照射試料の誘導放射能の計算書!$B$34&照射試料の誘導放射能の計算書!$D$34,COUNTIF($K114:$K372,照射試料の誘導放射能の計算書!$B$34&照射試料の誘導放射能の計算書!$D$34),\"\")","v":""},{"$f":"IF($K114=照射試料の誘導放射能の計算書!$B$35&照射試料の誘導放射能の計算書!$D$35,COUNTIF($K114:$K372,照射試料の誘導放射能の計算書!$B$35&照射試料の誘導放射能の計算書!$D$35),\"\")","v":""},{"$f":"IF($K114=照射試料の誘導放射能の計算書!$B$36&照射試料の誘導放射能の計算書!$D$36,COUNTIF($K114:$K372,照射試料の誘導放射能の計算書!$B$36&照射試料の誘導放射能の計算書!$D$36),\"\")","v":""},{"$f":"IF($K114=照射試料の誘導放射能の計算書!$B$37&照射試料の誘導放射能の計算書!$D$37,COUNTIF($K114:$K372,照射試料の誘導放射能の計算書!$B$37&照射試料の誘導放射能の計算書!$D$37),\"\")","v":""},{"$f":"IF($K114=照射試料の誘導放射能の計算書!$B$38&照射試料の誘導放射能の計算書!$D$38,COUNTIF($K114:$K372,照射試料の誘導放射能の計算書!$B$38&照射試料の誘導放射能の計算書!$D$38),\"\")","v":""},{"$f":"IF($K114=照射試料の誘導放射能の計算書!$B$39&照射試料の誘導放射能の計算書!$D$39,COUNTIF($K114:$K372,照射試料の誘導放射能の計算書!$B$39&照射試料の誘導放射能の計算書!$D$39),\"\")","v":""},{"$f":"IF($K114=照射試料の誘導放射能の計算書!$B$40&照射試料の誘導放射能の計算書!$D$40,COUNTIF($K114:$K372,照射試料の誘導放射能の計算書!$B$40&照射試料の誘導放射能の計算書!$D$40),\"\")","v":""},"Cd-113","(n,γ)Cd-113",2.2000000000000002,9100000000000000,"y"]
[48,"Ba-134","Cd",112,"Cd-112",24.13,"(n,γ)","Cd113m","Cd",{"$f":"RIGHT(H115,4)","v":"113m"},"Cd-112(n,γ)",{"$f":"IF($K115=照射試料の誘導放射能の計算書!$B$31&照射試料の誘導放射能の計算書!$D$31,COUNTIF($K115:$K373,照射試料の誘導放射能の計算書!$B$31&照射試料の誘導放射能の計算書!$D$31),\"\")","v":""},{"$f":"IF($K115=照射試料の誘導放射能の計算書!$B$32&照射試料の誘導放射能の計算書!$D$32,COUNTIF($K115:$K373,照射試料の誘導放射能の計算書!$B$32&照射試料の誘導放射能の計算書!$D$32),\"\")","v":""},{"$f":"IF($K115=照射試料の誘導放射能の計算書!$B$33&照射試料の誘導放射能の計算書!$D$33,COUNTIF($K115:$K373,照射試料の誘導放射能の計算書!$B$33&照射試料の誘導放射能の計算書!$D$33),\"\")","v":""},{"$f":"IF($K115=照射試料の誘導放射能の計算書!$B$34&照射試料の誘導放射能の計算書!$D$34,COUNTIF($K115:$K373,照射試料の誘導放射能の計算書!$B$34&照射試料の誘導放射能の計算書!$D$34),\"\")","v":""},{"$f":"IF($K115=照射試料の誘導放射能の計算書!$B$35&照射試料の誘導放射能の計算書!$D$35,COUNTIF($K115:$K373,照射試料の誘導放射能の計算書!$B$35&照射試料の誘導放射能の計算書!$D$35),\"\")","v":""},{"$f":"IF($K115=照射試料の誘導放射能の計算書!$B$36&照射試料の誘導放射能の計算書!$D$36,COUNTIF($K115:$K373,照射試料の誘導放射能の計算書!$B$36&照射試料の誘導放射能の計算書!$D$36),\"\")","v":""},{"$f":"IF($K115=照射試料の誘導放射能の計算書!$B$37&照射試料の誘導放射能の計算書!$D$37,COUNTIF($K115:$K373,照射試料の誘導放射能の計算書!$B$37&照射試料の誘導放射能の計算書!$D$37),\"\")","v":""},{"$f":"IF($K115=照射試料の誘導放射能の計算書!$B$38&照射試料の誘導放射能の計算書!$D$38,COUNTIF($K115:$K373,照射試料の誘導放射能の計算書!$B$38&照射試料の誘導放射能の計算書!$D$38),\"\")","v":""},{"$f":"IF($K115=照射試料の誘導放射能の計算書!$B$39&照射試料の誘導放射能の計算書!$D$39,COUNTIF($K115:$K373,照射試料の誘導放射能の計算書!$B$39&照射試料の誘導放射能の計算書!$D$39),\"\")","v":""},{"$f":"IF($K115=照射試料の誘導放射能の計算書!$B$40&照射試料の誘導放射能の計算書!$D$40,COUNTIF($K115:$K373,照射試料の誘導放射能の計算書!$B$40&照射試料の誘導放射能の計算書!$D$40),\"\")","v":""},"Cd-113m","(n,γ)Cd-113m",0.03,14.6,"y"]
[48,"Ba-136","Cd",114,"Cd-114",28.73,"(n,γ)","Cd115","Cd",{"$f":"RIGHT(H116,3)","v":"115"},"Cd-114(n,γ)",{"$f":"IF($K116=照射試料の誘導放射能の計算書!$B$31&照射試料の誘導放射能の計算書!$D$31,COUNTIF($K116:$K374,照射試料の誘導放射能の計算書!$B$31&照射試料の誘導放射能の計算書!$D$31),\"\")","v":""},{"$f":"IF($K116=照射試料の誘導放射能の計算書!$B$32&照射試料の誘導放射能の計算書!$D$32,COUNTIF($K116:$K374,照射試料の誘導放射能の計算書!$B$32&照射試料の誘導放射能の計算書!$D$32),\"\")","v":""},{"$f":"IF($K116=照射試料の誘導放射能の計算書!$B$33&照射試料の誘導放射能の計算書!$D$33,COUNTIF($K116:$K374,照射試料の誘導放射能の計算書!$B$33&照射試料の誘導放射能の計算書!$D$33),\"\")","v":""},{"$f":"IF($K116=照射試料の誘導放射能の計算書!$B$34&照射試料の誘導放射能の計算書!$D$34,COUNTIF($K116:$K374,照射試料の誘導放射能の計算書!$B$34&照射試料の誘導放射能の計算書!$D$34),\"\")","v":""},{"$f":"IF($K116=照射試料の誘導放射能の計算書!$B$35&照射試料の誘導放射能の計算書!$D$35,COUNTIF($K116:$K374,照射試料の誘導放射能の計算書!$B$35&照射試料の誘導放射能の計算書!$D$35),\"\")","v":""},{"$f":"IF($K116=照射試料の誘導放射能の計算書!$B$36&照射試料の誘導放射能の計算書!$D$36,COUNTIF($K116:$K374,照射試料の誘導放射能の計算書!$B$36&照射試料の誘導放射能の計算書!$D$36),\"\")","v":""},{"$f":"IF($K116=照射試料の誘導放射能の計算書!$B$37&照射試料の誘導放射能の計算書!$D$37,COUNTIF($K116:$K374,照射試料の誘導放射能の計算書!$B$37&照射試料の誘導放射能の計算書!$D$37),\"\")","v":""},{"$f":"IF($K116=照射試料の誘導放射能の計算書!$B$38&照射試料の誘導放射能の計算書!$D$38,COUNTIF($K116:$K374,照射試料の誘導放射能の計算書!$B$38&照射試料の誘導放射能の計算書!$D$38),\"\")","v":""},{"$f":"IF($K116=照射試料の誘導放射能の計算書!$B$39&照射試料の誘導放射能の計算書!$D$39,COUNTIF($K116:$K374,照射試料の誘導放射能の計算書!$B$39&照射試料の誘導放射能の計算書!$D$39),\"\")","v":""},{"$f":"IF($K116=照射試料の誘導放射能の計算書!$B$40&照射試料の誘導放射能の計算書!$D$40,COUNTIF($K116:$K374,照射試料の誘導放射能の計算書!$B$40&照射試料の誘導放射能の計算書!$D$40),\"\")","v":""},"Cd-115","(n,γ)Cd-115",0.3,53.38,"h"]
[48,"Ba-138","Cd",114,"Cd-114",28.73,"(n,γ)","Cd115m","Cd",{"$f":"RIGHT(H117,4)","v":"115m"},"Cd-114(n,γ)",{"$f":"IF($K117=照射試料の誘導放射能の計算書!$B$31&照射試料の誘導放射能の計算書!$D$31,COUNTIF($K117:$K375,照射試料の誘導放射能の計算書!$B$31&照射試料の誘導放射能の計算書!$D$31),\"\")","v":""},{"$f":"IF($K117=照射試料の誘導放射能の計算書!$B$32&照射試料の誘導放射能の計算書!$D$32,COUNTIF($K117:$K375,照射試料の誘導放射能の計算書!$B$32&照射試料の誘導放射能の計算書!$D$32),\"\")","v":""},{"$f":"IF($K117=照射試料の誘導放射能の計算書!$B$33&照射試料の誘導放射能の計算書!$D$33,COUNTIF($K117:$K375,照射試料の誘導放射能の計算書!$B$33&照射試料の誘導放射能の計算書!$D$33),\"\")","v":""},{"$f":"IF($K117=照射試料の誘導放射能の計算書!$B$34&照射試料の誘導放射能の計算書!$D$34,COUNTIF($K117:$K375,照射試料の誘導放射能の計算書!$B$34&照射試料の誘導放射能の計算書!$D$34),\"\")","v":""},{"$f":"IF($K117=照射試料の誘導放射能の計算書!$B$35&照射試料の誘導放射能の計算書!$D$35,COUNTIF($K117:$K375,照射試料の誘導放射能の計算書!$B$35&照射試料の誘導放射能の計算書!$D$35),\"\")","v":""},{"$f":"IF($K117=照射試料の誘導放射能の計算書!$B$36&照射試料の誘導放射能の計算書!$D$36,COUNTIF($K117:$K375,照射試料の誘導放射能の計算書!$B$36&照射試料の誘導放射能の計算書!$D$36),\"\")","v":""},{"$f":"IF($K117=照射試料の誘導放射能の計算書!$B$37&照射試料の誘導放射能の計算書!$D$37,COUNTIF($K117:$K375,照射試料の誘導放射能の計算書!$B$37&照射試料の誘導放射能の計算書!$D$37),\"\")","v":""},{"$f":"IF($K117=照射試料の誘導放射能の計算書!$B$38&照射試料の誘導放射能の計算書!$D$38,COUNTIF($K117:$K375,照射試料の誘導放射能の計算書!$B$38&照射試料の誘導放射能の計算書!$D$38),\"\")","v":""},{"$f":"IF($K117=照射試料の誘導放射能の計算書!$B$39&照射試料の誘導放射能の計算書!$D$39,COUNTIF($K117:$K375,照射試料の誘導放射能の計算書!$B$39&照射試料の誘導放射能の計算書!$D$39),\"\")","v":""},{"$f":"IF($K117=照射試料の誘導放射能の計算書!$B$40&照射試料の誘導放射能の計算書!$D$40,COUNTIF($K117:$K375,照射試料の誘導放射能の計算書!$B$40&照射試料の誘導放射能の計算書!$D$40),\"\")","v":""},"Cd-115m","(n,γ)Cd-115m",3.5999999999999997E-2,44.8,"d"]
[48,"La-139","Cd",116,"Cd-116",7.49,"(n,γ)","Cd117","Cd",{"$f":"RIGHT(H118,3)","v":"117"},"Cd-116(n,γ)",{"$f":"IF($K118=照射試料の誘導放射能の計算書!$B$31&照射試料の誘導放射能の計算書!$D$31,COUNTIF($K118:$K376,照射試料の誘導放射能の計算書!$B$31&照射試料の誘導放射能の計算書!$D$31),\"\")","v":""},{"$f":"IF($K118=照射試料の誘導放射能の計算書!$B$32&照射試料の誘導放射能の計算書!$D$32,COUNTIF($K118:$K376,照射試料の誘導放射能の計算書!$B$32&照射試料の誘導放射能の計算書!$D$32),\"\")","v":""},{"$f":"IF($K118=照射試料の誘導放射能の計算書!$B$33&照射試料の誘導放射能の計算書!$D$33,COUNTIF($K118:$K376,照射試料の誘導放射能の計算書!$B$33&照射試料の誘導放射能の計算書!$D$33),\"\")","v":""},{"$f":"IF($K118=照射試料の誘導放射能の計算書!$B$34&照射試料の誘導放射能の計算書!$D$34,COUNTIF($K118:$K376,照射試料の誘導放射能の計算書!$B$34&照射試料の誘導放射能の計算書!$D$34),\"\")","v":""},{"$f":"IF($K118=照射試料の誘導放射能の計算書!$B$35&照射試料の誘導放射能の計算書!$D$35,COUNTIF($K118:$K376,照射試料の誘導放射能の計算書!$B$35&照射試料の誘導放射能の計算書!$D$35),\"\")","v":""},{"$f":"IF($K118=照射試料の誘導放射能の計算書!$B$36&照射試料の誘導放射能の計算書!$D$36,COUNTIF($K118:$K376,照射試料の誘導放射能の計算書!$B$36&照射試料の誘導放射能の計算書!$D$36),\"\")","v":""},{"$f":"IF($K118=照射試料の誘導放射能の計算書!$B$37&照射試料の誘導放射能の計算書!$D$37,COUNTIF($K118:$K376,照射試料の誘導放射能の計算書!$B$37&照射試料の誘導放射能の計算書!$D$37),\"\")","v":""},{"$f":"IF($K118=照射試料の誘導放射能の計算書!$B$38&照射試料の誘導放射能の計算書!$D$38,COUNTIF($K118:$K376,照射試料の誘導放射能の計算書!$B$38&照射試料の誘導放射能の計算書!$D$38),\"\")","v":""},{"$f":"IF($K118=照射試料の誘導放射能の計算書!$B$39&照射試料の誘導放射能の計算書!$D$39,COUNTIF($K118:$K376,照射試料の誘導放射能の計算書!$B$39&照射試料の誘導放射能の計算書!$D$39),\"\")","v":""},{"$f":"IF($K118=照射試料の誘導放射能の計算書!$B$40&照射試料の誘導放射能の計算書!$D$40,COUNTIF($K118:$K376,照射試料の誘導放射能の計算書!$B$40&照射試料の誘導放射能の計算書!$D$40),\"\")","v":""},"Cd-117","(n,γ)Cd-117",5.1999999999999998E-2,2.42,"h"]
[48,"Ce-136","Cd",116,"Cd-116",7.49,"(n,γ)","Cd117m","Cd",{"$f":"RIGHT(H119,4)","v":"117m"},"Cd-116(n,γ)",{"$f":"IF($K119=照射試料の誘導放射能の計算書!$B$31&照射試料の誘導放射能の計算書!$D$31,COUNTIF($K119:$K377,照射試料の誘導放射能の計算書!$B$31&照射試料の誘導放射能の計算書!$D$31),\"\")","v":""},{"$f":"IF($K119=照射試料の誘導放射能の計算書!$B$32&照射試料の誘導放射能の計算書!$D$32,COUNTIF($K119:$K377,照射試料の誘導放射能の計算書!$B$32&照射試料の誘導放射能の計算書!$D$32),\"\")","v":""},{"$f":"IF($K119=照射試料の誘導放射能の計算書!$B$33&照射試料の誘導放射能の計算書!$D$33,COUNTIF($K119:$K377,照射試料の誘導放射能の計算書!$B$33&照射試料の誘導放射能の計算書!$D$33),\"\")","v":""},{"$f":"IF($K119=照射試料の誘導放射能の計算書!$B$34&照射試料の誘導放射能の計算書!$D$34,COUNTIF($K119:$K377,照射試料の誘導放射能の計算書!$B$34&照射試料の誘導放射能の計算書!$D$34),\"\")","v":""},{"$f":"IF($K119=照射試料の誘導放射能の計算書!$B$35&照射試料の誘導放射能の計算書!$D$35,COUNTIF($K119:$K377,照射試料の誘導放射能の計算書!$B$35&照射試料の誘導放射能の計算書!$D$35),\"\")","v":""},{"$f":"IF($K119=照射試料の誘導放射能の計算書!$B$36&照射試料の誘導放射能の計算書!$D$36,COUNTIF($K119:$K377,照射試料の誘導放射能の計算書!$B$36&照射試料の誘導放射能の計算書!$D$36),\"\")","v":""},{"$f":"IF($K119=照射試料の誘導放射能の計算書!$B$37&照射試料の誘導放射能の計算書!$D$37,COUNTIF($K119:$K377,照射試料の誘導放射能の計算書!$B$37&照射試料の誘導放射能の計算書!$D$37),\"\")","v":""},{"$f":"IF($K119=照射試料の誘導放射能の計算書!$B$38&照射試料の誘導放射能の計算書!$D$38,COUNTIF($K119:$K377,照射試料の誘導放射能の計算書!$B$38&照射試料の誘導放射能の計算書!$D$38),\"\")","v":""},{"$f":"IF($K119=照射試料の誘導放射能の計算書!$B$39&照射試料の誘導放射能の計算書!$D$39,COUNTIF($K119:$K377,照射試料の誘導放射能の計算書!$B$39&照射試料の誘導放射能の計算書!$D$39),\"\")","v":""},{"$f":"IF($K119=照射試料の誘導放射能の計算書!$B$40&照射試料の誘導放射能の計算書!$D$40,COUNTIF($K119:$K377,照射試料の誘導放射能の計算書!$B$40&照射試料の誘導放射能の計算書!$D$40),\"\")","v":""},"Cd-117m","(n,γ)Cd-117m",2.7E-2,3.31,"h"]
[49,"Ce-138","In",113,"In-113",4.3,"(n,γ)","In114","In",{"$f":"RIGHT(H120,3)","v":"114"},"In-113(n,γ)",{"$f":"IF($K120=照射試料の誘導放射能の計算書!$B$31&照射試料の誘導放射能の計算書!$D$31,COUNTIF($K120:$K378,照射試料の誘導放射能の計算書!$B$31&照射試料の誘導放射能の計算書!$D$31),\"\")","v":""},{"$f":"IF($K120=照射試料の誘導放射能の計算書!$B$32&照射試料の誘導放射能の計算書!$D$32,COUNTIF($K120:$K378,照射試料の誘導放射能の計算書!$B$32&照射試料の誘導放射能の計算書!$D$32),\"\")","v":""},{"$f":"IF($K120=照射試料の誘導放射能の計算書!$B$33&照射試料の誘導放射能の計算書!$D$33,COUNTIF($K120:$K378,照射試料の誘導放射能の計算書!$B$33&照射試料の誘導放射能の計算書!$D$33),\"\")","v":""},{"$f":"IF($K120=照射試料の誘導放射能の計算書!$B$34&照射試料の誘導放射能の計算書!$D$34,COUNTIF($K120:$K378,照射試料の誘導放射能の計算書!$B$34&照射試料の誘導放射能の計算書!$D$34),\"\")","v":""},{"$f":"IF($K120=照射試料の誘導放射能の計算書!$B$35&照射試料の誘導放射能の計算書!$D$35,COUNTIF($K120:$K378,照射試料の誘導放射能の計算書!$B$35&照射試料の誘導放射能の計算書!$D$35),\"\")","v":""},{"$f":"IF($K120=照射試料の誘導放射能の計算書!$B$36&照射試料の誘導放射能の計算書!$D$36,COUNTIF($K120:$K378,照射試料の誘導放射能の計算書!$B$36&照射試料の誘導放射能の計算書!$D$36),\"\")","v":""},{"$f":"IF($K120=照射試料の誘導放射能の計算書!$B$37&照射試料の誘導放射能の計算書!$D$37,COUNTIF($K120:$K378,照射試料の誘導放射能の計算書!$B$37&照射試料の誘導放射能の計算書!$D$37),\"\")","v":""},{"$f":"IF($K120=照射試料の誘導放射能の計算書!$B$38&照射試料の誘導放射能の計算書!$D$38,COUNTIF($K120:$K378,照射試料の誘導放射能の計算書!$B$38&照射試料の誘導放射能の計算書!$D$38),\"\")","v":""},{"$f":"IF($K120=照射試料の誘導放射能の計算書!$B$39&照射試料の誘導放射能の計算書!$D$39,COUNTIF($K120:$K378,照射試料の誘導放射能の計算書!$B$39&照射試料の誘導放射能の計算書!$D$39),\"\")","v":""},{"$f":"IF($K120=照射試料の誘導放射能の計算書!$B$40&照射試料の誘導放射能の計算書!$D$40,COUNTIF($K120:$K378,照射試料の誘導放射能の計算書!$B$40&照射試料の誘導放射能の計算書!$D$40),\"\")","v":""},"In-114","(n,γ)In-114",3.9,71.900000000000006,"s"]
[49,"Ce-140","In",113,"In-113",4.3,"(n,γ)","In114m","In",{"$f":"RIGHT(H121,4)","v":"114m"},"In-113(n,γ)",{"$f":"IF($K121=照射試料の誘導放射能の計算書!$B$31&照射試料の誘導放射能の計算書!$D$31,COUNTIF($K121:$K379,照射試料の誘導放射能の計算書!$B$31&照射試料の誘導放射能の計算書!$D$31),\"\")","v":""},{"$f":"IF($K121=照射試料の誘導放射能の計算書!$B$32&照射試料の誘導放射能の計算書!$D$32,COUNTIF($K121:$K379,照射試料の誘導放射能の計算書!$B$32&照射試料の誘導放射能の計算書!$D$32),\"\")","v":""},{"$f":"IF($K121=照射試料の誘導放射能の計算書!$B$33&照射試料の誘導放射能の計算書!$D$33,COUNTIF($K121:$K379,照射試料の誘導放射能の計算書!$B$33&照射試料の誘導放射能の計算書!$D$33),\"\")","v":""},{"$f":"IF($K121=照射試料の誘導放射能の計算書!$B$34&照射試料の誘導放射能の計算書!$D$34,COUNTIF($K121:$K379,照射試料の誘導放射能の計算書!$B$34&照射試料の誘導放射能の計算書!$D$34),\"\")","v":""},{"$f":"IF($K121=照射試料の誘導放射能の計算書!$B$35&照射試料の誘導放射能の計算書!$D$35,COUNTIF($K121:$K379,照射試料の誘導放射能の計算書!$B$35&照射試料の誘導放射能の計算書!$D$35),\"\")","v":""},{"$f":"IF($K121=照射試料の誘導放射能の計算書!$B$36&照射試料の誘導放射能の計算書!$D$36,COUNTIF($K121:$K379,照射試料の誘導放射能の計算書!$B$36&照射試料の誘導放射能の計算書!$D$36),\"\")","v":""},{"$f":"IF($K121=照射試料の誘導放射能の計算書!$B$37&照射試料の誘導放射能の計算書!$D$37,COUNTIF($K121:$K379,照射試料の誘導放射能の計算書!$B$37&照射試料の誘導放射能の計算書!$D$37),\"\")","v":""},{"$f":"IF($K121=照射試料の誘導放射能の計算書!$B$38&照射試料の誘導放射能の計算書!$D$38,COUNTIF($K121:$K379,照射試料の誘導放射能の計算書!$B$38&照射試料の誘導放射能の計算書!$D$38),\"\")","v":""},{"$f":"IF($K121=照射試料の誘導放射能の計算書!$B$39&照射試料の誘導放射能の計算書!$D$39,COUNTIF($K121:$K379,照射試料の誘導放射能の計算書!$B$39&照射試料の誘導放射能の計算書!$D$39),\"\")","v":""},{"$f":"IF($K121=照射試料の誘導放射能の計算書!$B$40&照射試料の誘導放射能の計算書!$D$40,COUNTIF($K121:$K379,照射試料の誘導放射能の計算書!$B$40&照射試料の誘導放射能の計算書!$D$40),\"\")","v":""},"In-114m","(n,γ)In-114m",4.4000000000000004,49.5,"d"]
[49,"Ce-142","In",115,"In-115",95.7,"(n,γ)","In116","In",{"$f":"RIGHT(H122,3)","v":"116"},"In-115(n,γ)",{"$f":"IF($K122=照射試料の誘導放射能の計算書!$B$31&照射試料の誘導放射能の計算書!$D$31,COUNTIF($K122:$K380,照射試料の誘導放射能の計算書!$B$31&照射試料の誘導放射能の計算書!$D$31),\"\")","v":""},{"$f":"IF($K122=照射試料の誘導放射能の計算書!$B$32&照射試料の誘導放射能の計算書!$D$32,COUNTIF($K122:$K380,照射試料の誘導放射能の計算書!$B$32&照射試料の誘導放射能の計算書!$D$32),\"\")","v":""},{"$f":"IF($K122=照射試料の誘導放射能の計算書!$B$33&照射試料の誘導放射能の計算書!$D$33,COUNTIF($K122:$K380,照射試料の誘導放射能の計算書!$B$33&照射試料の誘導放射能の計算書!$D$33),\"\")","v":""},{"$f":"IF($K122=照射試料の誘導放射能の計算書!$B$34&照射試料の誘導放射能の計算書!$D$34,COUNTIF($K122:$K380,照射試料の誘導放射能の計算書!$B$34&照射試料の誘導放射能の計算書!$D$34),\"\")","v":""},{"$f":"IF($K122=照射試料の誘導放射能の計算書!$B$35&照射試料の誘導放射能の計算書!$D$35,COUNTIF($K122:$K380,照射試料の誘導放射能の計算書!$B$35&照射試料の誘導放射能の計算書!$D$35),\"\")","v":""},{"$f":"IF($K122=照射試料の誘導放射能の計算書!$B$36&照射試料の誘導放射能の計算書!$D$36,COUNTIF($K122:$K380,照射試料の誘導放射能の計算書!$B$36&照射試料の誘導放射能の計算書!$D$36),\"\")","v":""},{"$f":"IF($K122=照射試料の誘導放射能の計算書!$B$37&照射試料の誘導放射能の計算書!$D$37,COUNTIF($K122:$K380,照射試料の誘導放射能の計算書!$B$37&照射試料の誘導放射能の計算書!$D$37),\"\")","v":""},{"$f":"IF($K122=照射試料の誘導放射能の計算書!$B$38&照射試料の誘導放射能の計算書!$D$38,COUNTIF($K122:$K380,照射試料の誘導放射能の計算書!$B$38&照射試料の誘導放射能の計算書!$D$38),\"\")","v":""},{"$f":"IF($K122=照射試料の誘導放射能の計算書!$B$39&照射試料の誘導放射能の計算書!$D$39,COUNTIF($K122:$K380,照射試料の誘導放射能の計算書!$B$39&照射試料の誘導放射能の計算書!$D$39),\"\")","v":""},{"$f":"IF($K122=照射試料の誘導放射能の計算書!$B$40&照射試料の誘導放射能の計算書!$D$40,COUNTIF($K122:$K380,照射試料の誘導放射能の計算書!$B$40&照射試料の誘導放射能の計算書!$D$40),\"\")","v":""},"In-116","(n,γ)In-116",45,14,"s"]
[49,"Pr-141","In",115,"In-115",95.7,"(n,γ)","In116m1","In",{"$f":"RIGHT(H123,5)","v":"116m1"},"In-115(n,γ)",{"$f":"IF($K123=照射試料の誘導放射能の計算書!$B$31&照射試料の誘導放射能の計算書!$D$31,COUNTIF($K123:$K381,照射試料の誘導放射能の計算書!$B$31&照射試料の誘導放射能の計算書!$D$31),\"\")","v":""},{"$f":"IF($K123=照射試料の誘導放射能の計算書!$B$32&照射試料の誘導放射能の計算書!$D$32,COUNTIF($K123:$K381,照射試料の誘導放射能の計算書!$B$32&照射試料の誘導放射能の計算書!$D$32),\"\")","v":""},{"$f":"IF($K123=照射試料の誘導放射能の計算書!$B$33&照射試料の誘導放射能の計算書!$D$33,COUNTIF($K123:$K381,照射試料の誘導放射能の計算書!$B$33&照射試料の誘導放射能の計算書!$D$33),\"\")","v":""},{"$f":"IF($K123=照射試料の誘導放射能の計算書!$B$34&照射試料の誘導放射能の計算書!$D$34,COUNTIF($K123:$K381,照射試料の誘導放射能の計算書!$B$34&照射試料の誘導放射能の計算書!$D$34),\"\")","v":""},{"$f":"IF($K123=照射試料の誘導放射能の計算書!$B$35&照射試料の誘導放射能の計算書!$D$35,COUNTIF($K123:$K381,照射試料の誘導放射能の計算書!$B$35&照射試料の誘導放射能の計算書!$D$35),\"\")","v":""},{"$f":"IF($K123=照射試料の誘導放射能の計算書!$B$36&照射試料の誘導放射能の計算書!$D$36,COUNTIF($K123:$K381,照射試料の誘導放射能の計算書!$B$36&照射試料の誘導放射能の計算書!$D$36),\"\")","v":""},{"$f":"IF($K123=照射試料の誘導放射能の計算書!$B$37&照射試料の誘導放射能の計算書!$D$37,COUNTIF($K123:$K381,照射試料の誘導放射能の計算書!$B$37&照射試料の誘導放射能の計算書!$D$37),\"\")","v":""},{"$f":"IF($K123=照射試料の誘導放射能の計算書!$B$38&照射試料の誘導放射能の計算書!$D$38,COUNTIF($K123:$K381,照射試料の誘導放射能の計算書!$B$38&照射試料の誘導放射能の計算書!$D$38),\"\")","v":""},{"$f":"IF($K123=照射試料の誘導放射能の計算書!$B$39&照射試料の誘導放射能の計算書!$D$39,COUNTIF($K123:$K381,照射試料の誘導放射能の計算書!$B$39&照射試料の誘導放射能の計算書!$D$39),\"\")","v":""},{"$f":"IF($K123=照射試料の誘導放射能の計算書!$B$40&照射試料の誘導放射能の計算書!$D$40,COUNTIF($K123:$K381,照射試料の誘導放射能の計算書!$B$40&照射試料の誘導放射能の計算書!$D$40),\"\")","v":""},"In-116m1","(n,γ)In-116m1",157,54,"min"]
[49,"Nd-143","In",115,"In-115",95.7,"(n,γ)","In116m2","In",{"$f":"RIGHT(H124,5)","v":"116m2"},"In-115(n,γ)",{"$f":"IF($K124=照射試料の誘導放射能の計算書!$B$31&照射試料の誘導放射能の計算書!$D$31,COUNTIF($K124:$K382,照射試料の誘導放射能の計算書!$B$31&照射試料の誘導放射能の計算書!$D$31),\"\")","v":""},{"$f":"IF($K124=照射試料の誘導放射能の計算書!$B$32&照射試料の誘導放射能の計算書!$D$32,COUNTIF($K124:$K382,照射試料の誘導放射能の計算書!$B$32&照射試料の誘導放射能の計算書!$D$32),\"\")","v":""},{"$f":"IF($K124=照射試料の誘導放射能の計算書!$B$33&照射試料の誘導放射能の計算書!$D$33,COUNTIF($K124:$K382,照射試料の誘導放射能の計算書!$B$33&照射試料の誘導放射能の計算書!$D$33),\"\")","v":""},{"$f":"IF($K124=照射試料の誘導放射能の計算書!$B$34&照射試料の誘導放射能の計算書!$D$34,COUNTIF($K124:$K382,照射試料の誘導放射能の計算書!$B$34&照射試料の誘導放射能の計算書!$D$34),\"\")","v":""},{"$f":"IF($K124=照射試料の誘導放射能の計算書!$B$35&照射試料の誘導放射能の計算書!$D$35,COUNTIF($K124:$K382,照射試料の誘導放射能の計算書!$B$35&照射試料の誘導放射能の計算書!$D$35),\"\")","v":""},{"$f":"IF($K124=照射試料の誘導放射能の計算書!$B$36&照射試料の誘導放射能の計算書!$D$36,COUNTIF($K124:$K382,照射試料の誘導放射能の計算書!$B$36&照射試料の誘導放射能の計算書!$D$36),\"\")","v":""},{"$f":"IF($K124=照射試料の誘導放射能の計算書!$B$37&照射試料の誘導放射能の計算書!$D$37,COUNTIF($K124:$K382,照射試料の誘導放射能の計算書!$B$37&照射試料の誘導放射能の計算書!$D$37),\"\")","v":""},{"$f":"IF($K124=照射試料の誘導放射能の計算書!$B$38&照射試料の誘導放射能の計算書!$D$38,COUNTIF($K124:$K382,照射試料の誘導放射能の計算書!$B$38&照射試料の誘導放射能の計算書!$D$38),\"\")","v":""},{"$f":"IF($K124=照射試料の誘導放射能の計算書!$B$39&照射試料の誘導放射能の計算書!$D$39,COUNTIF($K124:$K382,照射試料の誘導放射能の計算書!$B$39&照射試料の誘導放射能の計算書!$D$39),\"\")","v":""},{"$f":"IF($K124=照射試料の誘導放射能の計算書!$B$40&照射試料の誘導放射能の計算書!$D$40,COUNTIF($K124:$K382,照射試料の誘導放射能の計算書!$B$40&照射試料の誘導放射能の計算書!$D$40),\"\")","v":""},"In-116m2","(n,γ)In-116m2",92,2.2000000000000002,"s"]
[50,"Nd-146","Sn",112,"Sn-112",0.97,"(n,γ)","Sn113","Sn",{"$f":"RIGHT(H125,3)","v":"113"},"Sn-112(n,γ)",{"$f":"IF($K125=照射試料の誘導放射能の計算書!$B$31&照射試料の誘導放射能の計算書!$D$31,COUNTIF($K125:$K383,照射試料の誘導放射能の計算書!$B$31&照射試料の誘導放射能の計算書!$D$31),\"\")","v":""},{"$f":"IF($K125=照射試料の誘導放射能の計算書!$B$32&照射試料の誘導放射能の計算書!$D$32,COUNTIF($K125:$K383,照射試料の誘導放射能の計算書!$B$32&照射試料の誘導放射能の計算書!$D$32),\"\")","v":""},{"$f":"IF($K125=照射試料の誘導放射能の計算書!$B$33&照射試料の誘導放射能の計算書!$D$33,COUNTIF($K125:$K383,照射試料の誘導放射能の計算書!$B$33&照射試料の誘導放射能の計算書!$D$33),\"\")","v":""},{"$f":"IF($K125=照射試料の誘導放射能の計算書!$B$34&照射試料の誘導放射能の計算書!$D$34,COUNTIF($K125:$K383,照射試料の誘導放射能の計算書!$B$34&照射試料の誘導放射能の計算書!$D$34),\"\")","v":""},{"$f":"IF($K125=照射試料の誘導放射能の計算書!$B$35&照射試料の誘導放射能の計算書!$D$35,COUNTIF($K125:$K383,照射試料の誘導放射能の計算書!$B$35&照射試料の誘導放射能の計算書!$D$35),\"\")","v":""},{"$f":"IF($K125=照射試料の誘導放射能の計算書!$B$36&照射試料の誘導放射能の計算書!$D$36,COUNTIF($K125:$K383,照射試料の誘導放射能の計算書!$B$36&照射試料の誘導放射能の計算書!$D$36),\"\")","v":""},{"$f":"IF($K125=照射試料の誘導放射能の計算書!$B$37&照射試料の誘導放射能の計算書!$D$37,COUNTIF($K125:$K383,照射試料の誘導放射能の計算書!$B$37&照射試料の誘導放射能の計算書!$D$37),\"\")","v":""},{"$f":"IF($K125=照射試料の誘導放射能の計算書!$B$38&照射試料の誘導放射能の計算書!$D$38,COUNTIF($K125:$K383,照射試料の誘導放射能の計算書!$B$38&照射試料の誘導放射能の計算書!$D$38),\"\")","v":""},{"$f":"IF($K125=照射試料の誘導放射能の計算書!$B$39&照射試料の誘導放射能の計算書!$D$39,COUNTIF($K125:$K383,照射試料の誘導放射能の計算書!$B$39&照射試料の誘導放射能の計算書!$D$39),\"\")","v":""},{"$f":"IF($K125=照射試料の誘導放射能の計算書!$B$40&照射試料の誘導放射能の計算書!$D$40,COUNTIF($K125:$K383,照射試料の誘導放射能の計算書!$B$40&照射試料の誘導放射能の計算書!$D$40),\"\")","v":""},"Sn-113","(n,γ)Sn-113",0.8,115.1,"d"]
[50,"Nd-148","Sn",112,"Sn-112",0.97,"(n,γ)","Sn113m","Sn",{"$f":"RIGHT(H126,4)","v":"113m"},"Sn-112(n,γ)",{"$f":"IF($K126=照射試料の誘導放射能の計算書!$B$31&照射試料の誘導放射能の計算書!$D$31,COUNTIF($K126:$K384,照射試料の誘導放射能の計算書!$B$31&照射試料の誘導放射能の計算書!$D$31),\"\")","v":""},{"$f":"IF($K126=照射試料の誘導放射能の計算書!$B$32&照射試料の誘導放射能の計算書!$D$32,COUNTIF($K126:$K384,照射試料の誘導放射能の計算書!$B$32&照射試料の誘導放射能の計算書!$D$32),\"\")","v":""},{"$f":"IF($K126=照射試料の誘導放射能の計算書!$B$33&照射試料の誘導放射能の計算書!$D$33,COUNTIF($K126:$K384,照射試料の誘導放射能の計算書!$B$33&照射試料の誘導放射能の計算書!$D$33),\"\")","v":""},{"$f":"IF($K126=照射試料の誘導放射能の計算書!$B$34&照射試料の誘導放射能の計算書!$D$34,COUNTIF($K126:$K384,照射試料の誘導放射能の計算書!$B$34&照射試料の誘導放射能の計算書!$D$34),\"\")","v":""},{"$f":"IF($K126=照射試料の誘導放射能の計算書!$B$35&照射試料の誘導放射能の計算書!$D$35,COUNTIF($K126:$K384,照射試料の誘導放射能の計算書!$B$35&照射試料の誘導放射能の計算書!$D$35),\"\")","v":""},{"$f":"IF($K126=照射試料の誘導放射能の計算書!$B$36&照射試料の誘導放射能の計算書!$D$36,COUNTIF($K126:$K384,照射試料の誘導放射能の計算書!$B$36&照射試料の誘導放射能の計算書!$D$36),\"\")","v":""},{"$f":"IF($K126=照射試料の誘導放射能の計算書!$B$37&照射試料の誘導放射能の計算書!$D$37,COUNTIF($K126:$K384,照射試料の誘導放射能の計算書!$B$37&照射試料の誘導放射能の計算書!$D$37),\"\")","v":""},{"$f":"IF($K126=照射試料の誘導放射能の計算書!$B$38&照射試料の誘導放射能の計算書!$D$38,COUNTIF($K126:$K384,照射試料の誘導放射能の計算書!$B$38&照射試料の誘導放射能の計算書!$D$38),\"\")","v":""},{"$f":"IF($K126=照射試料の誘導放射能の計算書!$B$39&照射試料の誘導放射能の計算書!$D$39,COUNTIF($K126:$K384,照射試料の誘導放射能の計算書!$B$39&照射試料の誘導放射能の計算書!$D$39),\"\")","v":""},{"$f":"IF($K126=照射試料の誘導放射能の計算書!$B$40&照射試料の誘導放射能の計算書!$D$40,COUNTIF($K126:$K384,照射試料の誘導放射能の計算書!$B$40&照射試料の誘導放射能の計算書!$D$40),\"\")","v":""},"Sn-113m","(n,γ)Sn-113m",0.35,21.4,"min"]
[50,"Nd-150","Sn",120,"Sn-120",32.590000000000003,"(n,γ)","Sn121","Sn",{"$f":"RIGHT(H127,3)","v":"121"},"Sn-120(n,γ)",{"$f":"IF($K127=照射試料の誘導放射能の計算書!$B$31&照射試料の誘導放射能の計算書!$D$31,COUNTIF($K127:$K385,照射試料の誘導放射能の計算書!$B$31&照射試料の誘導放射能の計算書!$D$31),\"\")","v":""},{"$f":"IF($K127=照射試料の誘導放射能の計算書!$B$32&照射試料の誘導放射能の計算書!$D$32,COUNTIF($K127:$K385,照射試料の誘導放射能の計算書!$B$32&照射試料の誘導放射能の計算書!$D$32),\"\")","v":""},{"$f":"IF($K127=照射試料の誘導放射能の計算書!$B$33&照射試料の誘導放射能の計算書!$D$33,COUNTIF($K127:$K385,照射試料の誘導放射能の計算書!$B$33&照射試料の誘導放射能の計算書!$D$33),\"\")","v":""},{"$f":"IF($K127=照射試料の誘導放射能の計算書!$B$34&照射試料の誘導放射能の計算書!$D$34,COUNTIF($K127:$K385,照射試料の誘導放射能の計算書!$B$34&照射試料の誘導放射能の計算書!$D$34),\"\")","v":""},{"$f":"IF($K127=照射試料の誘導放射能の計算書!$B$35&照射試料の誘導放射能の計算書!$D$35,COUNTIF($K127:$K385,照射試料の誘導放射能の計算書!$B$35&照射試料の誘導放射能の計算書!$D$35),\"\")","v":""},{"$f":"IF($K127=照射試料の誘導放射能の計算書!$B$36&照射試料の誘導放射能の計算書!$D$36,COUNTIF($K127:$K385,照射試料の誘導放射能の計算書!$B$36&照射試料の誘導放射能の計算書!$D$36),\"\")","v":""},{"$f":"IF($K127=照射試料の誘導放射能の計算書!$B$37&照射試料の誘導放射能の計算書!$D$37,COUNTIF($K127:$K385,照射試料の誘導放射能の計算書!$B$37&照射試料の誘導放射能の計算書!$D$37),\"\")","v":""},{"$f":"IF($K127=照射試料の誘導放射能の計算書!$B$38&照射試料の誘導放射能の計算書!$D$38,COUNTIF($K127:$K385,照射試料の誘導放射能の計算書!$B$38&照射試料の誘導放射能の計算書!$D$38),\"\")","v":""},{"$f":"IF($K127=照射試料の誘導放射能の計算書!$B$39&照射試料の誘導放射能の計算書!$D$39,COUNTIF($K127:$K385,照射試料の誘導放射能の計算書!$B$39&照射試料の誘導放射能の計算書!$D$39),\"\")","v":""},{"$f":"IF($K127=照射試料の誘導放射能の計算書!$B$40&照射試料の誘導放射能の計算書!$D$40,COUNTIF($K127:$K385,照射試料の誘導放射能の計算書!$B$40&照射試料の誘導放射能の計算書!$D$40),\"\")","v":""},"Sn-121","(n,γ)Sn-121",0.13,27,"h"]
[50,"Sm-144","Sn",120,"Sn-120",32.590000000000003,"(n,γ)","Sn121m","Sn",{"$f":"RIGHT(H128,4)","v":"121m"},"Sn-120(n,γ)",{"$f":"IF($K128=照射試料の誘導放射能の計算書!$B$31&照射試料の誘導放射能の計算書!$D$31,COUNTIF($K128:$K386,照射試料の誘導放射能の計算書!$B$31&照射試料の誘導放射能の計算書!$D$31),\"\")","v":""},{"$f":"IF($K128=照射試料の誘導放射能の計算書!$B$32&照射試料の誘導放射能の計算書!$D$32,COUNTIF($K128:$K386,照射試料の誘導放射能の計算書!$B$32&照射試料の誘導放射能の計算書!$D$32),\"\")","v":""},{"$f":"IF($K128=照射試料の誘導放射能の計算書!$B$33&照射試料の誘導放射能の計算書!$D$33,COUNTIF($K128:$K386,照射試料の誘導放射能の計算書!$B$33&照射試料の誘導放射能の計算書!$D$33),\"\")","v":""},{"$f":"IF($K128=照射試料の誘導放射能の計算書!$B$34&照射試料の誘導放射能の計算書!$D$34,COUNTIF($K128:$K386,照射試料の誘導放射能の計算書!$B$34&照射試料の誘導放射能の計算書!$D$34),\"\")","v":""},{"$f":"IF($K128=照射試料の誘導放射能の計算書!$B$35&照射試料の誘導放射能の計算書!$D$35,COUNTIF($K128:$K386,照射試料の誘導放射能の計算書!$B$35&照射試料の誘導放射能の計算書!$D$35),\"\")","v":""},{"$f":"IF($K128=照射試料の誘導放射能の計算書!$B$36&照射試料の誘導放射能の計算書!$D$36,COUNTIF($K128:$K386,照射試料の誘導放射能の計算書!$B$36&照射試料の誘導放射能の計算書!$D$36),\"\")","v":""},{"$f":"IF($K128=照射試料の誘導放射能の計算書!$B$37&照射試料の誘導放射能の計算書!$D$37,COUNTIF($K128:$K386,照射試料の誘導放射能の計算書!$B$37&照射試料の誘導放射能の計算書!$D$37),\"\")","v":""},{"$f":"IF($K128=照射試料の誘導放射能の計算書!$B$38&照射試料の誘導放射能の計算書!$D$38,COUNTIF($K128:$K386,照射試料の誘導放射能の計算書!$B$38&照射試料の誘導放射能の計算書!$D$38),\"\")","v":""},{"$f":"IF($K128=照射試料の誘導放射能の計算書!$B$39&照射試料の誘導放射能の計算書!$D$39,COUNTIF($K128:$K386,照射試料の誘導放射能の計算書!$B$39&照射試料の誘導放射能の計算書!$D$39),\"\")","v":""},{"$f":"IF($K128=照射試料の誘導放射能の計算書!$B$40&照射試料の誘導放射能の計算書!$D$40,COUNTIF($K128:$K386,照射試料の誘導放射能の計算書!$B$40&照射試料の誘導放射能の計算書!$D$40),\"\")","v":""},"Sn-121m","(n,γ)Sn-121m",1E-3,50,"y"]
[50,"Sm-147","Sn",122,"Sn-122",4.63,"(n,γ)","Sn123","Sn",{"$f":"RIGHT(H129,3)","v":"123"},"Sn-122(n,γ)",{"$f":"IF($K129=照射試料の誘導放射能の計算書!$B$31&照射試料の誘導放射能の計算書!$D$31,COUNTIF($K129:$K387,照射試料の誘導放射能の計算書!$B$31&照射試料の誘導放射能の計算書!$D$31),\"\")","v":""},{"$f":"IF($K129=照射試料の誘導放射能の計算書!$B$32&照射試料の誘導放射能の計算書!$D$32,COUNTIF($K129:$K387,照射試料の誘導放射能の計算書!$B$32&照射試料の誘導放射能の計算書!$D$32),\"\")","v":""},{"$f":"IF($K129=照射試料の誘導放射能の計算書!$B$33&照射試料の誘導放射能の計算書!$D$33,COUNTIF($K129:$K387,照射試料の誘導放射能の計算書!$B$33&照射試料の誘導放射能の計算書!$D$33),\"\")","v":""},{"$f":"IF($K129=照射試料の誘導放射能の計算書!$B$34&照射試料の誘導放射能の計算書!$D$34,COUNTIF($K129:$K387,照射試料の誘導放射能の計算書!$B$34&照射試料の誘導放射能の計算書!$D$34),\"\")","v":""},{"$f":"IF($K129=照射試料の誘導放射能の計算書!$B$35&照射試料の誘導放射能の計算書!$D$35,COUNTIF($K129:$K387,照射試料の誘導放射能の計算書!$B$35&照射試料の誘導放射能の計算書!$D$35),\"\")","v":""},{"$f":"IF($K129=照射試料の誘導放射能の計算書!$B$36&照射試料の誘導放射能の計算書!$D$36,COUNTIF($K129:$K387,照射試料の誘導放射能の計算書!$B$36&照射試料の誘導放射能の計算書!$D$36),\"\")","v":""},{"$f":"IF($K129=照射試料の誘導放射能の計算書!$B$37&照射試料の誘導放射能の計算書!$D$37,COUNTIF($K129:$K387,照射試料の誘導放射能の計算書!$B$37&照射試料の誘導放射能の計算書!$D$37),\"\")","v":""},{"$f":"IF($K129=照射試料の誘導放射能の計算書!$B$38&照射試料の誘導放射能の計算書!$D$38,COUNTIF($K129:$K387,照射試料の誘導放射能の計算書!$B$38&照射試料の誘導放射能の計算書!$D$38),\"\")","v":""},{"$f":"IF($K129=照射試料の誘導放射能の計算書!$B$39&照射試料の誘導放射能の計算書!$D$39,COUNTIF($K129:$K387,照射試料の誘導放射能の計算書!$B$39&照射試料の誘導放射能の計算書!$D$39),\"\")","v":""},{"$f":"IF($K129=照射試料の誘導放射能の計算書!$B$40&照射試料の誘導放射能の計算書!$D$40,COUNTIF($K129:$K387,照射試料の誘導放射能の計算書!$B$40&照射試料の誘導放射能の計算書!$D$40),\"\")","v":""},"Sn-123","(n,γ)Sn-123",1E-3,129.19999999999999,"d"]
[50,"Sm-150","Sn",122,"Sn-122",4.63,"(n,γ)","Sn123m","Sn",{"$f":"RIGHT(H130,4)","v":"123m"},"Sn-122(n,γ)",{"$f":"IF($K130=照射試料の誘導放射能の計算書!$B$31&照射試料の誘導放射能の計算書!$D$31,COUNTIF($K130:$K388,照射試料の誘導放射能の計算書!$B$31&照射試料の誘導放射能の計算書!$D$31),\"\")","v":""},{"$f":"IF($K130=照射試料の誘導放射能の計算書!$B$32&照射試料の誘導放射能の計算書!$D$32,COUNTIF($K130:$K388,照射試料の誘導放射能の計算書!$B$32&照射試料の誘導放射能の計算書!$D$32),\"\")","v":""},{"$f":"IF($K130=照射試料の誘導放射能の計算書!$B$33&照射試料の誘導放射能の計算書!$D$33,COUNTIF($K130:$K388,照射試料の誘導放射能の計算書!$B$33&照射試料の誘導放射能の計算書!$D$33),\"\")","v":""},{"$f":"IF($K130=照射試料の誘導放射能の計算書!$B$34&照射試料の誘導放射能の計算書!$D$34,COUNTIF($K130:$K388,照射試料の誘導放射能の計算書!$B$34&照射試料の誘導放射能の計算書!$D$34),\"\")","v":""},{"$f":"IF($K130=照射試料の誘導放射能の計算書!$B$35&照射試料の誘導放射能の計算書!$D$35,COUNTIF($K130:$K388,照射試料の誘導放射能の計算書!$B$35&照射試料の誘導放射能の計算書!$D$35),\"\")","v":""},{"$f":"IF($K130=照射試料の誘導放射能の計算書!$B$36&照射試料の誘導放射能の計算書!$D$36,COUNTIF($K130:$K388,照射試料の誘導放射能の計算書!$B$36&照射試料の誘導放射能の計算書!$D$36),\"\")","v":""},{"$f":"IF($K130=照射試料の誘導放射能の計算書!$B$37&照射試料の誘導放射能の計算書!$D$37,COUNTIF($K130:$K388,照射試料の誘導放射能の計算書!$B$37&照射試料の誘導放射能の計算書!$D$37),\"\")","v":""},{"$f":"IF($K130=照射試料の誘導放射能の計算書!$B$38&照射試料の誘導放射能の計算書!$D$38,COUNTIF($K130:$K388,照射試料の誘導放射能の計算書!$B$38&照射試料の誘導放射能の計算書!$D$38),\"\")","v":""},{"$f":"IF($K130=照射試料の誘導放射能の計算書!$B$39&照射試料の誘導放射能の計算書!$D$39,COUNTIF($K130:$K388,照射試料の誘導放射能の計算書!$B$39&照射試料の誘導放射能の計算書!$D$39),\"\")","v":""},{"$f":"IF($K130=照射試料の誘導放射能の計算書!$B$40&照射試料の誘導放射能の計算書!$D$40,COUNTIF($K130:$K388,照射試料の誘導放射能の計算書!$B$40&照射試料の誘導放射能の計算書!$D$40),\"\")","v":""},"Sn-123m","(n,γ)Sn-123m",0.18,40.1,"min"]
[50,"Sm-152","Sn",124,{"$f":"CONCATENATE(C131,\"-\",D131)","v":"Sn-124"},5.79,{"$f":"IF(C131=I131,\"(n,γ)\",\"(n,p)\")","v":"(n,γ)"},"Sn125",{"$f":"LEFT(H131,2)","v":"Sn"},{"$f":"RIGHT(H131,3)","v":"125"},"Sn-124(n,γ)",{"$f":"IF($K131=照射試料の誘導放射能の計算書!$B$31&照射試料の誘導放射能の計算書!$D$31,COUNTIF($K131:$K389,照射試料の誘導放射能の計算書!$B$31&照射試料の誘導放射能の計算書!$D$31),\"\")","v":""},{"$f":"IF($K131=照射試料の誘導放射能の計算書!$B$32&照射試料の誘導放射能の計算書!$D$32,COUNTIF($K131:$K389,照射試料の誘導放射能の計算書!$B$32&照射試料の誘導放射能の計算書!$D$32),\"\")","v":""},{"$f":"IF($K131=照射試料の誘導放射能の計算書!$B$33&照射試料の誘導放射能の計算書!$D$33,COUNTIF($K131:$K389,照射試料の誘導放射能の計算書!$B$33&照射試料の誘導放射能の計算書!$D$33),\"\")","v":""},{"$f":"IF($K131=照射試料の誘導放射能の計算書!$B$34&照射試料の誘導放射能の計算書!$D$34,COUNTIF($K131:$K389,照射試料の誘導放射能の計算書!$B$34&照射試料の誘導放射能の計算書!$D$34),\"\")","v":""},{"$f":"IF($K131=照射試料の誘導放射能の計算書!$B$35&照射試料の誘導放射能の計算書!$D$35,COUNTIF($K131:$K389,照射試料の誘導放射能の計算書!$B$35&照射試料の誘導放射能の計算書!$D$35),\"\")","v":""},{"$f":"IF($K131=照射試料の誘導放射能の計算書!$B$36&照射試料の誘導放射能の計算書!$D$36,COUNTIF($K131:$K389,照射試料の誘導放射能の計算書!$B$36&照射試料の誘導放射能の計算書!$D$36),\"\")","v":""},{"$f":"IF($K131=照射試料の誘導放射能の計算書!$B$37&照射試料の誘導放射能の計算書!$D$37,COUNTIF($K131:$K389,照射試料の誘導放射能の計算書!$B$37&照射試料の誘導放射能の計算書!$D$37),\"\")","v":""},{"$f":"IF($K131=照射試料の誘導放射能の計算書!$B$38&照射試料の誘導放射能の計算書!$D$38,COUNTIF($K131:$K389,照射試料の誘導放射能の計算書!$B$38&照射試料の誘導放射能の計算書!$D$38),\"\")","v":""},{"$f":"IF($K131=照射試料の誘導放射能の計算書!$B$39&照射試料の誘導放射能の計算書!$D$39,COUNTIF($K131:$K389,照射試料の誘導放射能の計算書!$B$39&照射試料の誘導放射能の計算書!$D$39),\"\")","v":""},{"$f":"IF($K131=照射試料の誘導放射能の計算書!$B$40&照射試料の誘導放射能の計算書!$D$40,COUNTIF($K131:$K389,照射試料の誘導放射能の計算書!$B$40&照射試料の誘導放射能の計算書!$D$40),\"\")","v":""},{"$f":"CONCATENATE(I131,\"-\",J131)","v":"Sn-125"},{"$f":"G131&V131","v":"(n,γ)Sn-125"},4.0000000000000001E-3,9.64,"d"]
[50,"Sm-154","Sn",124,"Sn-124",5.79,"(n,γ)","Sn125m","Sn",{"$f":"RIGHT(H132,4)","v":"125m"},{"$f":"E132&G132","v":"Sn-124(n,γ)"},{"$f":"IF($K132=照射試料の誘導放射能の計算書!$B$31&照射試料の誘導放射能の計算書!$D$31,COUNTIF($K132:$K390,照射試料の誘導放射能の計算書!$B$31&照射試料の誘導放射能の計算書!$D$31),\"\")","v":""},{"$f":"IF($K132=照射試料の誘導放射能の計算書!$B$32&照射試料の誘導放射能の計算書!$D$32,COUNTIF($K132:$K390,照射試料の誘導放射能の計算書!$B$32&照射試料の誘導放射能の計算書!$D$32),\"\")","v":""},{"$f":"IF($K132=照射試料の誘導放射能の計算書!$B$33&照射試料の誘導放射能の計算書!$D$33,COUNTIF($K132:$K390,照射試料の誘導放射能の計算書!$B$33&照射試料の誘導放射能の計算書!$D$33),\"\")","v":""},{"$f":"IF($K132=照射試料の誘導放射能の計算書!$B$34&照射試料の誘導放射能の計算書!$D$34,COUNTIF($K132:$K390,照射試料の誘導放射能の計算書!$B$34&照射試料の誘導放射能の計算書!$D$34),\"\")","v":""},{"$f":"IF($K132=照射試料の誘導放射能の計算書!$B$35&照射試料の誘導放射能の計算書!$D$35,COUNTIF($K132:$K390,照射試料の誘導放射能の計算書!$B$35&照射試料の誘導放射能の計算書!$D$35),\"\")","v":""},{"$f":"IF($K132=照射試料の誘導放射能の計算書!$B$36&照射試料の誘導放射能の計算書!$D$36,COUNTIF($K132:$K390,照射試料の誘導放射能の計算書!$B$36&照射試料の誘導放射能の計算書!$D$36),\"\")","v":""},{"$f":"IF($K132=照射試料の誘導放射能の計算書!$B$37&照射試料の誘導放射能の計算書!$D$37,COUNTIF($K132:$K390,照射試料の誘導放射能の計算書!$B$37&照射試料の誘導放射能の計算書!$D$37),\"\")","v":""},{"$f":"IF($K132=照射試料の誘導放射能の計算書!$B$38&照射試料の誘導放射能の計算書!$D$38,COUNTIF($K132:$K390,照射試料の誘導放射能の計算書!$B$38&照射試料の誘導放射能の計算書!$D$38),\"\")","v":""},{"$f":"IF($K132=照射試料の誘導放射能の計算書!$B$39&照射試料の誘導放射能の計算書!$D$39,COUNTIF($K132:$K390,照射試料の誘導放射能の計算書!$B$39&照射試料の誘導放射能の計算書!$D$39),\"\")","v":""},{"$f":"IF($K132=照射試料の誘導放射能の計算書!$B$40&照射試料の誘導放射能の計算書!$D$40,COUNTIF($K132:$K390,照射試料の誘導放射能の計算書!$B$40&照射試料の誘導放射能の計算書!$D$40),\"\")","v":""},"Sn-125m","(n,γ)Sn-125m",0.13,9.5,"min"]
[51,"Eu-151","Sb",121,"Sb-121",57.36,"(n,γ)","Sb122","Sb",{"$f":"RIGHT(H133,3)","v":"122"},"Sb-121(n,γ)",{"$f":"IF($K133=照射試料の誘導放射能の計算書!$B$31&照射試料の誘導放射能の計算書!$D$31,COUNTIF($K133:$K391,照射試料の誘導放射能の計算書!$B$31&照射試料の誘導放射能の計算書!$D$31),\"\")","v":""},{"$f":"IF($K134=照射試料の誘導放射能の計算書!$B$32&照射試料の誘導放射能の計算書!$D$32,COUNTIF($K134:$K391,照射試料の誘導放射能の計算書!$B$32&照射試料の誘導放射能の計算書!$D$32),\"\")","v":""},{"$f":"IF($K135=照射試料の誘導放射能の計算書!$B$33&照射試料の誘導放射能の計算書!$D$33,COUNTIF($K135:$K391,照射試料の誘導放射能の計算書!$B$33&照射試料の誘導放射能の計算書!$D$33),\"\")","v":""},{"$f":"IF($K136=照射試料の誘導放射能の計算書!$B$34&照射試料の誘導放射能の計算書!$D$34,COUNTIF($K136:$K391,照射試料の誘導放射能の計算書!$B$34&照射試料の誘導放射能の計算書!$D$34),\"\")","v":""},{"$f":"IF($K137=照射試料の誘導放射能の計算書!$B$35&照射試料の誘導放射能の計算書!$D$35,COUNTIF($K137:$K391,照射試料の誘導放射能の計算書!$B$35&照射試料の誘導放射能の計算書!$D$35),\"\")","v":""},{"$f":"IF($K138=照射試料の誘導放射能の計算書!$B$36&照射試料の誘導放射能の計算書!$D$36,COUNTIF($K138:$K391,照射試料の誘導放射能の計算書!$B$36&照射試料の誘導放射能の計算書!$D$36),\"\")","v":""},{"$f":"IF($K139=照射試料の誘導放射能の計算書!$B$37&照射試料の誘導放射能の計算書!$D$37,COUNTIF($K139:$K391,照射試料の誘導放射能の計算書!$B$37&照射試料の誘導放射能の計算書!$D$37),\"\")","v":""},{"$f":"IF($K140=照射試料の誘導放射能の計算書!$B$38&照射試料の誘導放射能の計算書!$D$38,COUNTIF($K140:$K391,照射試料の誘導放射能の計算書!$B$38&照射試料の誘導放射能の計算書!$D$38),\"\")","v":""},{"$f":"IF($K141=照射試料の誘導放射能の計算書!$B$39&照射試料の誘導放射能の計算書!$D$39,COUNTIF($K141:$K391,照射試料の誘導放射能の計算書!$B$39&照射試料の誘導放射能の計算書!$D$39),\"\")","v":""},{"$f":"IF($K142=照射試料の誘導放射能の計算書!$B$40&照射試料の誘導放射能の計算書!$D$40,COUNTIF($K142:$K391,照射試料の誘導放射能の計算書!$B$40&照射試料の誘導放射能の計算書!$D$40),\"\")","v":""},"Sb-122","(n,γ)Sb-122",6.2,2.7,"d"]
[51,"Eu-153","Sb",121,"Sb-121",57.36,"(n,γ)","Sb122m","Sb",{"$f":"RIGHT(H134,4)","v":"122m"},"Sb-121(n,γ)",{"$f":"IF($K134=照射試料の誘導放射能の計算書!$B$31&照射試料の誘導放射能の計算書!$D$31,COUNTIF($K134:$K392,照射試料の誘導放射能の計算書!$B$31&照射試料の誘導放射能の計算書!$D$31),\"\")","v":""},{"$f":"IF($K134=照射試料の誘導放射能の計算書!$B$32&照射試料の誘導放射能の計算書!$D$32,COUNTIF($K134:$K392,照射試料の誘導放射能の計算書!$B$32&照射試料の誘導放射能の計算書!$D$32),\"\")","v":""},{"$f":"IF($K134=照射試料の誘導放射能の計算書!$B$33&照射試料の誘導放射能の計算書!$D$33,COUNTIF($K134:$K392,照射試料の誘導放射能の計算書!$B$33&照射試料の誘導放射能の計算書!$D$33),\"\")","v":""},{"$f":"IF($K134=照射試料の誘導放射能の計算書!$B$34&照射試料の誘導放射能の計算書!$D$34,COUNTIF($K134:$K392,照射試料の誘導放射能の計算書!$B$34&照射試料の誘導放射能の計算書!$D$34),\"\")","v":""},{"$f":"IF($K134=照射試料の誘導放射能の計算書!$B$35&照射試料の誘導放射能の計算書!$D$35,COUNTIF($K134:$K392,照射試料の誘導放射能の計算書!$B$35&照射試料の誘導放射能の計算書!$D$35),\"\")","v":""},{"$f":"IF($K134=照射試料の誘導放射能の計算書!$B$36&照射試料の誘導放射能の計算書!$D$36,COUNTIF($K134:$K392,照射試料の誘導放射能の計算書!$B$36&照射試料の誘導放射能の計算書!$D$36),\"\")","v":""},{"$f":"IF($K134=照射試料の誘導放射能の計算書!$B$37&照射試料の誘導放射能の計算書!$D$37,COUNTIF($K134:$K392,照射試料の誘導放射能の計算書!$B$37&照射試料の誘導放射能の計算書!$D$37),\"\")","v":""},{"$f":"IF($K134=照射試料の誘導放射能の計算書!$B$38&照射試料の誘導放射能の計算書!$D$38,COUNTIF($K134:$K392,照射試料の誘導放射能の計算書!$B$38&照射試料の誘導放射能の計算書!$D$38),\"\")","v":""},{"$f":"IF($K134=照射試料の誘導放射能の計算書!$B$39&照射試料の誘導放射能の計算書!$D$39,COUNTIF($K134:$K392,照射試料の誘導放射能の計算書!$B$39&照射試料の誘導放射能の計算書!$D$39),\"\")","v":""},{"$f":"IF($K134=照射試料の誘導放射能の計算書!$B$40&照射試料の誘導放射能の計算書!$D$40,COUNTIF($K134:$K392,照射試料の誘導放射能の計算書!$B$40&照射試料の誘導放射能の計算書!$D$40),\"\")","v":""},"Sb-122m","(n,γ)Sb-122m",5.5E-2,4.2,"min"]
[51,"Gd-152","Sb",123,"Sb-123",42.64,"(n,γ)","Sb124","Sb",{"$f":"RIGHT(H135,3)","v":"124"},"Sb-123(n,γ)",{"$f":"IF($K135=照射試料の誘導放射能の計算書!$B$31&照射試料の誘導放射能の計算書!$D$31,COUNTIF($K135:$K393,照射試料の誘導放射能の計算書!$B$31&照射試料の誘導放射能の計算書!$D$31),\"\")","v":""},{"$f":"IF($K135=照射試料の誘導放射能の計算書!$B$32&照射試料の誘導放射能の計算書!$D$32,COUNTIF($K135:$K393,照射試料の誘導放射能の計算書!$B$32&照射試料の誘導放射能の計算書!$D$32),\"\")","v":""},{"$f":"IF($K135=照射試料の誘導放射能の計算書!$B$33&照射試料の誘導放射能の計算書!$D$33,COUNTIF($K135:$K393,照射試料の誘導放射能の計算書!$B$33&照射試料の誘導放射能の計算書!$D$33),\"\")","v":""},{"$f":"IF($K135=照射試料の誘導放射能の計算書!$B$34&照射試料の誘導放射能の計算書!$D$34,COUNTIF($K135:$K393,照射試料の誘導放射能の計算書!$B$34&照射試料の誘導放射能の計算書!$D$34),\"\")","v":""},{"$f":"IF($K135=照射試料の誘導放射能の計算書!$B$35&照射試料の誘導放射能の計算書!$D$35,COUNTIF($K135:$K393,照射試料の誘導放射能の計算書!$B$35&照射試料の誘導放射能の計算書!$D$35),\"\")","v":""},{"$f":"IF($K135=照射試料の誘導放射能の計算書!$B$36&照射試料の誘導放射能の計算書!$D$36,COUNTIF($K135:$K393,照射試料の誘導放射能の計算書!$B$36&照射試料の誘導放射能の計算書!$D$36),\"\")","v":""},{"$f":"IF($K135=照射試料の誘導放射能の計算書!$B$37&照射試料の誘導放射能の計算書!$D$37,COUNTIF($K135:$K393,照射試料の誘導放射能の計算書!$B$37&照射試料の誘導放射能の計算書!$D$37),\"\")","v":""},{"$f":"IF($K135=照射試料の誘導放射能の計算書!$B$38&照射試料の誘導放射能の計算書!$D$38,COUNTIF($K135:$K393,照射試料の誘導放射能の計算書!$B$38&照射試料の誘導放射能の計算書!$D$38),\"\")","v":""},{"$f":"IF($K135=照射試料の誘導放射能の計算書!$B$39&照射試料の誘導放射能の計算書!$D$39,COUNTIF($K135:$K393,照射試料の誘導放射能の計算書!$B$39&照射試料の誘導放射能の計算書!$D$39),\"\")","v":""},{"$f":"IF($K135=照射試料の誘導放射能の計算書!$B$40&照射試料の誘導放射能の計算書!$D$40,COUNTIF($K135:$K393,照射試料の誘導放射能の計算書!$B$40&照射試料の誘導放射能の計算書!$D$40),\"\")","v":""},"Sb-124","(n,γ)Sb-124",4.28,60.3,"d"]
[51,"Gd-158","Sb",123,"Sb-123",42.64,"(n,γ)","Sb124m1","Sb",{"$f":"RIGHT(H136,5)","v":"124m1"},"Sb-123(n,γ)",{"$f":"IF($K136=照射試料の誘導放射能の計算書!$B$31&照射試料の誘導放射能の計算書!$D$31,COUNTIF($K136:$K394,照射試料の誘導放射能の計算書!$B$31&照射試料の誘導放射能の計算書!$D$31),\"\")","v":""},{"$f":"IF($K136=照射試料の誘導放射能の計算書!$B$32&照射試料の誘導放射能の計算書!$D$32,COUNTIF($K136:$K394,照射試料の誘導放射能の計算書!$B$32&照射試料の誘導放射能の計算書!$D$32),\"\")","v":""},{"$f":"IF($K136=照射試料の誘導放射能の計算書!$B$33&照射試料の誘導放射能の計算書!$D$33,COUNTIF($K136:$K394,照射試料の誘導放射能の計算書!$B$33&照射試料の誘導放射能の計算書!$D$33),\"\")","v":""},{"$f":"IF($K136=照射試料の誘導放射能の計算書!$B$34&照射試料の誘導放射能の計算書!$D$34,COUNTIF($K136:$K394,照射試料の誘導放射能の計算書!$B$34&照射試料の誘導放射能の計算書!$D$34),\"\")","v":""},{"$f":"IF($K136=照射試料の誘導放射能の計算書!$B$35&照射試料の誘導放射能の計算書!$D$35,COUNTIF($K136:$K394,照射試料の誘導放射能の計算書!$B$35&照射試料の誘導放射能の計算書!$D$35),\"\")","v":""},{"$f":"IF($K136=照射試料の誘導放射能の計算書!$B$36&照射試料の誘導放射能の計算書!$D$36,COUNTIF($K136:$K394,照射試料の誘導放射能の計算書!$B$36&照射試料の誘導放射能の計算書!$D$36),\"\")","v":""},{"$f":"IF($K136=照射試料の誘導放射能の計算書!$B$37&照射試料の誘導放射能の計算書!$D$37,COUNTIF($K136:$K394,照射試料の誘導放射能の計算書!$B$37&照射試料の誘導放射能の計算書!$D$37),\"\")","v":""},{"$f":"IF($K136=照射試料の誘導放射能の計算書!$B$38&照射試料の誘導放射能の計算書!$D$38,COUNTIF($K136:$K394,照射試料の誘導放射能の計算書!$B$38&照射試料の誘導放射能の計算書!$D$38),\"\")","v":""},{"$f":"IF($K136=照射試料の誘導放射能の計算書!$B$39&照射試料の誘導放射能の計算書!$D$39,COUNTIF($K136:$K394,照射試料の誘導放射能の計算書!$B$39&照射試料の誘導放射能の計算書!$D$39),\"\")","v":""},{"$f":"IF($K136=照射試料の誘導放射能の計算書!$B$40&照射試料の誘導放射能の計算書!$D$40,COUNTIF($K136:$K394,照射試料の誘導放射能の計算書!$B$40&照射試料の誘導放射能の計算書!$D$40),\"\")","v":""},"Sb-124m1","(n,γ)Sb-124m1",3.5000000000000003E-2,1.6,"min"]
[51,"Gd-160","Sb",123,"Sb-123",42.64,"(n,γ)","Sb124m2","Sb",{"$f":"RIGHT(H137,5)","v":"124m2"},"Sb-123(n,γ)",{"$f":"IF($K137=照射試料の誘導放射能の計算書!$B$31&照射試料の誘導放射能の計算書!$D$31,COUNTIF($K137:$K395,照射試料の誘導放射能の計算書!$B$31&照射試料の誘導放射能の計算書!$D$31),\"\")","v":""},{"$f":"IF($K137=照射試料の誘導放射能の計算書!$B$32&照射試料の誘導放射能の計算書!$D$32,COUNTIF($K137:$K395,照射試料の誘導放射能の計算書!$B$32&照射試料の誘導放射能の計算書!$D$32),\"\")","v":""},{"$f":"IF($K137=照射試料の誘導放射能の計算書!$B$33&照射試料の誘導放射能の計算書!$D$33,COUNTIF($K137:$K395,照射試料の誘導放射能の計算書!$B$33&照射試料の誘導放射能の計算書!$D$33),\"\")","v":""},{"$f":"IF($K137=照射試料の誘導放射能の計算書!$B$34&照射試料の誘導放射能の計算書!$D$34,COUNTIF($K137:$K395,照射試料の誘導放射能の計算書!$B$34&照射試料の誘導放射能の計算書!$D$34),\"\")","v":""},{"$f":"IF($K137=照射試料の誘導放射能の計算書!$B$35&照射試料の誘導放射能の計算書!$D$35,COUNTIF($K137:$K395,照射試料の誘導放射能の計算書!$B$35&照射試料の誘導放射能の計算書!$D$35),\"\")","v":""},{"$f":"IF($K137=照射試料の誘導放射能の計算書!$B$36&照射試料の誘導放射能の計算書!$D$36,COUNTIF($K137:$K395,照射試料の誘導放射能の計算書!$B$36&照射試料の誘導放射能の計算書!$D$36),\"\")","v":""},{"$f":"IF($K137=照射試料の誘導放射能の計算書!$B$37&照射試料の誘導放射能の計算書!$D$37,COUNTIF($K137:$K395,照射試料の誘導放射能の計算書!$B$37&照射試料の誘導放射能の計算書!$D$37),\"\")","v":""},{"$f":"IF($K137=照射試料の誘導放射能の計算書!$B$38&照射試料の誘導放射能の計算書!$D$38,COUNTIF($K137:$K395,照射試料の誘導放射能の計算書!$B$38&照射試料の誘導放射能の計算書!$D$38),\"\")","v":""},{"$f":"IF($K137=照射試料の誘導放射能の計算書!$B$39&照射試料の誘導放射能の計算書!$D$39,COUNTIF($K137:$K395,照射試料の誘導放射能の計算書!$B$39&照射試料の誘導放射能の計算書!$D$39),\"\")","v":""},{"$f":"IF($K137=照射試料の誘導放射能の計算書!$B$40&照射試料の誘導放射能の計算書!$D$40,COUNTIF($K137:$K395,照射試料の誘導放射能の計算書!$B$40&照射試料の誘導放射能の計算書!$D$40),\"\")","v":""},"Sb-124m2","(n,γ)Sb-124m2",1.0999999999999999E-2,20,"min"]
[52,"Tb-159","Te",120,"Te-120",9.6000000000000002E-2,"(n,γ)","Te121","Te",{"$f":"RIGHT(H138,3)","v":"121"},"Te-120(n,γ)",{"$f":"IF($K138=照射試料の誘導放射能の計算書!$B$31&照射試料の誘導放射能の計算書!$D$31,COUNTIF($K138:$K396,照射試料の誘導放射能の計算書!$B$31&照射試料の誘導放射能の計算書!$D$31),\"\")","v":""},{"$f":"IF($K138=照射試料の誘導放射能の計算書!$B$32&照射試料の誘導放射能の計算書!$D$32,COUNTIF($K138:$K396,照射試料の誘導放射能の計算書!$B$32&照射試料の誘導放射能の計算書!$D$32),\"\")","v":""},{"$f":"IF($K138=照射試料の誘導放射能の計算書!$B$33&照射試料の誘導放射能の計算書!$D$33,COUNTIF($K138:$K396,照射試料の誘導放射能の計算書!$B$33&照射試料の誘導放射能の計算書!$D$33),\"\")","v":""},{"$f":"IF($K138=照射試料の誘導放射能の計算書!$B$34&照射試料の誘導放射能の計算書!$D$34,COUNTIF($K138:$K396,照射試料の誘導放射能の計算書!$B$34&照射試料の誘導放射能の計算書!$D$34),\"\")","v":""},{"$f":"IF($K138=照射試料の誘導放射能の計算書!$B$35&照射試料の誘導放射能の計算書!$D$35,COUNTIF($K138:$K396,照射試料の誘導放射能の計算書!$B$35&照射試料の誘導放射能の計算書!$D$35),\"\")","v":""},{"$f":"IF($K138=照射試料の誘導放射能の計算書!$B$36&照射試料の誘導放射能の計算書!$D$36,COUNTIF($K138:$K396,照射試料の誘導放射能の計算書!$B$36&照射試料の誘導放射能の計算書!$D$36),\"\")","v":""},{"$f":"IF($K138=照射試料の誘導放射能の計算書!$B$37&照射試料の誘導放射能の計算書!$D$37,COUNTIF($K138:$K396,照射試料の誘導放射能の計算書!$B$37&照射試料の誘導放射能の計算書!$D$37),\"\")","v":""},{"$f":"IF($K138=照射試料の誘導放射能の計算書!$B$38&照射試料の誘導放射能の計算書!$D$38,COUNTIF($K138:$K396,照射試料の誘導放射能の計算書!$B$38&照射試料の誘導放射能の計算書!$D$38),\"\")","v":""},{"$f":"IF($K138=照射試料の誘導放射能の計算書!$B$39&照射試料の誘導放射能の計算書!$D$39,COUNTIF($K138:$K396,照射試料の誘導放射能の計算書!$B$39&照射試料の誘導放射能の計算書!$D$39),\"\")","v":""},{"$f":"IF($K138=照射試料の誘導放射能の計算書!$B$40&照射試料の誘導放射能の計算書!$D$40,COUNTIF($K138:$K396,照射試料の誘導放射能の計算書!$B$40&照射試料の誘導放射能の計算書!$D$40),\"\")","v":""},"Te-121","(n,γ)Te-121",2,16.8,"d"]
[52,"Dy-156","Te",120,"Te-120",9.6000000000000002E-2,"(n,γ)","Te121m","Te",{"$f":"RIGHT(H139,4)","v":"121m"},"Te-120(n,γ)",{"$f":"IF($K139=照射試料の誘導放射能の計算書!$B$31&照射試料の誘導放射能の計算書!$D$31,COUNTIF($K139:$K397,照射試料の誘導放射能の計算書!$B$31&照射試料の誘導放射能の計算書!$D$31),\"\")","v":""},{"$f":"IF($K139=照射試料の誘導放射能の計算書!$B$32&照射試料の誘導放射能の計算書!$D$32,COUNTIF($K139:$K397,照射試料の誘導放射能の計算書!$B$32&照射試料の誘導放射能の計算書!$D$32),\"\")","v":""},{"$f":"IF($K139=照射試料の誘導放射能の計算書!$B$33&照射試料の誘導放射能の計算書!$D$33,COUNTIF($K139:$K397,照射試料の誘導放射能の計算書!$B$33&照射試料の誘導放射能の計算書!$D$33),\"\")","v":""},{"$f":"IF($K139=照射試料の誘導放射能の計算書!$B$34&照射試料の誘導放射能の計算書!$D$34,COUNTIF($K139:$K397,照射試料の誘導放射能の計算書!$B$34&照射試料の誘導放射能の計算書!$D$34),\"\")","v":""},{"$f":"IF($K139=照射試料の誘導放射能の計算書!$B$35&照射試料の誘導放射能の計算書!$D$35,COUNTIF($K139:$K397,照射試料の誘導放射能の計算書!$B$35&照射試料の誘導放射能の計算書!$D$35),\"\")","v":""},{"$f":"IF($K139=照射試料の誘導放射能の計算書!$B$36&照射試料の誘導放射能の計算書!$D$36,COUNTIF($K139:$K397,照射試料の誘導放射能の計算書!$B$36&照射試料の誘導放射能の計算書!$D$36),\"\")","v":""},{"$f":"IF($K139=照射試料の誘導放射能の計算書!$B$37&照射試料の誘導放射能の計算書!$D$37,COUNTIF($K139:$K397,照射試料の誘導放射能の計算書!$B$37&照射試料の誘導放射能の計算書!$D$37),\"\")","v":""},{"$f":"IF($K139=照射試料の誘導放射能の計算書!$B$38&照射試料の誘導放射能の計算書!$D$38,COUNTIF($K139:$K397,照射試料の誘導放射能の計算書!$B$38&照射試料の誘導放射能の計算書!$D$38),\"\")","v":""},{"$f":"IF($K139=照射試料の誘導放射能の計算書!$B$39&照射試料の誘導放射能の計算書!$D$39,COUNTIF($K139:$K397,照射試料の誘導放射能の計算書!$B$39&照射試料の誘導放射能の計算書!$D$39),\"\")","v":""},{"$f":"IF($K139=照射試料の誘導放射能の計算書!$B$40&照射試料の誘導放射能の計算書!$D$40,COUNTIF($K139:$K397,照射試料の誘導放射能の計算書!$B$40&照射試料の誘導放射能の計算書!$D$40),\"\")","v":""},"Te-121m","(n,γ)Te-121m",0.34,154,"d"]
[52,"Dy-158","Te",122,"Te-122",2.6030000000000002,"(n,γ)","Te123","Te",{"$f":"RIGHT(H140,3)","v":"123"},"Te-122(n,γ)",{"$f":"IF($K140=照射試料の誘導放射能の計算書!$B$31&照射試料の誘導放射能の計算書!$D$31,COUNTIF($K140:$K398,照射試料の誘導放射能の計算書!$B$31&照射試料の誘導放射能の計算書!$D$31),\"\")","v":""},{"$f":"IF($K140=照射試料の誘導放射能の計算書!$B$32&照射試料の誘導放射能の計算書!$D$32,COUNTIF($K140:$K398,照射試料の誘導放射能の計算書!$B$32&照射試料の誘導放射能の計算書!$D$32),\"\")","v":""},{"$f":"IF($K140=照射試料の誘導放射能の計算書!$B$33&照射試料の誘導放射能の計算書!$D$33,COUNTIF($K140:$K398,照射試料の誘導放射能の計算書!$B$33&照射試料の誘導放射能の計算書!$D$33),\"\")","v":""},{"$f":"IF($K140=照射試料の誘導放射能の計算書!$B$34&照射試料の誘導放射能の計算書!$D$34,COUNTIF($K140:$K398,照射試料の誘導放射能の計算書!$B$34&照射試料の誘導放射能の計算書!$D$34),\"\")","v":""},{"$f":"IF($K140=照射試料の誘導放射能の計算書!$B$35&照射試料の誘導放射能の計算書!$D$35,COUNTIF($K140:$K398,照射試料の誘導放射能の計算書!$B$35&照射試料の誘導放射能の計算書!$D$35),\"\")","v":""},{"$f":"IF($K140=照射試料の誘導放射能の計算書!$B$36&照射試料の誘導放射能の計算書!$D$36,COUNTIF($K140:$K398,照射試料の誘導放射能の計算書!$B$36&照射試料の誘導放射能の計算書!$D$36),\"\")","v":""},{"$f":"IF($K140=照射試料の誘導放射能の計算書!$B$37&照射試料の誘導放射能の計算書!$D$37,COUNTIF($K140:$K398,照射試料の誘導放射能の計算書!$B$37&照射試料の誘導放射能の計算書!$D$37),\"\")","v":""},{"$f":"IF($K140=照射試料の誘導放射能の計算書!$B$38&照射試料の誘導放射能の計算書!$D$38,COUNTIF($K140:$K398,照射試料の誘導放射能の計算書!$B$38&照射試料の誘導放射能の計算書!$D$38),\"\")","v":""},{"$f":"IF($K140=照射試料の誘導放射能の計算書!$B$39&照射試料の誘導放射能の計算書!$D$39,COUNTIF($K140:$K398,照射試料の誘導放射能の計算書!$B$39&照射試料の誘導放射能の計算書!$D$39),\"\")","v":""},{"$f":"IF($K140=照射試料の誘導放射能の計算書!$B$40&照射試料の誘導放射能の計算書!$D$40,COUNTIF($K140:$K398,照射試料の誘導放射能の計算書!$B$40&照射試料の誘導放射能の計算書!$D$40),\"\")","v":""},"Te-123","(n,γ)Te-123",2.2999999999999998,12400000000000,"y"]
[52,"Dy-164","Te",122,"Te-122",2.6030000000000002,"(n,γ)","Te123m","Te",{"$f":"RIGHT(H141,4)","v":"123m"},"Te-122(n,γ)",{"$f":"IF($K141=照射試料の誘導放射能の計算書!$B$31&照射試料の誘導放射能の計算書!$D$31,COUNTIF($K141:$K399,照射試料の誘導放射能の計算書!$B$31&照射試料の誘導放射能の計算書!$D$31),\"\")","v":""},{"$f":"IF($K141=照射試料の誘導放射能の計算書!$B$32&照射試料の誘導放射能の計算書!$D$32,COUNTIF($K141:$K399,照射試料の誘導放射能の計算書!$B$32&照射試料の誘導放射能の計算書!$D$32),\"\")","v":""},{"$f":"IF($K141=照射試料の誘導放射能の計算書!$B$33&照射試料の誘導放射能の計算書!$D$33,COUNTIF($K141:$K399,照射試料の誘導放射能の計算書!$B$33&照射試料の誘導放射能の計算書!$D$33),\"\")","v":""},{"$f":"IF($K141=照射試料の誘導放射能の計算書!$B$34&照射試料の誘導放射能の計算書!$D$34,COUNTIF($K141:$K399,照射試料の誘導放射能の計算書!$B$34&照射試料の誘導放射能の計算書!$D$34),\"\")","v":""},{"$f":"IF($K141=照射試料の誘導放射能の計算書!$B$35&照射試料の誘導放射能の計算書!$D$35,COUNTIF($K141:$K399,照射試料の誘導放射能の計算書!$B$35&照射試料の誘導放射能の計算書!$D$35),\"\")","v":""},{"$f":"IF($K141=照射試料の誘導放射能の計算書!$B$36&照射試料の誘導放射能の計算書!$D$36,COUNTIF($K141:$K399,照射試料の誘導放射能の計算書!$B$36&照射試料の誘導放射能の計算書!$D$36),\"\")","v":""},{"$f":"IF($K141=照射試料の誘導放射能の計算書!$B$37&照射試料の誘導放射能の計算書!$D$37,COUNTIF($K141:$K399,照射試料の誘導放射能の計算書!$B$37&照射試料の誘導放射能の計算書!$D$37),\"\")","v":""},{"$f":"IF($K141=照射試料の誘導放射能の計算書!$B$38&照射試料の誘導放射能の計算書!$D$38,COUNTIF($K141:$K399,照射試料の誘導放射能の計算書!$B$38&照射試料の誘導放射能の計算書!$D$38),\"\")","v":""},{"$f":"IF($K141=照射試料の誘導放射能の計算書!$B$39&照射試料の誘導放射能の計算書!$D$39,COUNTIF($K141:$K399,照射試料の誘導放射能の計算書!$B$39&照射試料の誘導放射能の計算書!$D$39),\"\")","v":""},{"$f":"IF($K141=照射試料の誘導放射能の計算書!$B$40&照射試料の誘導放射能の計算書!$D$40,COUNTIF($K141:$K399,照射試料の誘導放射能の計算書!$B$40&照射試料の誘導放射能の計算書!$D$40),\"\")","v":""},"Te-123m","(n,γ)Te-123m",1.1000000000000001,119.7,"d"]
[52,"Ho-165","Te",124,"Te-124",4.8159999999999998,"(n,γ)","Te125m","Te",{"$f":"RIGHT(H142,4)","v":"125m"},"Te-124(n,γ)",{"$f":"IF($K142=照射試料の誘導放射能の計算書!$B$31&照射試料の誘導放射能の計算書!$D$31,COUNTIF($K142:$K400,照射試料の誘導放射能の計算書!$B$31&照射試料の誘導放射能の計算書!$D$31),\"\")","v":""},{"$f":"IF($K142=照射試料の誘導放射能の計算書!$B$32&照射試料の誘導放射能の計算書!$D$32,COUNTIF($K142:$K400,照射試料の誘導放射能の計算書!$B$32&照射試料の誘導放射能の計算書!$D$32),\"\")","v":""},{"$f":"IF($K142=照射試料の誘導放射能の計算書!$B$33&照射試料の誘導放射能の計算書!$D$33,COUNTIF($K142:$K400,照射試料の誘導放射能の計算書!$B$33&照射試料の誘導放射能の計算書!$D$33),\"\")","v":""},{"$f":"IF($K142=照射試料の誘導放射能の計算書!$B$34&照射試料の誘導放射能の計算書!$D$34,COUNTIF($K142:$K400,照射試料の誘導放射能の計算書!$B$34&照射試料の誘導放射能の計算書!$D$34),\"\")","v":""},{"$f":"IF($K142=照射試料の誘導放射能の計算書!$B$35&照射試料の誘導放射能の計算書!$D$35,COUNTIF($K142:$K400,照射試料の誘導放射能の計算書!$B$35&照射試料の誘導放射能の計算書!$D$35),\"\")","v":""},{"$f":"IF($K142=照射試料の誘導放射能の計算書!$B$36&照射試料の誘導放射能の計算書!$D$36,COUNTIF($K142:$K400,照射試料の誘導放射能の計算書!$B$36&照射試料の誘導放射能の計算書!$D$36),\"\")","v":""},{"$f":"IF($K142=照射試料の誘導放射能の計算書!$B$37&照射試料の誘導放射能の計算書!$D$37,COUNTIF($K142:$K400,照射試料の誘導放射能の計算書!$B$37&照射試料の誘導放射能の計算書!$D$37),\"\")","v":""},{"$f":"IF($K142=照射試料の誘導放射能の計算書!$B$38&照射試料の誘導放射能の計算書!$D$38,COUNTIF($K142:$K400,照射試料の誘導放射能の計算書!$B$38&照射試料の誘導放射能の計算書!$D$38),\"\")","v":""},{"$f":"IF($K142=照射試料の誘導放射能の計算書!$B$39&照射試料の誘導放射能の計算書!$D$39,COUNTIF($K142:$K400,照射試料の誘導放射能の計算書!$B$39&照射試料の誘導放射能の計算書!$D$39),\"\")","v":""},{"$f":"IF($K142=照射試料の誘導放射能の計算書!$B$40&照射試料の誘導放射能の計算書!$D$40,COUNTIF($K142:$K400,照射試料の誘導放射能の計算書!$B$40&照射試料の誘導放射能の計算書!$D$40),\"\")","v":""},"Te-125m","(n,γ)Te-125m",0.04,57.4,"d"]
[52,"Er-162","Te",126,"Te-126",18.95,"(n,γ)","Te127","Te",{"$f":"RIGHT(H143,3)","v":"127"},"Te-126(n,γ)",{"$f":"IF($K143=照射試料の誘導放射能の計算書!$B$31&照射試料の誘導放射能の計算書!$D$31,COUNTIF($K143:$K401,照射試料の誘導放射能の計算書!$B$31&照射試料の誘導放射能の計算書!$D$31),\"\")","v":""},{"$f":"IF($K143=照射試料の誘導放射能の計算書!$B$32&照射試料の誘導放射能の計算書!$D$32,COUNTIF($K143:$K401,照射試料の誘導放射能の計算書!$B$32&照射試料の誘導放射能の計算書!$D$32),\"\")","v":""},{"$f":"IF($K143=照射試料の誘導放射能の計算書!$B$33&照射試料の誘導放射能の計算書!$D$33,COUNTIF($K143:$K401,照射試料の誘導放射能の計算書!$B$33&照射試料の誘導放射能の計算書!$D$33),\"\")","v":""},{"$f":"IF($K143=照射試料の誘導放射能の計算書!$B$34&照射試料の誘導放射能の計算書!$D$34,COUNTIF($K143:$K401,照射試料の誘導放射能の計算書!$B$34&照射試料の誘導放射能の計算書!$D$34),\"\")","v":""},{"$f":"IF($K143=照射試料の誘導放射能の計算書!$B$35&照射試料の誘導放射能の計算書!$D$35,COUNTIF($K143:$K401,照射試料の誘導放射能の計算書!$B$35&照射試料の誘導放射能の計算書!$D$35),\"\")","v":""},{"$f":"IF($K143=照射試料の誘導放射能の計算書!$B$36&照射試料の誘導放射能の計算書!$D$36,COUNTIF($K143:$K401,照射試料の誘導放射能の計算書!$B$36&照射試料の誘導放射能の計算書!$D$36),\"\")","v":""},{"$f":"IF($K143=照射試料の誘導放射能の計算書!$B$37&照射試料の誘導放射能の計算書!$D$37,COUNTIF($K143:$K401,照射試料の誘導放射能の計算書!$B$37&照射試料の誘導放射能の計算書!$D$37),\"\")","v":""},{"$f":"IF($K143=照射試料の誘導放射能の計算書!$B$38&照射試料の誘導放射能の計算書!$D$38,COUNTIF($K143:$K401,照射試料の誘導放射能の計算書!$B$38&照射試料の誘導放射能の計算書!$D$38),\"\")","v":""},{"$f":"IF($K143=照射試料の誘導放射能の計算書!$B$39&照射試料の誘導放射能の計算書!$D$39,COUNTIF($K143:$K401,照射試料の誘導放射能の計算書!$B$39&照射試料の誘導放射能の計算書!$D$39),\"\")","v":""},{"$f":"IF($K143=照射試料の誘導放射能の計算書!$B$40&照射試料の誘導放射能の計算書!$D$40,COUNTIF($K143:$K401,照射試料の誘導放射能の計算書!$B$40&照射試料の誘導放射能の計算書!$D$40),\"\")","v":""},"Te-127","(n,γ)Te-127",0.9,9.35,"h"]
[52,"Er-164","Te",126,"Te-126",18.95,"(n,γ)","Te127m","Te",{"$f":"RIGHT(H144,4)","v":"127m"},"Te-126(n,γ)",{"$f":"IF($K144=照射試料の誘導放射能の計算書!$B$31&照射試料の誘導放射能の計算書!$D$31,COUNTIF($K144:$K402,照射試料の誘導放射能の計算書!$B$31&照射試料の誘導放射能の計算書!$D$31),\"\")","v":""},{"$f":"IF($K144=照射試料の誘導放射能の計算書!$B$32&照射試料の誘導放射能の計算書!$D$32,COUNTIF($K144:$K402,照射試料の誘導放射能の計算書!$B$32&照射試料の誘導放射能の計算書!$D$32),\"\")","v":""},{"$f":"IF($K144=照射試料の誘導放射能の計算書!$B$33&照射試料の誘導放射能の計算書!$D$33,COUNTIF($K144:$K402,照射試料の誘導放射能の計算書!$B$33&照射試料の誘導放射能の計算書!$D$33),\"\")","v":""},{"$f":"IF($K144=照射試料の誘導放射能の計算書!$B$34&照射試料の誘導放射能の計算書!$D$34,COUNTIF($K144:$K402,照射試料の誘導放射能の計算書!$B$34&照射試料の誘導放射能の計算書!$D$34),\"\")","v":""},{"$f":"IF($K144=照射試料の誘導放射能の計算書!$B$35&照射試料の誘導放射能の計算書!$D$35,COUNTIF($K144:$K402,照射試料の誘導放射能の計算書!$B$35&照射試料の誘導放射能の計算書!$D$35),\"\")","v":""},{"$f":"IF($K144=照射試料の誘導放射能の計算書!$B$36&照射試料の誘導放射能の計算書!$D$36,COUNTIF($K144:$K402,照射試料の誘導放射能の計算書!$B$36&照射試料の誘導放射能の計算書!$D$36),\"\")","v":""},{"$f":"IF($K144=照射試料の誘導放射能の計算書!$B$37&照射試料の誘導放射能の計算書!$D$37,COUNTIF($K144:$K402,照射試料の誘導放射能の計算書!$B$37&照射試料の誘導放射能の計算書!$D$37),\"\")","v":""},{"$f":"IF($K144=照射試料の誘導放射能の計算書!$B$38&照射試料の誘導放射能の計算書!$D$38,COUNTIF($K144:$K402,照射試料の誘導放射能の計算書!$B$38&照射試料の誘導放射能の計算書!$D$38),\"\")","v":""},{"$f":"IF($K144=照射試料の誘導放射能の計算書!$B$39&照射試料の誘導放射能の計算書!$D$39,COUNTIF($K144:$K402,照射試料の誘導放射能の計算書!$B$39&照射試料の誘導放射能の計算書!$D$39),\"\")","v":""},{"$f":"IF($K144=照射試料の誘導放射能の計算書!$B$40&照射試料の誘導放射能の計算書!$D$40,COUNTIF($K144:$K402,照射試料の誘導放射能の計算書!$B$40&照射試料の誘導放射能の計算書!$D$40),\"\")","v":""},"Te-127m","(n,γ)Te-127m",0.13500000000000001,109,"d"]
[52,"Er-166","Te",128,"Te-128",31.69,"(n,γ)","Te129","Te",{"$f":"RIGHT(H145,3)","v":"129"},"Te-128(n,γ)",{"$f":"IF($K145=照射試料の誘導放射能の計算書!$B$31&照射試料の誘導放射能の計算書!$D$31,COUNTIF($K145:$K403,照射試料の誘導放射能の計算書!$B$31&照射試料の誘導放射能の計算書!$D$31),\"\")","v":""},{"$f":"IF($K145=照射試料の誘導放射能の計算書!$B$32&照射試料の誘導放射能の計算書!$D$32,COUNTIF($K145:$K403,照射試料の誘導放射能の計算書!$B$32&照射試料の誘導放射能の計算書!$D$32),\"\")","v":""},{"$f":"IF($K145=照射試料の誘導放射能の計算書!$B$33&照射試料の誘導放射能の計算書!$D$33,COUNTIF($K145:$K403,照射試料の誘導放射能の計算書!$B$33&照射試料の誘導放射能の計算書!$D$33),\"\")","v":""},{"$f":"IF($K145=照射試料の誘導放射能の計算書!$B$34&照射試料の誘導放射能の計算書!$D$34,COUNTIF($K145:$K403,照射試料の誘導放射能の計算書!$B$34&照射試料の誘導放射能の計算書!$D$34),\"\")","v":""},{"$f":"IF($K145=照射試料の誘導放射能の計算書!$B$35&照射試料の誘導放射能の計算書!$D$35,COUNTIF($K145:$K403,照射試料の誘導放射能の計算書!$B$35&照射試料の誘導放射能の計算書!$D$35),\"\")","v":""},{"$f":"IF($K145=照射試料の誘導放射能の計算書!$B$36&照射試料の誘導放射能の計算書!$D$36,COUNTIF($K145:$K403,照射試料の誘導放射能の計算書!$B$36&照射試料の誘導放射能の計算書!$D$36),\"\")","v":""},{"$f":"IF($K145=照射試料の誘導放射能の計算書!$B$37&照射試料の誘導放射能の計算書!$D$37,COUNTIF($K145:$K403,照射試料の誘導放射能の計算書!$B$37&照射試料の誘導放射能の計算書!$D$37),\"\")","v":""},{"$f":"IF($K145=照射試料の誘導放射能の計算書!$B$38&照射試料の誘導放射能の計算書!$D$38,COUNTIF($K145:$K403,照射試料の誘導放射能の計算書!$B$38&照射試料の誘導放射能の計算書!$D$38),\"\")","v":""},{"$f":"IF($K145=照射試料の誘導放射能の計算書!$B$39&照射試料の誘導放射能の計算書!$D$39,COUNTIF($K145:$K403,照射試料の誘導放射能の計算書!$B$39&照射試料の誘導放射能の計算書!$D$39),\"\")","v":""},{"$f":"IF($K145=照射試料の誘導放射能の計算書!$B$40&照射試料の誘導放射能の計算書!$D$40,COUNTIF($K145:$K403,照射試料の誘導放射能の計算書!$B$40&照射試料の誘導放射能の計算書!$D$40),\"\")","v":""},"Te-129","(n,γ)Te-129",0.2,69.599999999999994,"min"]
[52,"Er-168","Te",128,"Te-128",31.69,"(n,γ)","Te129m","Te",{"$f":"RIGHT(H146,4)","v":"129m"},"Te-128(n,γ)",{"$f":"IF($K146=照射試料の誘導放射能の計算書!$B$31&照射試料の誘導放射能の計算書!$D$31,COUNTIF($K146:$K404,照射試料の誘導放射能の計算書!$B$31&照射試料の誘導放射能の計算書!$D$31),\"\")","v":""},{"$f":"IF($K146=照射試料の誘導放射能の計算書!$B$32&照射試料の誘導放射能の計算書!$D$32,COUNTIF($K146:$K404,照射試料の誘導放射能の計算書!$B$32&照射試料の誘導放射能の計算書!$D$32),\"\")","v":""},{"$f":"IF($K146=照射試料の誘導放射能の計算書!$B$33&照射試料の誘導放射能の計算書!$D$33,COUNTIF($K146:$K404,照射試料の誘導放射能の計算書!$B$33&照射試料の誘導放射能の計算書!$D$33),\"\")","v":""},{"$f":"IF($K146=照射試料の誘導放射能の計算書!$B$34&照射試料の誘導放射能の計算書!$D$34,COUNTIF($K146:$K404,照射試料の誘導放射能の計算書!$B$34&照射試料の誘導放射能の計算書!$D$34),\"\")","v":""},{"$f":"IF($K146=照射試料の誘導放射能の計算書!$B$35&照射試料の誘導放射能の計算書!$D$35,COUNTIF($K146:$K404,照射試料の誘導放射能の計算書!$B$35&照射試料の誘導放射能の計算書!$D$35),\"\")","v":""},{"$f":"IF($K146=照射試料の誘導放射能の計算書!$B$36&照射試料の誘導放射能の計算書!$D$36,COUNTIF($K146:$K404,照射試料の誘導放射能の計算書!$B$36&照射試料の誘導放射能の計算書!$D$36),\"\")","v":""},{"$f":"IF($K146=照射試料の誘導放射能の計算書!$B$37&照射試料の誘導放射能の計算書!$D$37,COUNTIF($K146:$K404,照射試料の誘導放射能の計算書!$B$37&照射試料の誘導放射能の計算書!$D$37),\"\")","v":""},{"$f":"IF($K146=照射試料の誘導放射能の計算書!$B$38&照射試料の誘導放射能の計算書!$D$38,COUNTIF($K146:$K404,照射試料の誘導放射能の計算書!$B$38&照射試料の誘導放射能の計算書!$D$38),\"\")","v":""},{"$f":"IF($K146=照射試料の誘導放射能の計算書!$B$39&照射試料の誘導放射能の計算書!$D$39,COUNTIF($K146:$K404,照射試料の誘導放射能の計算書!$B$39&照射試料の誘導放射能の計算書!$D$39),\"\")","v":""},{"$f":"IF($K146=照射試料の誘導放射能の計算書!$B$40&照射試料の誘導放射能の計算書!$D$40,COUNTIF($K146:$K404,照射試料の誘導放射能の計算書!$B$40&照射試料の誘導放射能の計算書!$D$40),\"\")","v":""},"Te-129m","(n,γ)Te-129m",1.6E-2,33.6,"d"]
[52,"Er-170","Te",130,"Te-130",33.799999999999997,"(n,γ)","Te131","Te",{"$f":"RIGHT(H147,3)","v":"131"},"Te-130(n,γ)",{"$f":"IF($K147=照射試料の誘導放射能の計算書!$B$31&照射試料の誘導放射能の計算書!$D$31,COUNTIF($K147:$K405,照射試料の誘導放射能の計算書!$B$31&照射試料の誘導放射能の計算書!$D$31),\"\")","v":""},{"$f":"IF($K147=照射試料の誘導放射能の計算書!$B$32&照射試料の誘導放射能の計算書!$D$32,COUNTIF($K147:$K405,照射試料の誘導放射能の計算書!$B$32&照射試料の誘導放射能の計算書!$D$32),\"\")","v":""},{"$f":"IF($K147=照射試料の誘導放射能の計算書!$B$33&照射試料の誘導放射能の計算書!$D$33,COUNTIF($K147:$K405,照射試料の誘導放射能の計算書!$B$33&照射試料の誘導放射能の計算書!$D$33),\"\")","v":""},{"$f":"IF($K147=照射試料の誘導放射能の計算書!$B$34&照射試料の誘導放射能の計算書!$D$34,COUNTIF($K147:$K405,照射試料の誘導放射能の計算書!$B$34&照射試料の誘導放射能の計算書!$D$34),\"\")","v":""},{"$f":"IF($K147=照射試料の誘導放射能の計算書!$B$35&照射試料の誘導放射能の計算書!$D$35,COUNTIF($K147:$K405,照射試料の誘導放射能の計算書!$B$35&照射試料の誘導放射能の計算書!$D$35),\"\")","v":""},{"$f":"IF($K147=照射試料の誘導放射能の計算書!$B$36&照射試料の誘導放射能の計算書!$D$36,COUNTIF($K147:$K405,照射試料の誘導放射能の計算書!$B$36&照射試料の誘導放射能の計算書!$D$36),\"\")","v":""},{"$f":"IF($K147=照射試料の誘導放射能の計算書!$B$37&照射試料の誘導放射能の計算書!$D$37,COUNTIF($K147:$K405,照射試料の誘導放射能の計算書!$B$37&照射試料の誘導放射能の計算書!$D$37),\"\")","v":""},{"$f":"IF($K147=照射試料の誘導放射能の計算書!$B$38&照射試料の誘導放射能の計算書!$D$38,COUNTIF($K147:$K405,照射試料の誘導放射能の計算書!$B$38&照射試料の誘導放射能の計算書!$D$38),\"\")","v":""},{"$f":"IF($K147=照射試料の誘導放射能の計算書!$B$39&照射試料の誘導放射能の計算書!$D$39,COUNTIF($K147:$K405,照射試料の誘導放射能の計算書!$B$39&照射試料の誘導放射能の計算書!$D$39),\"\")","v":""},{"$f":"IF($K147=照射試料の誘導放射能の計算書!$B$40&照射試料の誘導放射能の計算書!$D$40,COUNTIF($K147:$K405,照射試料の誘導放射能の計算書!$B$40&照射試料の誘導放射能の計算書!$D$40),\"\")","v":""},"Te-131","(n,γ)Te-131",0.27,25,"min"]
[52,"Tm-169","Te",130,"Te-130",33.799999999999997,"(n,γ)","Te131m","Te",{"$f":"RIGHT(H148,4)","v":"131m"},"Te-130(n,γ)",{"$f":"IF($K148=照射試料の誘導放射能の計算書!$B$31&照射試料の誘導放射能の計算書!$D$31,COUNTIF($K148:$K406,照射試料の誘導放射能の計算書!$B$31&照射試料の誘導放射能の計算書!$D$31),\"\")","v":""},{"$f":"IF($K148=照射試料の誘導放射能の計算書!$B$32&照射試料の誘導放射能の計算書!$D$32,COUNTIF($K148:$K406,照射試料の誘導放射能の計算書!$B$32&照射試料の誘導放射能の計算書!$D$32),\"\")","v":""},{"$f":"IF($K148=照射試料の誘導放射能の計算書!$B$33&照射試料の誘導放射能の計算書!$D$33,COUNTIF($K148:$K406,照射試料の誘導放射能の計算書!$B$33&照射試料の誘導放射能の計算書!$D$33),\"\")","v":""},{"$f":"IF($K148=照射試料の誘導放射能の計算書!$B$34&照射試料の誘導放射能の計算書!$D$34,COUNTIF($K148:$K406,照射試料の誘導放射能の計算書!$B$34&照射試料の誘導放射能の計算書!$D$34),\"\")","v":""},{"$f":"IF($K148=照射試料の誘導放射能の計算書!$B$35&照射試料の誘導放射能の計算書!$D$35,COUNTIF($K148:$K406,照射試料の誘導放射能の計算書!$B$35&照射試料の誘導放射能の計算書!$D$35),\"\")","v":""},{"$f":"IF($K148=照射試料の誘導放射能の計算書!$B$36&照射試料の誘導放射能の計算書!$D$36,COUNTIF($K148:$K406,照射試料の誘導放射能の計算書!$B$36&照射試料の誘導放射能の計算書!$D$36),\"\")","v":""},{"$f":"IF($K148=照射試料の誘導放射能の計算書!$B$37&照射試料の誘導放射能の計算書!$D$37,COUNTIF($K148:$K406,照射試料の誘導放射能の計算書!$B$37&照射試料の誘導放射能の計算書!$D$37),\"\")","v":""},{"$f":"IF($K148=照射試料の誘導放射能の計算書!$B$38&照射試料の誘導放射能の計算書!$D$38,COUNTIF($K148:$K406,照射試料の誘導放射能の計算書!$B$38&照射試料の誘導放射能の計算書!$D$38),\"\")","v":""},{"$f":"IF($K148=照射試料の誘導放射能の計算書!$B$39&照射試料の誘導放射能の計算書!$D$39,COUNTIF($K148:$K406,照射試料の誘導放射能の計算書!$B$39&照射試料の誘導放射能の計算書!$D$39),\"\")","v":""},{"$f":"IF($K148=照射試料の誘導放射能の計算書!$B$40&照射試料の誘導放射能の計算書!$D$40,COUNTIF($K148:$K406,照射試料の誘導放射能の計算書!$B$40&照射試料の誘導放射能の計算書!$D$40),\"\")","v":""},"Te-131m","(n,γ)Te-131m",0.02,30,"h"]
[53,"Yb-168","I",127,"I-127",100,"(n,γ)","I128",{"$f":"LEFT(H149,1)","v":"I"},{"$f":"RIGHT(H149,3)","v":"128"},"I-127(n,γ)",{"$f":"IF($K149=照射試料の誘導放射能の計算書!$B$31&照射試料の誘導放射能の計算書!$D$31,COUNTIF($K149:$K407,照射試料の誘導放射能の計算書!$B$31&照射試料の誘導放射能の計算書!$D$31),\"\")","v":""},{"$f":"IF($K149=照射試料の誘導放射能の計算書!$B$32&照射試料の誘導放射能の計算書!$D$32,COUNTIF($K149:$K407,照射試料の誘導放射能の計算書!$B$32&照射試料の誘導放射能の計算書!$D$32),\"\")","v":""},{"$f":"IF($K149=照射試料の誘導放射能の計算書!$B$33&照射試料の誘導放射能の計算書!$D$33,COUNTIF($K149:$K407,照射試料の誘導放射能の計算書!$B$33&照射試料の誘導放射能の計算書!$D$33),\"\")","v":""},{"$f":"IF($K149=照射試料の誘導放射能の計算書!$B$34&照射試料の誘導放射能の計算書!$D$34,COUNTIF($K149:$K407,照射試料の誘導放射能の計算書!$B$34&照射試料の誘導放射能の計算書!$D$34),\"\")","v":""},{"$f":"IF($K149=照射試料の誘導放射能の計算書!$B$35&照射試料の誘導放射能の計算書!$D$35,COUNTIF($K149:$K407,照射試料の誘導放射能の計算書!$B$35&照射試料の誘導放射能の計算書!$D$35),\"\")","v":""},{"$f":"IF($K149=照射試料の誘導放射能の計算書!$B$36&照射試料の誘導放射能の計算書!$D$36,COUNTIF($K149:$K407,照射試料の誘導放射能の計算書!$B$36&照射試料の誘導放射能の計算書!$D$36),\"\")","v":""},{"$f":"IF($K149=照射試料の誘導放射能の計算書!$B$37&照射試料の誘導放射能の計算書!$D$37,COUNTIF($K149:$K407,照射試料の誘導放射能の計算書!$B$37&照射試料の誘導放射能の計算書!$D$37),\"\")","v":""},{"$f":"IF($K149=照射試料の誘導放射能の計算書!$B$38&照射試料の誘導放射能の計算書!$D$38,COUNTIF($K149:$K407,照射試料の誘導放射能の計算書!$B$38&照射試料の誘導放射能の計算書!$D$38),\"\")","v":""},{"$f":"IF($K149=照射試料の誘導放射能の計算書!$B$39&照射試料の誘導放射能の計算書!$D$39,COUNTIF($K149:$K407,照射試料の誘導放射能の計算書!$B$39&照射試料の誘導放射能の計算書!$D$39),\"\")","v":""},{"$f":"IF($K149=照射試料の誘導放射能の計算書!$B$40&照射試料の誘導放射能の計算書!$D$40,COUNTIF($K149:$K407,照射試料の誘導放射能の計算書!$B$40&照射試料の誘導放射能の計算書!$D$40),\"\")","v":""},"I-128","(n,γ)I-128",6.2,25,"min"]
[54,"Yb-174","Xe",124,"Xe-124",0.1,"(n,γ)","Xe125","Xe",{"$f":"RIGHT(H150,3)","v":"125"},"Xe-124(n,γ)",{"$f":"IF($K150=照射試料の誘導放射能の計算書!$B$31&照射試料の誘導放射能の計算書!$D$31,COUNTIF($K150:$K408,照射試料の誘導放射能の計算書!$B$31&照射試料の誘導放射能の計算書!$D$31),\"\")","v":""},{"$f":"IF($K150=照射試料の誘導放射能の計算書!$B$32&照射試料の誘導放射能の計算書!$D$32,COUNTIF($K150:$K408,照射試料の誘導放射能の計算書!$B$32&照射試料の誘導放射能の計算書!$D$32),\"\")","v":""},{"$f":"IF($K150=照射試料の誘導放射能の計算書!$B$33&照射試料の誘導放射能の計算書!$D$33,COUNTIF($K150:$K408,照射試料の誘導放射能の計算書!$B$33&照射試料の誘導放射能の計算書!$D$33),\"\")","v":""},{"$f":"IF($K150=照射試料の誘導放射能の計算書!$B$34&照射試料の誘導放射能の計算書!$D$34,COUNTIF($K150:$K408,照射試料の誘導放射能の計算書!$B$34&照射試料の誘導放射能の計算書!$D$34),\"\")","v":""},{"$f":"IF($K150=照射試料の誘導放射能の計算書!$B$35&照射試料の誘導放射能の計算書!$D$35,COUNTIF($K150:$K408,照射試料の誘導放射能の計算書!$B$35&照射試料の誘導放射能の計算書!$D$35),\"\")","v":""},{"$f":"IF($K150=照射試料の誘導放射能の計算書!$B$36&照射試料の誘導放射能の計算書!$D$36,COUNTIF($K150:$K408,照射試料の誘導放射能の計算書!$B$36&照射試料の誘導放射能の計算書!$D$36),\"\")","v":""},{"$f":"IF($K150=照射試料の誘導放射能の計算書!$B$37&照射試料の誘導放射能の計算書!$D$37,COUNTIF($K150:$K408,照射試料の誘導放射能の計算書!$B$37&照射試料の誘導放射能の計算書!$D$37),\"\")","v":""},{"$f":"IF($K150=照射試料の誘導放射能の計算書!$B$38&照射試料の誘導放射能の計算書!$D$38,COUNTIF($K150:$K408,照射試料の誘導放射能の計算書!$B$38&照射試料の誘導放射能の計算書!$D$38),\"\")","v":""},{"$f":"IF($K150=照射試料の誘導放射能の計算書!$B$39&照射試料の誘導放射能の計算書!$D$39,COUNTIF($K150:$K408,照射試料の誘導放射能の計算書!$B$39&照射試料の誘導放射能の計算書!$D$39),\"\")","v":""},{"$f":"IF($K150=照射試料の誘導放射能の計算書!$B$40&照射試料の誘導放射能の計算書!$D$40,COUNTIF($K150:$K408,照射試料の誘導放射能の計算書!$B$40&照射試料の誘導放射能の計算書!$D$40),\"\")","v":""},"Xe-125","(n,γ)Xe-125",106,16.899999999999999,"h"]
[54,"Yb-176","Xe",124,"Xe-124",0.1,"(n,γ)","Xe125m","Xe",{"$f":"RIGHT(H151,4)","v":"125m"},"Xe-124(n,γ)",{"$f":"IF($K151=照射試料の誘導放射能の計算書!$B$31&照射試料の誘導放射能の計算書!$D$31,COUNTIF($K151:$K409,照射試料の誘導放射能の計算書!$B$31&照射試料の誘導放射能の計算書!$D$31),\"\")","v":""},{"$f":"IF($K151=照射試料の誘導放射能の計算書!$B$32&照射試料の誘導放射能の計算書!$D$32,COUNTIF($K151:$K409,照射試料の誘導放射能の計算書!$B$32&照射試料の誘導放射能の計算書!$D$32),\"\")","v":""},{"$f":"IF($K151=照射試料の誘導放射能の計算書!$B$33&照射試料の誘導放射能の計算書!$D$33,COUNTIF($K151:$K409,照射試料の誘導放射能の計算書!$B$33&照射試料の誘導放射能の計算書!$D$33),\"\")","v":""},{"$f":"IF($K151=照射試料の誘導放射能の計算書!$B$34&照射試料の誘導放射能の計算書!$D$34,COUNTIF($K151:$K409,照射試料の誘導放射能の計算書!$B$34&照射試料の誘導放射能の計算書!$D$34),\"\")","v":""},{"$f":"IF($K151=照射試料の誘導放射能の計算書!$B$35&照射試料の誘導放射能の計算書!$D$35,COUNTIF($K151:$K409,照射試料の誘導放射能の計算書!$B$35&照射試料の誘導放射能の計算書!$D$35),\"\")","v":""},{"$f":"IF($K151=照射試料の誘導放射能の計算書!$B$36&照射試料の誘導放射能の計算書!$D$36,COUNTIF($K151:$K409,照射試料の誘導放射能の計算書!$B$36&照射試料の誘導放射能の計算書!$D$36),\"\")","v":""},{"$f":"IF($K151=照射試料の誘導放射能の計算書!$B$37&照射試料の誘導放射能の計算書!$D$37,COUNTIF($K151:$K409,照射試料の誘導放射能の計算書!$B$37&照射試料の誘導放射能の計算書!$D$37),\"\")","v":""},{"$f":"IF($K151=照射試料の誘導放射能の計算書!$B$38&照射試料の誘導放射能の計算書!$D$38,COUNTIF($K151:$K409,照射試料の誘導放射能の計算書!$B$38&照射試料の誘導放射能の計算書!$D$38),\"\")","v":""},{"$f":"IF($K151=照射試料の誘導放射能の計算書!$B$39&照射試料の誘導放射能の計算書!$D$39,COUNTIF($K151:$K409,照射試料の誘導放射能の計算書!$B$39&照射試料の誘導放射能の計算書!$D$39),\"\")","v":""},{"$f":"IF($K151=照射試料の誘導放射能の計算書!$B$40&照射試料の誘導放射能の計算書!$D$40,COUNTIF($K151:$K409,照射試料の誘導放射能の計算書!$B$40&照射試料の誘導放射能の計算書!$D$40),\"\")","v":""},"Xe-125m","(n,γ)Xe-125m",22,57,"s"]
[54,"Lu-175","Xe",126,"Xe-126",0.09,"(n,γ)","Xe127","Xe",{"$f":"RIGHT(H152,3)","v":"127"},"Xe-126(n,γ)",{"$f":"IF($K152=照射試料の誘導放射能の計算書!$B$31&照射試料の誘導放射能の計算書!$D$31,COUNTIF($K152:$K410,照射試料の誘導放射能の計算書!$B$31&照射試料の誘導放射能の計算書!$D$31),\"\")","v":""},{"$f":"IF($K152=照射試料の誘導放射能の計算書!$B$32&照射試料の誘導放射能の計算書!$D$32,COUNTIF($K152:$K410,照射試料の誘導放射能の計算書!$B$32&照射試料の誘導放射能の計算書!$D$32),\"\")","v":""},{"$f":"IF($K152=照射試料の誘導放射能の計算書!$B$33&照射試料の誘導放射能の計算書!$D$33,COUNTIF($K152:$K410,照射試料の誘導放射能の計算書!$B$33&照射試料の誘導放射能の計算書!$D$33),\"\")","v":""},{"$f":"IF($K152=照射試料の誘導放射能の計算書!$B$34&照射試料の誘導放射能の計算書!$D$34,COUNTIF($K152:$K410,照射試料の誘導放射能の計算書!$B$34&照射試料の誘導放射能の計算書!$D$34),\"\")","v":""},{"$f":"IF($K152=照射試料の誘導放射能の計算書!$B$35&照射試料の誘導放射能の計算書!$D$35,COUNTIF($K152:$K410,照射試料の誘導放射能の計算書!$B$35&照射試料の誘導放射能の計算書!$D$35),\"\")","v":""},{"$f":"IF($K152=照射試料の誘導放射能の計算書!$B$36&照射試料の誘導放射能の計算書!$D$36,COUNTIF($K152:$K410,照射試料の誘導放射能の計算書!$B$36&照射試料の誘導放射能の計算書!$D$36),\"\")","v":""},{"$f":"IF($K152=照射試料の誘導放射能の計算書!$B$37&照射試料の誘導放射能の計算書!$D$37,COUNTIF($K152:$K410,照射試料の誘導放射能の計算書!$B$37&照射試料の誘導放射能の計算書!$D$37),\"\")","v":""},{"$f":"IF($K152=照射試料の誘導放射能の計算書!$B$38&照射試料の誘導放射能の計算書!$D$38,COUNTIF($K152:$K410,照射試料の誘導放射能の計算書!$B$38&照射試料の誘導放射能の計算書!$D$38),\"\")","v":""},{"$f":"IF($K152=照射試料の誘導放射能の計算書!$B$39&照射試料の誘導放射能の計算書!$D$39,COUNTIF($K152:$K410,照射試料の誘導放射能の計算書!$B$39&照射試料の誘導放射能の計算書!$D$39),\"\")","v":""},{"$f":"IF($K152=照射試料の誘導放射能の計算書!$B$40&照射試料の誘導放射能の計算書!$D$40,COUNTIF($K152:$K410,照射試料の誘導放射能の計算書!$B$40&照射試料の誘導放射能の計算書!$D$40),\"\")","v":""},"Xe-127","(n,γ)Xe-127",3.7,36.4,"d"]
[54,"Lu-176","Xe",126,"Xe-126",0.09,"(n,γ)","Xe127m","Xe",{"$f":"RIGHT(H153,4)","v":"127m"},"Xe-126(n,γ)",{"$f":"IF($K153=照射試料の誘導放射能の計算書!$B$31&照射試料の誘導放射能の計算書!$D$31,COUNTIF($K153:$K411,照射試料の誘導放射能の計算書!$B$31&照射試料の誘導放射能の計算書!$D$31),\"\")","v":""},{"$f":"IF($K153=照射試料の誘導放射能の計算書!$B$32&照射試料の誘導放射能の計算書!$D$32,COUNTIF($K153:$K411,照射試料の誘導放射能の計算書!$B$32&照射試料の誘導放射能の計算書!$D$32),\"\")","v":""},{"$f":"IF($K153=照射試料の誘導放射能の計算書!$B$33&照射試料の誘導放射能の計算書!$D$33,COUNTIF($K153:$K411,照射試料の誘導放射能の計算書!$B$33&照射試料の誘導放射能の計算書!$D$33),\"\")","v":""},{"$f":"IF($K153=照射試料の誘導放射能の計算書!$B$34&照射試料の誘導放射能の計算書!$D$34,COUNTIF($K153:$K411,照射試料の誘導放射能の計算書!$B$34&照射試料の誘導放射能の計算書!$D$34),\"\")","v":""},{"$f":"IF($K153=照射試料の誘導放射能の計算書!$B$35&照射試料の誘導放射能の計算書!$D$35,COUNTIF($K153:$K411,照射試料の誘導放射能の計算書!$B$35&照射試料の誘導放射能の計算書!$D$35),\"\")","v":""},{"$f":"IF($K153=照射試料の誘導放射能の計算書!$B$36&照射試料の誘導放射能の計算書!$D$36,COUNTIF($K153:$K411,照射試料の誘導放射能の計算書!$B$36&照射試料の誘導放射能の計算書!$D$36),\"\")","v":""},{"$f":"IF($K153=照射試料の誘導放射能の計算書!$B$37&照射試料の誘導放射能の計算書!$D$37,COUNTIF($K153:$K411,照射試料の誘導放射能の計算書!$B$37&照射試料の誘導放射能の計算書!$D$37),\"\")","v":""},{"$f":"IF($K153=照射試料の誘導放射能の計算書!$B$38&照射試料の誘導放射能の計算書!$D$38,COUNTIF($K153:$K411,照射試料の誘導放射能の計算書!$B$38&照射試料の誘導放射能の計算書!$D$38),\"\")","v":""},{"$f":"IF($K153=照射試料の誘導放射能の計算書!$B$39&照射試料の誘導放射能の計算書!$D$39,COUNTIF($K153:$K411,照射試料の誘導放射能の計算書!$B$39&照射試料の誘導放射能の計算書!$D$39),\"\")","v":""},{"$f":"IF($K153=照射試料の誘導放射能の計算書!$B$40&照射試料の誘導放射能の計算書!$D$40,COUNTIF($K153:$K411,照射試料の誘導放射能の計算書!$B$40&照射試料の誘導放射能の計算書!$D$40),\"\")","v":""},"Xe-127m","(n,γ)Xe-127m",0.26,70,"s"]
[54,"Hf-177","Xe",128,"Xe-128",1.91,"(n,γ)","Xe129m","Xe",{"$f":"RIGHT(H154,4)","v":"129m"},"Xe-128(n,γ)",{"$f":"IF($K154=照射試料の誘導放射能の計算書!$B$31&照射試料の誘導放射能の計算書!$D$31,COUNTIF($K154:$K412,照射試料の誘導放射能の計算書!$B$31&照射試料の誘導放射能の計算書!$D$31),\"\")","v":""},{"$f":"IF($K154=照射試料の誘導放射能の計算書!$B$32&照射試料の誘導放射能の計算書!$D$32,COUNTIF($K154:$K412,照射試料の誘導放射能の計算書!$B$32&照射試料の誘導放射能の計算書!$D$32),\"\")","v":""},{"$f":"IF($K154=照射試料の誘導放射能の計算書!$B$33&照射試料の誘導放射能の計算書!$D$33,COUNTIF($K154:$K412,照射試料の誘導放射能の計算書!$B$33&照射試料の誘導放射能の計算書!$D$33),\"\")","v":""},{"$f":"IF($K154=照射試料の誘導放射能の計算書!$B$34&照射試料の誘導放射能の計算書!$D$34,COUNTIF($K154:$K412,照射試料の誘導放射能の計算書!$B$34&照射試料の誘導放射能の計算書!$D$34),\"\")","v":""},{"$f":"IF($K154=照射試料の誘導放射能の計算書!$B$35&照射試料の誘導放射能の計算書!$D$35,COUNTIF($K154:$K412,照射試料の誘導放射能の計算書!$B$35&照射試料の誘導放射能の計算書!$D$35),\"\")","v":""},{"$f":"IF($K154=照射試料の誘導放射能の計算書!$B$36&照射試料の誘導放射能の計算書!$D$36,COUNTIF($K154:$K412,照射試料の誘導放射能の計算書!$B$36&照射試料の誘導放射能の計算書!$D$36),\"\")","v":""},{"$f":"IF($K154=照射試料の誘導放射能の計算書!$B$37&照射試料の誘導放射能の計算書!$D$37,COUNTIF($K154:$K412,照射試料の誘導放射能の計算書!$B$37&照射試料の誘導放射能の計算書!$D$37),\"\")","v":""},{"$f":"IF($K154=照射試料の誘導放射能の計算書!$B$38&照射試料の誘導放射能の計算書!$D$38,COUNTIF($K154:$K412,照射試料の誘導放射能の計算書!$B$38&照射試料の誘導放射能の計算書!$D$38),\"\")","v":""},{"$f":"IF($K154=照射試料の誘導放射能の計算書!$B$39&照射試料の誘導放射能の計算書!$D$39,COUNTIF($K154:$K412,照射試料の誘導放射能の計算書!$B$39&照射試料の誘導放射能の計算書!$D$39),\"\")","v":""},{"$f":"IF($K154=照射試料の誘導放射能の計算書!$B$40&照射試料の誘導放射能の計算書!$D$40,COUNTIF($K154:$K412,照射試料の誘導放射能の計算書!$B$40&照射試料の誘導放射能の計算書!$D$40),\"\")","v":""},"Xe-129m","(n,γ)Xe-129m",0.36,8.89,"d"]
[54,"Hf-178","Xe",130,"Xe-130",4.0999999999999996,"(n,γ)","Xe131m","Xe",{"$f":"RIGHT(H155,4)","v":"131m"},"Xe-130(n,γ)",{"$f":"IF($K155=照射試料の誘導放射能の計算書!$B$31&照射試料の誘導放射能の計算書!$D$31,COUNTIF($K155:$K413,照射試料の誘導放射能の計算書!$B$31&照射試料の誘導放射能の計算書!$D$31),\"\")","v":""},{"$f":"IF($K155=照射試料の誘導放射能の計算書!$B$32&照射試料の誘導放射能の計算書!$D$32,COUNTIF($K155:$K413,照射試料の誘導放射能の計算書!$B$32&照射試料の誘導放射能の計算書!$D$32),\"\")","v":""},{"$f":"IF($K155=照射試料の誘導放射能の計算書!$B$33&照射試料の誘導放射能の計算書!$D$33,COUNTIF($K155:$K413,照射試料の誘導放射能の計算書!$B$33&照射試料の誘導放射能の計算書!$D$33),\"\")","v":""},{"$f":"IF($K155=照射試料の誘導放射能の計算書!$B$34&照射試料の誘導放射能の計算書!$D$34,COUNTIF($K155:$K413,照射試料の誘導放射能の計算書!$B$34&照射試料の誘導放射能の計算書!$D$34),\"\")","v":""},{"$f":"IF($K155=照射試料の誘導放射能の計算書!$B$35&照射試料の誘導放射能の計算書!$D$35,COUNTIF($K155:$K413,照射試料の誘導放射能の計算書!$B$35&照射試料の誘導放射能の計算書!$D$35),\"\")","v":""},{"$f":"IF($K155=照射試料の誘導放射能の計算書!$B$36&照射試料の誘導放射能の計算書!$D$36,COUNTIF($K155:$K413,照射試料の誘導放射能の計算書!$B$36&照射試料の誘導放射能の計算書!$D$36),\"\")","v":""},{"$f":"IF($K155=照射試料の誘導放射能の計算書!$B$37&照射試料の誘導放射能の計算書!$D$37,COUNTIF($K155:$K413,照射試料の誘導放射能の計算書!$B$37&照射試料の誘導放射能の計算書!$D$37),\"\")","v":""},{"$f":"IF($K155=照射試料の誘導放射能の計算書!$B$38&照射試料の誘導放射能の計算書!$D$38,COUNTIF($K155:$K413,照射試料の誘導放射能の計算書!$B$38&照射試料の誘導放射能の計算書!$D$38),\"\")","v":""},{"$f":"IF($K155=照射試料の誘導放射能の計算書!$B$39&照射試料の誘導放射能の計算書!$D$39,COUNTIF($K155:$K413,照射試料の誘導放射能の計算書!$B$39&照射試料の誘導放射能の計算書!$D$39),\"\")","v":""},{"$f":"IF($K155=照射試料の誘導放射能の計算書!$B$40&照射試料の誘導放射能の計算書!$D$40,COUNTIF($K155:$K413,照射試料の誘導放射能の計算書!$B$40&照射試料の誘導放射能の計算書!$D$40),\"\")","v":""},"Xe-131m","(n,γ)Xe-131m",0.42,11.9,"d"]
[54,"Hf-179","Xe",132,"Xe-132",26.9,"(n,γ)","Xe133","Xe",{"$f":"RIGHT(H156,3)","v":"133"},"Xe-132(n,γ)",{"$f":"IF($K156=照射試料の誘導放射能の計算書!$B$31&照射試料の誘導放射能の計算書!$D$31,COUNTIF($K156:$K414,照射試料の誘導放射能の計算書!$B$31&照射試料の誘導放射能の計算書!$D$31),\"\")","v":""},{"$f":"IF($K156=照射試料の誘導放射能の計算書!$B$32&照射試料の誘導放射能の計算書!$D$32,COUNTIF($K156:$K414,照射試料の誘導放射能の計算書!$B$32&照射試料の誘導放射能の計算書!$D$32),\"\")","v":""},{"$f":"IF($K156=照射試料の誘導放射能の計算書!$B$33&照射試料の誘導放射能の計算書!$D$33,COUNTIF($K156:$K414,照射試料の誘導放射能の計算書!$B$33&照射試料の誘導放射能の計算書!$D$33),\"\")","v":""},{"$f":"IF($K156=照射試料の誘導放射能の計算書!$B$34&照射試料の誘導放射能の計算書!$D$34,COUNTIF($K156:$K414,照射試料の誘導放射能の計算書!$B$34&照射試料の誘導放射能の計算書!$D$34),\"\")","v":""},{"$f":"IF($K156=照射試料の誘導放射能の計算書!$B$35&照射試料の誘導放射能の計算書!$D$35,COUNTIF($K156:$K414,照射試料の誘導放射能の計算書!$B$35&照射試料の誘導放射能の計算書!$D$35),\"\")","v":""},{"$f":"IF($K156=照射試料の誘導放射能の計算書!$B$36&照射試料の誘導放射能の計算書!$D$36,COUNTIF($K156:$K414,照射試料の誘導放射能の計算書!$B$36&照射試料の誘導放射能の計算書!$D$36),\"\")","v":""},{"$f":"IF($K156=照射試料の誘導放射能の計算書!$B$37&照射試料の誘導放射能の計算書!$D$37,COUNTIF($K156:$K414,照射試料の誘導放射能の計算書!$B$37&照射試料の誘導放射能の計算書!$D$37),\"\")","v":""},{"$f":"IF($K156=照射試料の誘導放射能の計算書!$B$38&照射試料の誘導放射能の計算書!$D$38,COUNTIF($K156:$K414,照射試料の誘導放射能の計算書!$B$38&照射試料の誘導放射能の計算書!$D$38),\"\")","v":""},{"$f":"IF($K156=照射試料の誘導放射能の計算書!$B$39&照射試料の誘導放射能の計算書!$D$39,COUNTIF($K156:$K414,照射試料の誘導放射能の計算書!$B$39&照射試料の誘導放射能の計算書!$D$39),\"\")","v":""},{"$f":"IF($K156=照射試料の誘導放射能の計算書!$B$40&照射試料の誘導放射能の計算書!$D$40,COUNTIF($K156:$K414,照射試料の誘導放射能の計算書!$B$40&照射試料の誘導放射能の計算書!$D$40),\"\")","v":""},"Xe-133","(n,γ)Xe-133",0.36,5.25,"d"]
[54,"Hf-180","Xe",132,"Xe-132",26.9,"(n,γ)","Xe133m","Xe",{"$f":"RIGHT(H157,4)","v":"133m"},"Xe-132(n,γ)",{"$f":"IF($K157=照射試料の誘導放射能の計算書!$B$31&照射試料の誘導放射能の計算書!$D$31,COUNTIF($K157:$K415,照射試料の誘導放射能の計算書!$B$31&照射試料の誘導放射能の計算書!$D$31),\"\")","v":""},{"$f":"IF($K157=照射試料の誘導放射能の計算書!$B$32&照射試料の誘導放射能の計算書!$D$32,COUNTIF($K157:$K415,照射試料の誘導放射能の計算書!$B$32&照射試料の誘導放射能の計算書!$D$32),\"\")","v":""},{"$f":"IF($K157=照射試料の誘導放射能の計算書!$B$33&照射試料の誘導放射能の計算書!$D$33,COUNTIF($K157:$K415,照射試料の誘導放射能の計算書!$B$33&照射試料の誘導放射能の計算書!$D$33),\"\")","v":""},{"$f":"IF($K157=照射試料の誘導放射能の計算書!$B$34&照射試料の誘導放射能の計算書!$D$34,COUNTIF($K157:$K415,照射試料の誘導放射能の計算書!$B$34&照射試料の誘導放射能の計算書!$D$34),\"\")","v":""},{"$f":"IF($K157=照射試料の誘導放射能の計算書!$B$35&照射試料の誘導放射能の計算書!$D$35,COUNTIF($K157:$K415,照射試料の誘導放射能の計算書!$B$35&照射試料の誘導放射能の計算書!$D$35),\"\")","v":""},{"$f":"IF($K157=照射試料の誘導放射能の計算書!$B$36&照射試料の誘導放射能の計算書!$D$36,COUNTIF($K157:$K415,照射試料の誘導放射能の計算書!$B$36&照射試料の誘導放射能の計算書!$D$36),\"\")","v":""},{"$f":"IF($K157=照射試料の誘導放射能の計算書!$B$37&照射試料の誘導放射能の計算書!$D$37,COUNTIF($K157:$K415,照射試料の誘導放射能の計算書!$B$37&照射試料の誘導放射能の計算書!$D$37),\"\")","v":""},{"$f":"IF($K157=照射試料の誘導放射能の計算書!$B$38&照射試料の誘導放射能の計算書!$D$38,COUNTIF($K157:$K415,照射試料の誘導放射能の計算書!$B$38&照射試料の誘導放射能の計算書!$D$38),\"\")","v":""},{"$f":"IF($K157=照射試料の誘導放射能の計算書!$B$39&照射試料の誘導放射能の計算書!$D$39,COUNTIF($K157:$K415,照射試料の誘導放射能の計算書!$B$39&照射試料の誘導放射能の計算書!$D$39),\"\")","v":""},{"$f":"IF($K157=照射試料の誘導放射能の計算書!$B$40&照射試料の誘導放射能の計算書!$D$40,COUNTIF($K157:$K415,照射試料の誘導放射能の計算書!$B$40&照射試料の誘導放射能の計算書!$D$40),\"\")","v":""},"Xe-133m","(n,γ)Xe-133m",2.5000000000000001E-2,2.19,"d"]
[54,"Ta-181","Xe",134,"Xe-134",10.4,"(n,γ)","Xe135","Xe",{"$f":"RIGHT(H158,3)","v":"135"},"Xe-134(n,γ)",{"$f":"IF($K158=照射試料の誘導放射能の計算書!$B$31&照射試料の誘導放射能の計算書!$D$31,COUNTIF($K158:$K416,照射試料の誘導放射能の計算書!$B$31&照射試料の誘導放射能の計算書!$D$31),\"\")","v":""},{"$f":"IF($K158=照射試料の誘導放射能の計算書!$B$32&照射試料の誘導放射能の計算書!$D$32,COUNTIF($K158:$K416,照射試料の誘導放射能の計算書!$B$32&照射試料の誘導放射能の計算書!$D$32),\"\")","v":""},{"$f":"IF($K158=照射試料の誘導放射能の計算書!$B$33&照射試料の誘導放射能の計算書!$D$33,COUNTIF($K158:$K416,照射試料の誘導放射能の計算書!$B$33&照射試料の誘導放射能の計算書!$D$33),\"\")","v":""},{"$f":"IF($K158=照射試料の誘導放射能の計算書!$B$34&照射試料の誘導放射能の計算書!$D$34,COUNTIF($K158:$K416,照射試料の誘導放射能の計算書!$B$34&照射試料の誘導放射能の計算書!$D$34),\"\")","v":""},{"$f":"IF($K158=照射試料の誘導放射能の計算書!$B$35&照射試料の誘導放射能の計算書!$D$35,COUNTIF($K158:$K416,照射試料の誘導放射能の計算書!$B$35&照射試料の誘導放射能の計算書!$D$35),\"\")","v":""},{"$f":"IF($K158=照射試料の誘導放射能の計算書!$B$36&照射試料の誘導放射能の計算書!$D$36,COUNTIF($K158:$K416,照射試料の誘導放射能の計算書!$B$36&照射試料の誘導放射能の計算書!$D$36),\"\")","v":""},{"$f":"IF($K158=照射試料の誘導放射能の計算書!$B$37&照射試料の誘導放射能の計算書!$D$37,COUNTIF($K158:$K416,照射試料の誘導放射能の計算書!$B$37&照射試料の誘導放射能の計算書!$D$37),\"\")","v":""},{"$f":"IF($K158=照射試料の誘導放射能の計算書!$B$38&照射試料の誘導放射能の計算書!$D$38,COUNTIF($K158:$K416,照射試料の誘導放射能の計算書!$B$38&照射試料の誘導放射能の計算書!$D$38),\"\")","v":""},{"$f":"IF($K158=照射試料の誘導放射能の計算書!$B$39&照射試料の誘導放射能の計算書!$D$39,COUNTIF($K158:$K416,照射試料の誘導放射能の計算書!$B$39&照射試料の誘導放射能の計算書!$D$39),\"\")","v":""},{"$f":"IF($K158=照射試料の誘導放射能の計算書!$B$40&照射試料の誘導放射能の計算書!$D$40,COUNTIF($K158:$K416,照射試料の誘導放射能の計算書!$B$40&照射試料の誘導放射能の計算書!$D$40),\"\")","v":""},"Xe-135","(n,γ)Xe-135",0.26,9.1,"h"]
[54,"W-180","Xe",134,"Xe-134",10.4,"(n,γ)","Xe135m","Xe",{"$f":"RIGHT(H159,4)","v":"135m"},"Xe-134(n,γ)",{"$f":"IF($K159=照射試料の誘導放射能の計算書!$B$31&照射試料の誘導放射能の計算書!$D$31,COUNTIF($K159:$K417,照射試料の誘導放射能の計算書!$B$31&照射試料の誘導放射能の計算書!$D$31),\"\")","v":""},{"$f":"IF($K159=照射試料の誘導放射能の計算書!$B$32&照射試料の誘導放射能の計算書!$D$32,COUNTIF($K159:$K417,照射試料の誘導放射能の計算書!$B$32&照射試料の誘導放射能の計算書!$D$32),\"\")","v":""},{"$f":"IF($K159=照射試料の誘導放射能の計算書!$B$33&照射試料の誘導放射能の計算書!$D$33,COUNTIF($K159:$K417,照射試料の誘導放射能の計算書!$B$33&照射試料の誘導放射能の計算書!$D$33),\"\")","v":""},{"$f":"IF($K159=照射試料の誘導放射能の計算書!$B$34&照射試料の誘導放射能の計算書!$D$34,COUNTIF($K159:$K417,照射試料の誘導放射能の計算書!$B$34&照射試料の誘導放射能の計算書!$D$34),\"\")","v":""},{"$f":"IF($K159=照射試料の誘導放射能の計算書!$B$35&照射試料の誘導放射能の計算書!$D$35,COUNTIF($K159:$K417,照射試料の誘導放射能の計算書!$B$35&照射試料の誘導放射能の計算書!$D$35),\"\")","v":""},{"$f":"IF($K159=照射試料の誘導放射能の計算書!$B$36&照射試料の誘導放射能の計算書!$D$36,COUNTIF($K159:$K417,照射試料の誘導放射能の計算書!$B$36&照射試料の誘導放射能の計算書!$D$36),\"\")","v":""},{"$f":"IF($K159=照射試料の誘導放射能の計算書!$B$37&照射試料の誘導放射能の計算書!$D$37,COUNTIF($K159:$K417,照射試料の誘導放射能の計算書!$B$37&照射試料の誘導放射能の計算書!$D$37),\"\")","v":""},{"$f":"IF($K159=照射試料の誘導放射能の計算書!$B$38&照射試料の誘導放射能の計算書!$D$38,COUNTIF($K159:$K417,照射試料の誘導放射能の計算書!$B$38&照射試料の誘導放射能の計算書!$D$38),\"\")","v":""},{"$f":"IF($K159=照射試料の誘導放射能の計算書!$B$39&照射試料の誘導放射能の計算書!$D$39,COUNTIF($K159:$K417,照射試料の誘導放射能の計算書!$B$39&照射試料の誘導放射能の計算書!$D$39),\"\")","v":""},{"$f":"IF($K159=照射試料の誘導放射能の計算書!$B$40&照射試料の誘導放射能の計算書!$D$40,COUNTIF($K159:$K417,照射試料の誘導放射能の計算書!$B$40&照射試料の誘導放射能の計算書!$D$40),\"\")","v":""},"Xe-135m","(n,γ)Xe-135m",3.0000000000000001E-3,15.3,"min"]
[54,"W-184","Xe",136,"Xe-136",8.9,"(n,γ)","Xe137","Xe",{"$f":"RIGHT(H160,3)","v":"137"},"Xe-136(n,γ)",{"$f":"IF($K160=照射試料の誘導放射能の計算書!$B$31&照射試料の誘導放射能の計算書!$D$31,COUNTIF($K160:$K418,照射試料の誘導放射能の計算書!$B$31&照射試料の誘導放射能の計算書!$D$31),\"\")","v":""},{"$f":"IF($K160=照射試料の誘導放射能の計算書!$B$32&照射試料の誘導放射能の計算書!$D$32,COUNTIF($K160:$K418,照射試料の誘導放射能の計算書!$B$32&照射試料の誘導放射能の計算書!$D$32),\"\")","v":""},{"$f":"IF($K160=照射試料の誘導放射能の計算書!$B$33&照射試料の誘導放射能の計算書!$D$33,COUNTIF($K160:$K418,照射試料の誘導放射能の計算書!$B$33&照射試料の誘導放射能の計算書!$D$33),\"\")","v":""},{"$f":"IF($K160=照射試料の誘導放射能の計算書!$B$34&照射試料の誘導放射能の計算書!$D$34,COUNTIF($K160:$K418,照射試料の誘導放射能の計算書!$B$34&照射試料の誘導放射能の計算書!$D$34),\"\")","v":""},{"$f":"IF($K160=照射試料の誘導放射能の計算書!$B$35&照射試料の誘導放射能の計算書!$D$35,COUNTIF($K160:$K418,照射試料の誘導放射能の計算書!$B$35&照射試料の誘導放射能の計算書!$D$35),\"\")","v":""},{"$f":"IF($K160=照射試料の誘導放射能の計算書!$B$36&照射試料の誘導放射能の計算書!$D$36,COUNTIF($K160:$K418,照射試料の誘導放射能の計算書!$B$36&照射試料の誘導放射能の計算書!$D$36),\"\")","v":""},{"$f":"IF($K160=照射試料の誘導放射能の計算書!$B$37&照射試料の誘導放射能の計算書!$D$37,COUNTIF($K160:$K418,照射試料の誘導放射能の計算書!$B$37&照射試料の誘導放射能の計算書!$D$37),\"\")","v":""},{"$f":"IF($K160=照射試料の誘導放射能の計算書!$B$38&照射試料の誘導放射能の計算書!$D$38,COUNTIF($K160:$K418,照射試料の誘導放射能の計算書!$B$38&照射試料の誘導放射能の計算書!$D$38),\"\")","v":""},{"$f":"IF($K160=照射試料の誘導放射能の計算書!$B$39&照射試料の誘導放射能の計算書!$D$39,COUNTIF($K160:$K418,照射試料の誘導放射能の計算書!$B$39&照射試料の誘導放射能の計算書!$D$39),\"\")","v":""},{"$f":"IF($K160=照射試料の誘導放射能の計算書!$B$40&照射試料の誘導放射能の計算書!$D$40,COUNTIF($K160:$K418,照射試料の誘導放射能の計算書!$B$40&照射試料の誘導放射能の計算書!$D$40),\"\")","v":""},"Xe-137","(n,γ)Xe-137",0.16,3.83,"min"]
[55,"W-186","Cs",133,"Cs-133",100,"(n,γ)","Cs134","Cs",{"$f":"RIGHT(H161,3)","v":"134"},"Cs-133(n,γ)",{"$f":"IF($K161=照射試料の誘導放射能の計算書!$B$31&照射試料の誘導放射能の計算書!$D$31,COUNTIF($K161:$K419,照射試料の誘導放射能の計算書!$B$31&照射試料の誘導放射能の計算書!$D$31),\"\")","v":""},{"$f":"IF($K161=照射試料の誘導放射能の計算書!$B$32&照射試料の誘導放射能の計算書!$D$32,COUNTIF($K161:$K419,照射試料の誘導放射能の計算書!$B$32&照射試料の誘導放射能の計算書!$D$32),\"\")","v":""},{"$f":"IF($K161=照射試料の誘導放射能の計算書!$B$33&照射試料の誘導放射能の計算書!$D$33,COUNTIF($K161:$K419,照射試料の誘導放射能の計算書!$B$33&照射試料の誘導放射能の計算書!$D$33),\"\")","v":""},{"$f":"IF($K161=照射試料の誘導放射能の計算書!$B$34&照射試料の誘導放射能の計算書!$D$34,COUNTIF($K161:$K419,照射試料の誘導放射能の計算書!$B$34&照射試料の誘導放射能の計算書!$D$34),\"\")","v":""},{"$f":"IF($K161=照射試料の誘導放射能の計算書!$B$35&照射試料の誘導放射能の計算書!$D$35,COUNTIF($K161:$K419,照射試料の誘導放射能の計算書!$B$35&照射試料の誘導放射能の計算書!$D$35),\"\")","v":""},{"$f":"IF($K161=照射試料の誘導放射能の計算書!$B$36&照射試料の誘導放射能の計算書!$D$36,COUNTIF($K161:$K419,照射試料の誘導放射能の計算書!$B$36&照射試料の誘導放射能の計算書!$D$36),\"\")","v":""},{"$f":"IF($K161=照射試料の誘導放射能の計算書!$B$37&照射試料の誘導放射能の計算書!$D$37,COUNTIF($K161:$K419,照射試料の誘導放射能の計算書!$B$37&照射試料の誘導放射能の計算書!$D$37),\"\")","v":""},{"$f":"IF($K161=照射試料の誘導放射能の計算書!$B$38&照射試料の誘導放射能の計算書!$D$38,COUNTIF($K161:$K419,照射試料の誘導放射能の計算書!$B$38&照射試料の誘導放射能の計算書!$D$38),\"\")","v":""},{"$f":"IF($K161=照射試料の誘導放射能の計算書!$B$39&照射試料の誘導放射能の計算書!$D$39,COUNTIF($K161:$K419,照射試料の誘導放射能の計算書!$B$39&照射試料の誘導放射能の計算書!$D$39),\"\")","v":""},{"$f":"IF($K161=照射試料の誘導放射能の計算書!$B$40&照射試料の誘導放射能の計算書!$D$40,COUNTIF($K161:$K419,照射試料の誘導放射能の計算書!$B$40&照射試料の誘導放射能の計算書!$D$40),\"\")","v":""},"Cs-134","(n,γ)Cs-134",29,2.06,"y"]
[55,"Re-185","Cs",133,"Cs-133",100,"(n,γ)","Cs134m","Cs",{"$f":"RIGHT(H162,4)","v":"134m"},"Cs-133(n,γ)",{"$f":"IF($K162=照射試料の誘導放射能の計算書!$B$31&照射試料の誘導放射能の計算書!$D$31,COUNTIF($K162:$K420,照射試料の誘導放射能の計算書!$B$31&照射試料の誘導放射能の計算書!$D$31),\"\")","v":""},{"$f":"IF($K162=照射試料の誘導放射能の計算書!$B$32&照射試料の誘導放射能の計算書!$D$32,COUNTIF($K162:$K420,照射試料の誘導放射能の計算書!$B$32&照射試料の誘導放射能の計算書!$D$32),\"\")","v":""},{"$f":"IF($K162=照射試料の誘導放射能の計算書!$B$33&照射試料の誘導放射能の計算書!$D$33,COUNTIF($K162:$K420,照射試料の誘導放射能の計算書!$B$33&照射試料の誘導放射能の計算書!$D$33),\"\")","v":""},{"$f":"IF($K162=照射試料の誘導放射能の計算書!$B$34&照射試料の誘導放射能の計算書!$D$34,COUNTIF($K162:$K420,照射試料の誘導放射能の計算書!$B$34&照射試料の誘導放射能の計算書!$D$34),\"\")","v":""},{"$f":"IF($K162=照射試料の誘導放射能の計算書!$B$35&照射試料の誘導放射能の計算書!$D$35,COUNTIF($K162:$K420,照射試料の誘導放射能の計算書!$B$35&照射試料の誘導放射能の計算書!$D$35),\"\")","v":""},{"$f":"IF($K162=照射試料の誘導放射能の計算書!$B$36&照射試料の誘導放射能の計算書!$D$36,COUNTIF($K162:$K420,照射試料の誘導放射能の計算書!$B$36&照射試料の誘導放射能の計算書!$D$36),\"\")","v":""},{"$f":"IF($K162=照射試料の誘導放射能の計算書!$B$37&照射試料の誘導放射能の計算書!$D$37,COUNTIF($K162:$K420,照射試料の誘導放射能の計算書!$B$37&照射試料の誘導放射能の計算書!$D$37),\"\")","v":""},{"$f":"IF($K162=照射試料の誘導放射能の計算書!$B$38&照射試料の誘導放射能の計算書!$D$38,COUNTIF($K162:$K420,照射試料の誘導放射能の計算書!$B$38&照射試料の誘導放射能の計算書!$D$38),\"\")","v":""},{"$f":"IF($K162=照射試料の誘導放射能の計算書!$B$39&照射試料の誘導放射能の計算書!$D$39,COUNTIF($K162:$K420,照射試料の誘導放射能の計算書!$B$39&照射試料の誘導放射能の計算書!$D$39),\"\")","v":""},{"$f":"IF($K162=照射試料の誘導放射能の計算書!$B$40&照射試料の誘導放射能の計算書!$D$40,COUNTIF($K162:$K420,照射試料の誘導放射能の計算書!$B$40&照射試料の誘導放射能の計算書!$D$40),\"\")","v":""},"Cs-134m","(n,γ)Cs-134m",2.6,2.9,"h"]
[56,"Re-187","Ba",130,"Ba-130",0.106,"(n,γ)","Ba131","Ba",{"$f":"RIGHT(H163,3)","v":"131"},"Ba-130(n,γ)",{"$f":"IF($K163=照射試料の誘導放射能の計算書!$B$31&照射試料の誘導放射能の計算書!$D$31,COUNTIF($K163:$K421,照射試料の誘導放射能の計算書!$B$31&照射試料の誘導放射能の計算書!$D$31),\"\")","v":""},{"$f":"IF($K163=照射試料の誘導放射能の計算書!$B$32&照射試料の誘導放射能の計算書!$D$32,COUNTIF($K163:$K421,照射試料の誘導放射能の計算書!$B$32&照射試料の誘導放射能の計算書!$D$32),\"\")","v":""},{"$f":"IF($K163=照射試料の誘導放射能の計算書!$B$33&照射試料の誘導放射能の計算書!$D$33,COUNTIF($K163:$K421,照射試料の誘導放射能の計算書!$B$33&照射試料の誘導放射能の計算書!$D$33),\"\")","v":""},{"$f":"IF($K163=照射試料の誘導放射能の計算書!$B$34&照射試料の誘導放射能の計算書!$D$34,COUNTIF($K163:$K421,照射試料の誘導放射能の計算書!$B$34&照射試料の誘導放射能の計算書!$D$34),\"\")","v":""},{"$f":"IF($K163=照射試料の誘導放射能の計算書!$B$35&照射試料の誘導放射能の計算書!$D$35,COUNTIF($K163:$K421,照射試料の誘導放射能の計算書!$B$35&照射試料の誘導放射能の計算書!$D$35),\"\")","v":""},{"$f":"IF($K163=照射試料の誘導放射能の計算書!$B$36&照射試料の誘導放射能の計算書!$D$36,COUNTIF($K163:$K421,照射試料の誘導放射能の計算書!$B$36&照射試料の誘導放射能の計算書!$D$36),\"\")","v":""},{"$f":"IF($K163=照射試料の誘導放射能の計算書!$B$37&照射試料の誘導放射能の計算書!$D$37,COUNTIF($K163:$K421,照射試料の誘導放射能の計算書!$B$37&照射試料の誘導放射能の計算書!$D$37),\"\")","v":""},{"$f":"IF($K163=照射試料の誘導放射能の計算書!$B$38&照射試料の誘導放射能の計算書!$D$38,COUNTIF($K163:$K421,照射試料の誘導放射能の計算書!$B$38&照射試料の誘導放射能の計算書!$D$38),\"\")","v":""},{"$f":"IF($K163=照射試料の誘導放射能の計算書!$B$39&照射試料の誘導放射能の計算書!$D$39,COUNTIF($K163:$K421,照射試料の誘導放射能の計算書!$B$39&照射試料の誘導放射能の計算書!$D$39),\"\")","v":""},{"$f":"IF($K163=照射試料の誘導放射能の計算書!$B$40&照射試料の誘導放射能の計算書!$D$40,COUNTIF($K163:$K421,照射試料の誘導放射能の計算書!$B$40&照射試料の誘導放射能の計算書!$D$40),\"\")","v":""},"Ba-131","(n,γ)Ba-131",11,11.5,"d"]
[56,"Os-184","Ba",130,"Ba-130",0.106,"(n,γ)","Ba131m","Ba",{"$f":"RIGHT(H164,4)","v":"131m"},"Ba-130(n,γ)",{"$f":"IF($K164=照射試料の誘導放射能の計算書!$B$31&照射試料の誘導放射能の計算書!$D$31,COUNTIF($K164:$K422,照射試料の誘導放射能の計算書!$B$31&照射試料の誘導放射能の計算書!$D$31),\"\")","v":""},{"$f":"IF($K164=照射試料の誘導放射能の計算書!$B$32&照射試料の誘導放射能の計算書!$D$32,COUNTIF($K164:$K422,照射試料の誘導放射能の計算書!$B$32&照射試料の誘導放射能の計算書!$D$32),\"\")","v":""},{"$f":"IF($K164=照射試料の誘導放射能の計算書!$B$33&照射試料の誘導放射能の計算書!$D$33,COUNTIF($K164:$K422,照射試料の誘導放射能の計算書!$B$33&照射試料の誘導放射能の計算書!$D$33),\"\")","v":""},{"$f":"IF($K164=照射試料の誘導放射能の計算書!$B$34&照射試料の誘導放射能の計算書!$D$34,COUNTIF($K164:$K422,照射試料の誘導放射能の計算書!$B$34&照射試料の誘導放射能の計算書!$D$34),\"\")","v":""},{"$f":"IF($K164=照射試料の誘導放射能の計算書!$B$35&照射試料の誘導放射能の計算書!$D$35,COUNTIF($K164:$K422,照射試料の誘導放射能の計算書!$B$35&照射試料の誘導放射能の計算書!$D$35),\"\")","v":""},{"$f":"IF($K164=照射試料の誘導放射能の計算書!$B$36&照射試料の誘導放射能の計算書!$D$36,COUNTIF($K164:$K422,照射試料の誘導放射能の計算書!$B$36&照射試料の誘導放射能の計算書!$D$36),\"\")","v":""},{"$f":"IF($K164=照射試料の誘導放射能の計算書!$B$37&照射試料の誘導放射能の計算書!$D$37,COUNTIF($K164:$K422,照射試料の誘導放射能の計算書!$B$37&照射試料の誘導放射能の計算書!$D$37),\"\")","v":""},{"$f":"IF($K164=照射試料の誘導放射能の計算書!$B$38&照射試料の誘導放射能の計算書!$D$38,COUNTIF($K164:$K422,照射試料の誘導放射能の計算書!$B$38&照射試料の誘導放射能の計算書!$D$38),\"\")","v":""},{"$f":"IF($K164=照射試料の誘導放射能の計算書!$B$39&照射試料の誘導放射能の計算書!$D$39,COUNTIF($K164:$K422,照射試料の誘導放射能の計算書!$B$39&照射試料の誘導放射能の計算書!$D$39),\"\")","v":""},{"$f":"IF($K164=照射試料の誘導放射能の計算書!$B$40&照射試料の誘導放射能の計算書!$D$40,COUNTIF($K164:$K422,照射試料の誘導放射能の計算書!$B$40&照射試料の誘導放射能の計算書!$D$40),\"\")","v":""},"Ba-131m","(n,γ)Ba-131m",2.5,14.5,"min"]
[56,"Os-190","Ba",132,"Ba-132",0.10100000000000001,"(n,γ)","Ba133","Ba",{"$f":"RIGHT(H165,3)","v":"133"},"Ba-132(n,γ)",{"$f":"IF($K165=照射試料の誘導放射能の計算書!$B$31&照射試料の誘導放射能の計算書!$D$31,COUNTIF($K165:$K423,照射試料の誘導放射能の計算書!$B$31&照射試料の誘導放射能の計算書!$D$31),\"\")","v":""},{"$f":"IF($K165=照射試料の誘導放射能の計算書!$B$32&照射試料の誘導放射能の計算書!$D$32,COUNTIF($K165:$K423,照射試料の誘導放射能の計算書!$B$32&照射試料の誘導放射能の計算書!$D$32),\"\")","v":""},{"$f":"IF($K165=照射試料の誘導放射能の計算書!$B$33&照射試料の誘導放射能の計算書!$D$33,COUNTIF($K165:$K423,照射試料の誘導放射能の計算書!$B$33&照射試料の誘導放射能の計算書!$D$33),\"\")","v":""},{"$f":"IF($K165=照射試料の誘導放射能の計算書!$B$34&照射試料の誘導放射能の計算書!$D$34,COUNTIF($K165:$K423,照射試料の誘導放射能の計算書!$B$34&照射試料の誘導放射能の計算書!$D$34),\"\")","v":""},{"$f":"IF($K165=照射試料の誘導放射能の計算書!$B$35&照射試料の誘導放射能の計算書!$D$35,COUNTIF($K165:$K423,照射試料の誘導放射能の計算書!$B$35&照射試料の誘導放射能の計算書!$D$35),\"\")","v":""},{"$f":"IF($K165=照射試料の誘導放射能の計算書!$B$36&照射試料の誘導放射能の計算書!$D$36,COUNTIF($K165:$K423,照射試料の誘導放射能の計算書!$B$36&照射試料の誘導放射能の計算書!$D$36),\"\")","v":""},{"$f":"IF($K165=照射試料の誘導放射能の計算書!$B$37&照射試料の誘導放射能の計算書!$D$37,COUNTIF($K165:$K423,照射試料の誘導放射能の計算書!$B$37&照射試料の誘導放射能の計算書!$D$37),\"\")","v":""},{"$f":"IF($K165=照射試料の誘導放射能の計算書!$B$38&照射試料の誘導放射能の計算書!$D$38,COUNTIF($K165:$K423,照射試料の誘導放射能の計算書!$B$38&照射試料の誘導放射能の計算書!$D$38),\"\")","v":""},{"$f":"IF($K165=照射試料の誘導放射能の計算書!$B$39&照射試料の誘導放射能の計算書!$D$39,COUNTIF($K165:$K423,照射試料の誘導放射能の計算書!$B$39&照射試料の誘導放射能の計算書!$D$39),\"\")","v":""},{"$f":"IF($K165=照射試料の誘導放射能の計算書!$B$40&照射試料の誘導放射能の計算書!$D$40,COUNTIF($K165:$K423,照射試料の誘導放射能の計算書!$B$40&照射試料の誘導放射能の計算書!$D$40),\"\")","v":""},"Ba-133","(n,γ)Ba-133",8.5,10.5,"y"]
[56,"Os-192","Ba",132,"Ba-132",0.10100000000000001,"(n,γ)","Ba133m","Ba",{"$f":"RIGHT(H166,4)","v":"133m"},"Ba-132(n,γ)",{"$f":"IF($K166=照射試料の誘導放射能の計算書!$B$31&照射試料の誘導放射能の計算書!$D$31,COUNTIF($K166:$K424,照射試料の誘導放射能の計算書!$B$31&照射試料の誘導放射能の計算書!$D$31),\"\")","v":""},{"$f":"IF($K166=照射試料の誘導放射能の計算書!$B$32&照射試料の誘導放射能の計算書!$D$32,COUNTIF($K166:$K424,照射試料の誘導放射能の計算書!$B$32&照射試料の誘導放射能の計算書!$D$32),\"\")","v":""},{"$f":"IF($K166=照射試料の誘導放射能の計算書!$B$33&照射試料の誘導放射能の計算書!$D$33,COUNTIF($K166:$K424,照射試料の誘導放射能の計算書!$B$33&照射試料の誘導放射能の計算書!$D$33),\"\")","v":""},{"$f":"IF($K166=照射試料の誘導放射能の計算書!$B$34&照射試料の誘導放射能の計算書!$D$34,COUNTIF($K166:$K424,照射試料の誘導放射能の計算書!$B$34&照射試料の誘導放射能の計算書!$D$34),\"\")","v":""},{"$f":"IF($K166=照射試料の誘導放射能の計算書!$B$35&照射試料の誘導放射能の計算書!$D$35,COUNTIF($K166:$K424,照射試料の誘導放射能の計算書!$B$35&照射試料の誘導放射能の計算書!$D$35),\"\")","v":""},{"$f":"IF($K166=照射試料の誘導放射能の計算書!$B$36&照射試料の誘導放射能の計算書!$D$36,COUNTIF($K166:$K424,照射試料の誘導放射能の計算書!$B$36&照射試料の誘導放射能の計算書!$D$36),\"\")","v":""},{"$f":"IF($K166=照射試料の誘導放射能の計算書!$B$37&照射試料の誘導放射能の計算書!$D$37,COUNTIF($K166:$K424,照射試料の誘導放射能の計算書!$B$37&照射試料の誘導放射能の計算書!$D$37),\"\")","v":""},{"$f":"IF($K166=照射試料の誘導放射能の計算書!$B$38&照射試料の誘導放射能の計算書!$D$38,COUNTIF($K166:$K424,照射試料の誘導放射能の計算書!$B$38&照射試料の誘導放射能の計算書!$D$38),\"\")","v":""},{"$f":"IF($K166=照射試料の誘導放射能の計算書!$B$39&照射試料の誘導放射能の計算書!$D$39,COUNTIF($K166:$K424,照射試料の誘導放射能の計算書!$B$39&照射試料の誘導放射能の計算書!$D$39),\"\")","v":""},{"$f":"IF($K166=照射試料の誘導放射能の計算書!$B$40&照射試料の誘導放射能の計算書!$D$40,COUNTIF($K166:$K424,照射試料の誘導放射能の計算書!$B$40&照射試料の誘導放射能の計算書!$D$40),\"\")","v":""},"Ba-133m","(n,γ)Ba-133m",0.68,38.9,"h"]
[56,"Ir-191","Ba",134,"Ba-134",2.4169999999999998,"(n,γ)","Ba135m","Ba",{"$f":"RIGHT(H167,4)","v":"135m"},"Ba-134(n,γ)",{"$f":"IF($K167=照射試料の誘導放射能の計算書!$B$31&照射試料の誘導放射能の計算書!$D$31,COUNTIF($K167:$K425,照射試料の誘導放射能の計算書!$B$31&照射試料の誘導放射能の計算書!$D$31),\"\")","v":""},{"$f":"IF($K167=照射試料の誘導放射能の計算書!$B$32&照射試料の誘導放射能の計算書!$D$32,COUNTIF($K167:$K425,照射試料の誘導放射能の計算書!$B$32&照射試料の誘導放射能の計算書!$D$32),\"\")","v":""},{"$f":"IF($K167=照射試料の誘導放射能の計算書!$B$33&照射試料の誘導放射能の計算書!$D$33,COUNTIF($K167:$K425,照射試料の誘導放射能の計算書!$B$33&照射試料の誘導放射能の計算書!$D$33),\"\")","v":""},{"$f":"IF($K167=照射試料の誘導放射能の計算書!$B$34&照射試料の誘導放射能の計算書!$D$34,COUNTIF($K167:$K425,照射試料の誘導放射能の計算書!$B$34&照射試料の誘導放射能の計算書!$D$34),\"\")","v":""},{"$f":"IF($K167=照射試料の誘導放射能の計算書!$B$35&照射試料の誘導放射能の計算書!$D$35,COUNTIF($K167:$K425,照射試料の誘導放射能の計算書!$B$35&照射試料の誘導放射能の計算書!$D$35),\"\")","v":""},{"$f":"IF($K167=照射試料の誘導放射能の計算書!$B$36&照射試料の誘導放射能の計算書!$D$36,COUNTIF($K167:$K425,照射試料の誘導放射能の計算書!$B$36&照射試料の誘導放射能の計算書!$D$36),\"\")","v":""},{"$f":"IF($K167=照射試料の誘導放射能の計算書!$B$37&照射試料の誘導放射能の計算書!$D$37,COUNTIF($K167:$K425,照射試料の誘導放射能の計算書!$B$37&照射試料の誘導放射能の計算書!$D$37),\"\")","v":""},{"$f":"IF($K167=照射試料の誘導放射能の計算書!$B$38&照射試料の誘導放射能の計算書!$D$38,COUNTIF($K167:$K425,照射試料の誘導放射能の計算書!$B$38&照射試料の誘導放射能の計算書!$D$38),\"\")","v":""},{"$f":"IF($K167=照射試料の誘導放射能の計算書!$B$39&照射試料の誘導放射能の計算書!$D$39,COUNTIF($K167:$K425,照射試料の誘導放射能の計算書!$B$39&照射試料の誘導放射能の計算書!$D$39),\"\")","v":""},{"$f":"IF($K167=照射試料の誘導放射能の計算書!$B$40&照射試料の誘導放射能の計算書!$D$40,COUNTIF($K167:$K425,照射試料の誘導放射能の計算書!$B$40&照射試料の誘導放射能の計算書!$D$40),\"\")","v":""},"Ba-135m","(n,γ)Ba-135m",0.158,28.7,"h"]
[56,"Ir-193","Ba",136,"Ba-136",7.8540000000000001,"(n,γ)","Ba137m","Ba","137m","Ba-136(n,γ)",{"$f":"IF($K168=照射試料の誘導放射能の計算書!$B$31&照射試料の誘導放射能の計算書!$D$31,COUNTIF($K168:$K426,照射試料の誘導放射能の計算書!$B$31&照射試料の誘導放射能の計算書!$D$31),\"\")","v":""},{"$f":"IF($K168=照射試料の誘導放射能の計算書!$B$32&照射試料の誘導放射能の計算書!$D$32,COUNTIF($K168:$K426,照射試料の誘導放射能の計算書!$B$32&照射試料の誘導放射能の計算書!$D$32),\"\")","v":""},{"$f":"IF($K168=照射試料の誘導放射能の計算書!$B$33&照射試料の誘導放射能の計算書!$D$33,COUNTIF($K168:$K426,照射試料の誘導放射能の計算書!$B$33&照射試料の誘導放射能の計算書!$D$33),\"\")","v":""},{"$f":"IF($K168=照射試料の誘導放射能の計算書!$B$34&照射試料の誘導放射能の計算書!$D$34,COUNTIF($K168:$K426,照射試料の誘導放射能の計算書!$B$34&照射試料の誘導放射能の計算書!$D$34),\"\")","v":""},{"$f":"IF($K168=照射試料の誘導放射能の計算書!$B$35&照射試料の誘導放射能の計算書!$D$35,COUNTIF($K168:$K426,照射試料の誘導放射能の計算書!$B$35&照射試料の誘導放射能の計算書!$D$35),\"\")","v":""},{"$f":"IF($K168=照射試料の誘導放射能の計算書!$B$36&照射試料の誘導放射能の計算書!$D$36,COUNTIF($K168:$K426,照射試料の誘導放射能の計算書!$B$36&照射試料の誘導放射能の計算書!$D$36),\"\")","v":""},{"$f":"IF($K168=照射試料の誘導放射能の計算書!$B$37&照射試料の誘導放射能の計算書!$D$37,COUNTIF($K168:$K426,照射試料の誘導放射能の計算書!$B$37&照射試料の誘導放射能の計算書!$D$37),\"\")","v":""},{"$f":"IF($K168=照射試料の誘導放射能の計算書!$B$38&照射試料の誘導放射能の計算書!$D$38,COUNTIF($K168:$K426,照射試料の誘導放射能の計算書!$B$38&照射試料の誘導放射能の計算書!$D$38),\"\")","v":""},{"$f":"IF($K168=照射試料の誘導放射能の計算書!$B$39&照射試料の誘導放射能の計算書!$D$39,COUNTIF($K168:$K426,照射試料の誘導放射能の計算書!$B$39&照射試料の誘導放射能の計算書!$D$39),\"\")","v":""},{"$f":"IF($K168=照射試料の誘導放射能の計算書!$B$40&照射試料の誘導放射能の計算書!$D$40,COUNTIF($K168:$K426,照射試料の誘導放射能の計算書!$B$40&照射試料の誘導放射能の計算書!$D$40),\"\")","v":""},"Ba-137m","(n,γ)Ba-137m",0.01,2.5499999999999998,"min"]
[56,"Pt-190","Ba",138,"Ba-138",71.7,"(n,γ)","Ba139","Ba",{"$f":"RIGHT(H169,3)","v":"139"},"Ba-138(n,γ)",{"$f":"IF($K169=照射試料の誘導放射能の計算書!$B$31&照射試料の誘導放射能の計算書!$D$31,COUNTIF($K169:$K427,照射試料の誘導放射能の計算書!$B$31&照射試料の誘導放射能の計算書!$D$31),\"\")","v":""},{"$f":"IF($K169=照射試料の誘導放射能の計算書!$B$32&照射試料の誘導放射能の計算書!$D$32,COUNTIF($K169:$K427,照射試料の誘導放射能の計算書!$B$32&照射試料の誘導放射能の計算書!$D$32),\"\")","v":""},{"$f":"IF($K169=照射試料の誘導放射能の計算書!$B$33&照射試料の誘導放射能の計算書!$D$33,COUNTIF($K169:$K427,照射試料の誘導放射能の計算書!$B$33&照射試料の誘導放射能の計算書!$D$33),\"\")","v":""},{"$f":"IF($K169=照射試料の誘導放射能の計算書!$B$34&照射試料の誘導放射能の計算書!$D$34,COUNTIF($K169:$K427,照射試料の誘導放射能の計算書!$B$34&照射試料の誘導放射能の計算書!$D$34),\"\")","v":""},{"$f":"IF($K169=照射試料の誘導放射能の計算書!$B$35&照射試料の誘導放射能の計算書!$D$35,COUNTIF($K169:$K427,照射試料の誘導放射能の計算書!$B$35&照射試料の誘導放射能の計算書!$D$35),\"\")","v":""},{"$f":"IF($K169=照射試料の誘導放射能の計算書!$B$36&照射試料の誘導放射能の計算書!$D$36,COUNTIF($K169:$K427,照射試料の誘導放射能の計算書!$B$36&照射試料の誘導放射能の計算書!$D$36),\"\")","v":""},{"$f":"IF($K169=照射試料の誘導放射能の計算書!$B$37&照射試料の誘導放射能の計算書!$D$37,COUNTIF($K169:$K427,照射試料の誘導放射能の計算書!$B$37&照射試料の誘導放射能の計算書!$D$37),\"\")","v":""},{"$f":"IF($K169=照射試料の誘導放射能の計算書!$B$38&照射試料の誘導放射能の計算書!$D$38,COUNTIF($K169:$K427,照射試料の誘導放射能の計算書!$B$38&照射試料の誘導放射能の計算書!$D$38),\"\")","v":""},{"$f":"IF($K169=照射試料の誘導放射能の計算書!$B$39&照射試料の誘導放射能の計算書!$D$39,COUNTIF($K169:$K427,照射試料の誘導放射能の計算書!$B$39&照射試料の誘導放射能の計算書!$D$39),\"\")","v":""},{"$f":"IF($K169=照射試料の誘導放射能の計算書!$B$40&照射試料の誘導放射能の計算書!$D$40,COUNTIF($K169:$K427,照射試料の誘導放射能の計算書!$B$40&照射試料の誘導放射能の計算書!$D$40),\"\")","v":""},"Ba-139","(n,γ)Ba-139",0.35,83.06,"min"]
[57,"Pt-192","La",139,"La-139",99.909800000000004,"(n,γ)","La140","La",{"$f":"RIGHT(H170,3)","v":"140"},"La-139(n,γ)",{"$f":"IF($K170=照射試料の誘導放射能の計算書!$B$31&照射試料の誘導放射能の計算書!$D$31,COUNTIF($K170:$K428,照射試料の誘導放射能の計算書!$B$31&照射試料の誘導放射能の計算書!$D$31),\"\")","v":""},{"$f":"IF($K170=照射試料の誘導放射能の計算書!$B$32&照射試料の誘導放射能の計算書!$D$32,COUNTIF($K170:$K428,照射試料の誘導放射能の計算書!$B$32&照射試料の誘導放射能の計算書!$D$32),\"\")","v":""},{"$f":"IF($K170=照射試料の誘導放射能の計算書!$B$33&照射試料の誘導放射能の計算書!$D$33,COUNTIF($K170:$K428,照射試料の誘導放射能の計算書!$B$33&照射試料の誘導放射能の計算書!$D$33),\"\")","v":""},{"$f":"IF($K170=照射試料の誘導放射能の計算書!$B$34&照射試料の誘導放射能の計算書!$D$34,COUNTIF($K170:$K428,照射試料の誘導放射能の計算書!$B$34&照射試料の誘導放射能の計算書!$D$34),\"\")","v":""},{"$f":"IF($K170=照射試料の誘導放射能の計算書!$B$35&照射試料の誘導放射能の計算書!$D$35,COUNTIF($K170:$K428,照射試料の誘導放射能の計算書!$B$35&照射試料の誘導放射能の計算書!$D$35),\"\")","v":""},{"$f":"IF($K170=照射試料の誘導放射能の計算書!$B$36&照射試料の誘導放射能の計算書!$D$36,COUNTIF($K170:$K428,照射試料の誘導放射能の計算書!$B$36&照射試料の誘導放射能の計算書!$D$36),\"\")","v":""},{"$f":"IF($K170=照射試料の誘導放射能の計算書!$B$37&照射試料の誘導放射能の計算書!$D$37,COUNTIF($K170:$K428,照射試料の誘導放射能の計算書!$B$37&照射試料の誘導放射能の計算書!$D$37),\"\")","v":""},{"$f":"IF($K170=照射試料の誘導放射能の計算書!$B$38&照射試料の誘導放射能の計算書!$D$38,COUNTIF($K170:$K428,照射試料の誘導放射能の計算書!$B$38&照射試料の誘導放射能の計算書!$D$38),\"\")","v":""},{"$f":"IF($K170=照射試料の誘導放射能の計算書!$B$39&照射試料の誘導放射能の計算書!$D$39,COUNTIF($K170:$K428,照射試料の誘導放射能の計算書!$B$39&照射試料の誘導放射能の計算書!$D$39),\"\")","v":""},{"$f":"IF($K170=照射試料の誘導放射能の計算書!$B$40&照射試料の誘導放射能の計算書!$D$40,COUNTIF($K170:$K428,照射試料の誘導放射能の計算書!$B$40&照射試料の誘導放射能の計算書!$D$40),\"\")","v":""},"La-140","(n,γ)La-140",9,40.271999999999998,"h"]
[58,"Pt-194","Ce",136,"Ce-136",0.19,"(n,p)","Cs137","Cs",{"$f":"RIGHT(H171,3)","v":"137"},"Ce-136(n,p)",{"$f":"IF($K171=照射試料の誘導放射能の計算書!$B$31&照射試料の誘導放射能の計算書!$D$31,COUNTIF($K171:$K429,照射試料の誘導放射能の計算書!$B$31&照射試料の誘導放射能の計算書!$D$31),\"\")","v":""},{"$f":"IF($K171=照射試料の誘導放射能の計算書!$B$32&照射試料の誘導放射能の計算書!$D$32,COUNTIF($K171:$K429,照射試料の誘導放射能の計算書!$B$32&照射試料の誘導放射能の計算書!$D$32),\"\")","v":""},{"$f":"IF($K171=照射試料の誘導放射能の計算書!$B$33&照射試料の誘導放射能の計算書!$D$33,COUNTIF($K171:$K429,照射試料の誘導放射能の計算書!$B$33&照射試料の誘導放射能の計算書!$D$33),\"\")","v":""},{"$f":"IF($K171=照射試料の誘導放射能の計算書!$B$34&照射試料の誘導放射能の計算書!$D$34,COUNTIF($K171:$K429,照射試料の誘導放射能の計算書!$B$34&照射試料の誘導放射能の計算書!$D$34),\"\")","v":""},{"$f":"IF($K171=照射試料の誘導放射能の計算書!$B$35&照射試料の誘導放射能の計算書!$D$35,COUNTIF($K171:$K429,照射試料の誘導放射能の計算書!$B$35&照射試料の誘導放射能の計算書!$D$35),\"\")","v":""},{"$f":"IF($K171=照射試料の誘導放射能の計算書!$B$36&照射試料の誘導放射能の計算書!$D$36,COUNTIF($K171:$K429,照射試料の誘導放射能の計算書!$B$36&照射試料の誘導放射能の計算書!$D$36),\"\")","v":""},{"$f":"IF($K171=照射試料の誘導放射能の計算書!$B$37&照射試料の誘導放射能の計算書!$D$37,COUNTIF($K171:$K429,照射試料の誘導放射能の計算書!$B$37&照射試料の誘導放射能の計算書!$D$37),\"\")","v":""},{"$f":"IF($K171=照射試料の誘導放射能の計算書!$B$38&照射試料の誘導放射能の計算書!$D$38,COUNTIF($K171:$K429,照射試料の誘導放射能の計算書!$B$38&照射試料の誘導放射能の計算書!$D$38),\"\")","v":""},{"$f":"IF($K171=照射試料の誘導放射能の計算書!$B$39&照射試料の誘導放射能の計算書!$D$39,COUNTIF($K171:$K429,照射試料の誘導放射能の計算書!$B$39&照射試料の誘導放射能の計算書!$D$39),\"\")","v":""},{"$f":"IF($K171=照射試料の誘導放射能の計算書!$B$40&照射試料の誘導放射能の計算書!$D$40,COUNTIF($K171:$K429,照射試料の誘導放射能の計算書!$B$40&照射試料の誘導放射能の計算書!$D$40),\"\")","v":""},"Cs-137","(n,p)Cs-137",6.3,9,"h"]
[58,"Pt-196","Ce",136,"Ce-136",0.19,"(n,γ)","Ce137m","Ce",{"$f":"RIGHT(H172,4)","v":"137m"},"Ce-136(n,γ)",{"$f":"IF($K172=照射試料の誘導放射能の計算書!$B$31&照射試料の誘導放射能の計算書!$D$31,COUNTIF($K172:$K430,照射試料の誘導放射能の計算書!$B$31&照射試料の誘導放射能の計算書!$D$31),\"\")","v":""},{"$f":"IF($K172=照射試料の誘導放射能の計算書!$B$32&照射試料の誘導放射能の計算書!$D$32,COUNTIF($K172:$K430,照射試料の誘導放射能の計算書!$B$32&照射試料の誘導放射能の計算書!$D$32),\"\")","v":""},{"$f":"IF($K172=照射試料の誘導放射能の計算書!$B$33&照射試料の誘導放射能の計算書!$D$33,COUNTIF($K172:$K430,照射試料の誘導放射能の計算書!$B$33&照射試料の誘導放射能の計算書!$D$33),\"\")","v":""},{"$f":"IF($K172=照射試料の誘導放射能の計算書!$B$34&照射試料の誘導放射能の計算書!$D$34,COUNTIF($K172:$K430,照射試料の誘導放射能の計算書!$B$34&照射試料の誘導放射能の計算書!$D$34),\"\")","v":""},{"$f":"IF($K172=照射試料の誘導放射能の計算書!$B$35&照射試料の誘導放射能の計算書!$D$35,COUNTIF($K172:$K430,照射試料の誘導放射能の計算書!$B$35&照射試料の誘導放射能の計算書!$D$35),\"\")","v":""},{"$f":"IF($K172=照射試料の誘導放射能の計算書!$B$36&照射試料の誘導放射能の計算書!$D$36,COUNTIF($K172:$K430,照射試料の誘導放射能の計算書!$B$36&照射試料の誘導放射能の計算書!$D$36),\"\")","v":""},{"$f":"IF($K172=照射試料の誘導放射能の計算書!$B$37&照射試料の誘導放射能の計算書!$D$37,COUNTIF($K172:$K430,照射試料の誘導放射能の計算書!$B$37&照射試料の誘導放射能の計算書!$D$37),\"\")","v":""},{"$f":"IF($K172=照射試料の誘導放射能の計算書!$B$38&照射試料の誘導放射能の計算書!$D$38,COUNTIF($K172:$K430,照射試料の誘導放射能の計算書!$B$38&照射試料の誘導放射能の計算書!$D$38),\"\")","v":""},{"$f":"IF($K172=照射試料の誘導放射能の計算書!$B$39&照射試料の誘導放射能の計算書!$D$39,COUNTIF($K172:$K430,照射試料の誘導放射能の計算書!$B$39&照射試料の誘導放射能の計算書!$D$39),\"\")","v":""},{"$f":"IF($K172=照射試料の誘導放射能の計算書!$B$40&照射試料の誘導放射能の計算書!$D$40,COUNTIF($K172:$K430,照射試料の誘導放射能の計算書!$B$40&照射試料の誘導放射能の計算書!$D$40),\"\")","v":""},"Ce-137m","(n,γ)Ce-137m",0.95,34.4,"h"]
[58,"Pt-198","Ce",138,"Ce-138",0.25,"(n,γ)","Ce139","Ce",{"$f":"RIGHT(H173,3)","v":"139"},"Ce-138(n,γ)",{"$f":"IF($K173=照射試料の誘導放射能の計算書!$B$31&照射試料の誘導放射能の計算書!$D$31,COUNTIF($K173:$K431,照射試料の誘導放射能の計算書!$B$31&照射試料の誘導放射能の計算書!$D$31),\"\")","v":""},{"$f":"IF($K173=照射試料の誘導放射能の計算書!$B$32&照射試料の誘導放射能の計算書!$D$32,COUNTIF($K173:$K431,照射試料の誘導放射能の計算書!$B$32&照射試料の誘導放射能の計算書!$D$32),\"\")","v":""},{"$f":"IF($K173=照射試料の誘導放射能の計算書!$B$33&照射試料の誘導放射能の計算書!$D$33,COUNTIF($K173:$K431,照射試料の誘導放射能の計算書!$B$33&照射試料の誘導放射能の計算書!$D$33),\"\")","v":""},{"$f":"IF($K173=照射試料の誘導放射能の計算書!$B$34&照射試料の誘導放射能の計算書!$D$34,COUNTIF($K173:$K431,照射試料の誘導放射能の計算書!$B$34&照射試料の誘導放射能の計算書!$D$34),\"\")","v":""},{"$f":"IF($K173=照射試料の誘導放射能の計算書!$B$35&照射試料の誘導放射能の計算書!$D$35,COUNTIF($K173:$K431,照射試料の誘導放射能の計算書!$B$35&照射試料の誘導放射能の計算書!$D$35),\"\")","v":""},{"$f":"IF($K173=照射試料の誘導放射能の計算書!$B$36&照射試料の誘導放射能の計算書!$D$36,COUNTIF($K173:$K431,照射試料の誘導放射能の計算書!$B$36&照射試料の誘導放射能の計算書!$D$36),\"\")","v":""},{"$f":"IF($K173=照射試料の誘導放射能の計算書!$B$37&照射試料の誘導放射能の計算書!$D$37,COUNTIF($K173:$K431,照射試料の誘導放射能の計算書!$B$37&照射試料の誘導放射能の計算書!$D$37),\"\")","v":""},{"$f":"IF($K173=照射試料の誘導放射能の計算書!$B$38&照射試料の誘導放射能の計算書!$D$38,COUNTIF($K173:$K431,照射試料の誘導放射能の計算書!$B$38&照射試料の誘導放射能の計算書!$D$38),\"\")","v":""},{"$f":"IF($K173=照射試料の誘導放射能の計算書!$B$39&照射試料の誘導放射能の計算書!$D$39,COUNTIF($K173:$K431,照射試料の誘導放射能の計算書!$B$39&照射試料の誘導放射能の計算書!$D$39),\"\")","v":""},{"$f":"IF($K173=照射試料の誘導放射能の計算書!$B$40&照射試料の誘導放射能の計算書!$D$40,COUNTIF($K173:$K431,照射試料の誘導放射能の計算書!$B$40&照射試料の誘導放射能の計算書!$D$40),\"\")","v":""},"Ce-139","(n,γ)Ce-139",1.1000000000000001,137.6,"d"]
[58,"Au-197","Ce",138,"Ce-138",0.25,"(n,γ)","Ce139m","Ce",{"$f":"RIGHT(H174,4)","v":"139m"},"Ce-138(n,γ)",{"$f":"IF($K174=照射試料の誘導放射能の計算書!$B$31&照射試料の誘導放射能の計算書!$D$31,COUNTIF($K174:$K432,照射試料の誘導放射能の計算書!$B$31&照射試料の誘導放射能の計算書!$D$31),\"\")","v":""},{"$f":"IF($K174=照射試料の誘導放射能の計算書!$B$32&照射試料の誘導放射能の計算書!$D$32,COUNTIF($K174:$K432,照射試料の誘導放射能の計算書!$B$32&照射試料の誘導放射能の計算書!$D$32),\"\")","v":""},{"$f":"IF($K174=照射試料の誘導放射能の計算書!$B$33&照射試料の誘導放射能の計算書!$D$33,COUNTIF($K174:$K432,照射試料の誘導放射能の計算書!$B$33&照射試料の誘導放射能の計算書!$D$33),\"\")","v":""},{"$f":"IF($K174=照射試料の誘導放射能の計算書!$B$34&照射試料の誘導放射能の計算書!$D$34,COUNTIF($K174:$K432,照射試料の誘導放射能の計算書!$B$34&照射試料の誘導放射能の計算書!$D$34),\"\")","v":""},{"$f":"IF($K174=照射試料の誘導放射能の計算書!$B$35&照射試料の誘導放射能の計算書!$D$35,COUNTIF($K174:$K432,照射試料の誘導放射能の計算書!$B$35&照射試料の誘導放射能の計算書!$D$35),\"\")","v":""},{"$f":"IF($K174=照射試料の誘導放射能の計算書!$B$36&照射試料の誘導放射能の計算書!$D$36,COUNTIF($K174:$K432,照射試料の誘導放射能の計算書!$B$36&照射試料の誘導放射能の計算書!$D$36),\"\")","v":""},{"$f":"IF($K174=照射試料の誘導放射能の計算書!$B$37&照射試料の誘導放射能の計算書!$D$37,COUNTIF($K174:$K432,照射試料の誘導放射能の計算書!$B$37&照射試料の誘導放射能の計算書!$D$37),\"\")","v":""},{"$f":"IF($K174=照射試料の誘導放射能の計算書!$B$38&照射試料の誘導放射能の計算書!$D$38,COUNTIF($K174:$K432,照射試料の誘導放射能の計算書!$B$38&照射試料の誘導放射能の計算書!$D$38),\"\")","v":""},{"$f":"IF($K174=照射試料の誘導放射能の計算書!$B$39&照射試料の誘導放射能の計算書!$D$39,COUNTIF($K174:$K432,照射試料の誘導放射能の計算書!$B$39&照射試料の誘導放射能の計算書!$D$39),\"\")","v":""},{"$f":"IF($K174=照射試料の誘導放射能の計算書!$B$40&照射試料の誘導放射能の計算書!$D$40,COUNTIF($K174:$K432,照射試料の誘導放射能の計算書!$B$40&照射試料の誘導放射能の計算書!$D$40),\"\")","v":""},"Ce-139m","(n,γ)Ce-139m",1.4999999999999999E-2,56.5,"s"]
[58,"Hg-196","Ce",140,"Ce-140",88.48,"(n,γ)","Ce141","Ce",{"$f":"RIGHT(H175,3)","v":"141"},"Ce-140(n,γ)",{"$f":"IF($K175=照射試料の誘導放射能の計算書!$B$31&照射試料の誘導放射能の計算書!$D$31,COUNTIF($K175:$K433,照射試料の誘導放射能の計算書!$B$31&照射試料の誘導放射能の計算書!$D$31),\"\")","v":""},{"$f":"IF($K175=照射試料の誘導放射能の計算書!$B$32&照射試料の誘導放射能の計算書!$D$32,COUNTIF($K175:$K434,照射試料の誘導放射能の計算書!$B$32&照射試料の誘導放射能の計算書!$D$32),\"\")","v":""},{"$f":"IF($K175=照射試料の誘導放射能の計算書!$B$33&照射試料の誘導放射能の計算書!$D$33,COUNTIF($K175:$K435,照射試料の誘導放射能の計算書!$B$33&照射試料の誘導放射能の計算書!$D$33),\"\")","v":""},{"$f":"IF($K175=照射試料の誘導放射能の計算書!$B$34&照射試料の誘導放射能の計算書!$D$34,COUNTIF($K175:$K436,照射試料の誘導放射能の計算書!$B$34&照射試料の誘導放射能の計算書!$D$34),\"\")","v":""},{"$f":"IF($K175=照射試料の誘導放射能の計算書!$B$35&照射試料の誘導放射能の計算書!$D$35,COUNTIF($K175:$K437,照射試料の誘導放射能の計算書!$B$35&照射試料の誘導放射能の計算書!$D$35),\"\")","v":""},{"$f":"IF($K175=照射試料の誘導放射能の計算書!$B$36&照射試料の誘導放射能の計算書!$D$36,COUNTIF($K175:$K438,照射試料の誘導放射能の計算書!$B$36&照射試料の誘導放射能の計算書!$D$36),\"\")","v":""},{"$f":"IF($K175=照射試料の誘導放射能の計算書!$B$37&照射試料の誘導放射能の計算書!$D$37,COUNTIF($K175:$K439,照射試料の誘導放射能の計算書!$B$37&照射試料の誘導放射能の計算書!$D$37),\"\")","v":""},{"$f":"IF($K175=照射試料の誘導放射能の計算書!$B$38&照射試料の誘導放射能の計算書!$D$38,COUNTIF($K175:$K440,照射試料の誘導放射能の計算書!$B$38&照射試料の誘導放射能の計算書!$D$38),\"\")","v":""},{"$f":"IF($K175=照射試料の誘導放射能の計算書!$B$39&照射試料の誘導放射能の計算書!$D$39,COUNTIF($K175:$K441,照射試料の誘導放射能の計算書!$B$39&照射試料の誘導放射能の計算書!$D$39),\"\")","v":""},{"$f":"IF($K175=照射試料の誘導放射能の計算書!$B$40&照射試料の誘導放射能の計算書!$D$40,COUNTIF($K175:$K442,照射試料の誘導放射能の計算書!$B$40&照射試料の誘導放射能の計算書!$D$40),\"\")","v":""},"Ce-141","(n,γ)Ce-141",0.56999999999999995,32.5,"d"]
[58,"Hg-198","Ce",142,"Ce-142",11.08,"(n,γ)","Ce143","Ce",{"$f":"RIGHT(H176,3)","v":"143"},"Ce-142(n,γ)",{"$f":"IF($K176=照射試料の誘導放射能の計算書!$B$31&照射試料の誘導放射能の計算書!$D$31,COUNTIF($K176:$K434,照射試料の誘導放射能の計算書!$B$31&照射試料の誘導放射能の計算書!$D$31),\"\")","v":""},{"$f":"IF($K176=照射試料の誘導放射能の計算書!$B$32&照射試料の誘導放射能の計算書!$D$32,COUNTIF($K176:$K434,照射試料の誘導放射能の計算書!$B$32&照射試料の誘導放射能の計算書!$D$32),\"\")","v":""},{"$f":"IF($K176=照射試料の誘導放射能の計算書!$B$33&照射試料の誘導放射能の計算書!$D$33,COUNTIF($K176:$K434,照射試料の誘導放射能の計算書!$B$33&照射試料の誘導放射能の計算書!$D$33),\"\")","v":""},{"$f":"IF($K176=照射試料の誘導放射能の計算書!$B$34&照射試料の誘導放射能の計算書!$D$34,COUNTIF($K176:$K434,照射試料の誘導放射能の計算書!$B$34&照射試料の誘導放射能の計算書!$D$34),\"\")","v":""},{"$f":"IF($K176=照射試料の誘導放射能の計算書!$B$35&照射試料の誘導放射能の計算書!$D$35,COUNTIF($K176:$K434,照射試料の誘導放射能の計算書!$B$35&照射試料の誘導放射能の計算書!$D$35),\"\")","v":""},{"$f":"IF($K176=照射試料の誘導放射能の計算書!$B$36&照射試料の誘導放射能の計算書!$D$36,COUNTIF($K176:$K434,照射試料の誘導放射能の計算書!$B$36&照射試料の誘導放射能の計算書!$D$36),\"\")","v":""},{"$f":"IF($K176=照射試料の誘導放射能の計算書!$B$37&照射試料の誘導放射能の計算書!$D$37,COUNTIF($K176:$K434,照射試料の誘導放射能の計算書!$B$37&照射試料の誘導放射能の計算書!$D$37),\"\")","v":""},{"$f":"IF($K176=照射試料の誘導放射能の計算書!$B$38&照射試料の誘導放射能の計算書!$D$38,COUNTIF($K176:$K434,照射試料の誘導放射能の計算書!$B$38&照射試料の誘導放射能の計算書!$D$38),\"\")","v":""},{"$f":"IF($K176=照射試料の誘導放射能の計算書!$B$39&照射試料の誘導放射能の計算書!$D$39,COUNTIF($K176:$K434,照射試料の誘導放射能の計算書!$B$39&照射試料の誘導放射能の計算書!$D$39),\"\")","v":""},{"$f":"IF($K176=照射試料の誘導放射能の計算書!$B$40&照射試料の誘導放射能の計算書!$D$40,COUNTIF($K176:$K434,照射試料の誘導放射能の計算書!$B$40&照射試料の誘導放射能の計算書!$D$40),\"\")","v":""},"Ce-143","(n,γ)Ce-143",0.95,33,"h"]
[59,"Hg-202","Pr",141,"Pr-141",100,"(n,γ)","Pr142","Pr",{"$f":"RIGHT(H177,3)","v":"142"},"Pr-141(n,γ)",{"$f":"IF($K177=照射試料の誘導放射能の計算書!$B$31&照射試料の誘導放射能の計算書!$D$31,COUNTIF($K177:$K435,照射試料の誘導放射能の計算書!$B$31&照射試料の誘導放射能の計算書!$D$31),\"\")","v":""},{"$f":"IF($K177=照射試料の誘導放射能の計算書!$B$32&照射試料の誘導放射能の計算書!$D$32,COUNTIF($K177:$K435,照射試料の誘導放射能の計算書!$B$32&照射試料の誘導放射能の計算書!$D$32),\"\")","v":""},{"$f":"IF($K177=照射試料の誘導放射能の計算書!$B$33&照射試料の誘導放射能の計算書!$D$33,COUNTIF($K177:$K435,照射試料の誘導放射能の計算書!$B$33&照射試料の誘導放射能の計算書!$D$33),\"\")","v":""},{"$f":"IF($K177=照射試料の誘導放射能の計算書!$B$34&照射試料の誘導放射能の計算書!$D$34,COUNTIF($K177:$K435,照射試料の誘導放射能の計算書!$B$34&照射試料の誘導放射能の計算書!$D$34),\"\")","v":""},{"$f":"IF($K177=照射試料の誘導放射能の計算書!$B$35&照射試料の誘導放射能の計算書!$D$35,COUNTIF($K177:$K435,照射試料の誘導放射能の計算書!$B$35&照射試料の誘導放射能の計算書!$D$35),\"\")","v":""},{"$f":"IF($K177=照射試料の誘導放射能の計算書!$B$36&照射試料の誘導放射能の計算書!$D$36,COUNTIF($K177:$K435,照射試料の誘導放射能の計算書!$B$36&照射試料の誘導放射能の計算書!$D$36),\"\")","v":""},{"$f":"IF($K177=照射試料の誘導放射能の計算書!$B$37&照射試料の誘導放射能の計算書!$D$37,COUNTIF($K177:$K435,照射試料の誘導放射能の計算書!$B$37&照射試料の誘導放射能の計算書!$D$37),\"\")","v":""},{"$f":"IF($K177=照射試料の誘導放射能の計算書!$B$38&照射試料の誘導放射能の計算書!$D$38,COUNTIF($K177:$K435,照射試料の誘導放射能の計算書!$B$38&照射試料の誘導放射能の計算書!$D$38),\"\")","v":""},{"$f":"IF($K177=照射試料の誘導放射能の計算書!$B$39&照射試料の誘導放射能の計算書!$D$39,COUNTIF($K177:$K435,照射試料の誘導放射能の計算書!$B$39&照射試料の誘導放射能の計算書!$D$39),\"\")","v":""},{"$f":"IF($K177=照射試料の誘導放射能の計算書!$B$40&照射試料の誘導放射能の計算書!$D$40,COUNTIF($K177:$K435,照射試料の誘導放射能の計算書!$B$40&照射試料の誘導放射能の計算書!$D$40),\"\")","v":""},"Pr-142","(n,γ)Pr-142",7.6,19.13,"h"]
[59,"Hg-204","Pr",141,"Pr-141",100,"(n,γ)","Pr142m","Pr",{"$f":"RIGHT(H178,4)","v":"142m"},"Pr-141(n,γ)",{"$f":"IF($K178=照射試料の誘導放射能の計算書!$B$31&照射試料の誘導放射能の計算書!$D$31,COUNTIF($K178:$K436,照射試料の誘導放射能の計算書!$B$31&照射試料の誘導放射能の計算書!$D$31),\"\")","v":""},{"$f":"IF($K178=照射試料の誘導放射能の計算書!$B$32&照射試料の誘導放射能の計算書!$D$32,COUNTIF($K178:$K436,照射試料の誘導放射能の計算書!$B$32&照射試料の誘導放射能の計算書!$D$32),\"\")","v":""},{"$f":"IF($K178=照射試料の誘導放射能の計算書!$B$33&照射試料の誘導放射能の計算書!$D$33,COUNTIF($K178:$K436,照射試料の誘導放射能の計算書!$B$33&照射試料の誘導放射能の計算書!$D$33),\"\")","v":""},{"$f":"IF($K178=照射試料の誘導放射能の計算書!$B$34&照射試料の誘導放射能の計算書!$D$34,COUNTIF($K178:$K436,照射試料の誘導放射能の計算書!$B$34&照射試料の誘導放射能の計算書!$D$34),\"\")","v":""},{"$f":"IF($K178=照射試料の誘導放射能の計算書!$B$35&照射試料の誘導放射能の計算書!$D$35,COUNTIF($K178:$K436,照射試料の誘導放射能の計算書!$B$35&照射試料の誘導放射能の計算書!$D$35),\"\")","v":""},{"$f":"IF($K178=照射試料の誘導放射能の計算書!$B$36&照射試料の誘導放射能の計算書!$D$36,COUNTIF($K178:$K436,照射試料の誘導放射能の計算書!$B$36&照射試料の誘導放射能の計算書!$D$36),\"\")","v":""},{"$f":"IF($K178=照射試料の誘導放射能の計算書!$B$37&照射試料の誘導放射能の計算書!$D$37,COUNTIF($K178:$K436,照射試料の誘導放射能の計算書!$B$37&照射試料の誘導放射能の計算書!$D$37),\"\")","v":""},{"$f":"IF($K178=照射試料の誘導放射能の計算書!$B$38&照射試料の誘導放射能の計算書!$D$38,COUNTIF($K178:$K436,照射試料の誘導放射能の計算書!$B$38&照射試料の誘導放射能の計算書!$D$38),\"\")","v":""},{"$f":"IF($K178=照射試料の誘導放射能の計算書!$B$39&照射試料の誘導放射能の計算書!$D$39,COUNTIF($K178:$K436,照射試料の誘導放射能の計算書!$B$39&照射試料の誘導放射能の計算書!$D$39),\"\")","v":""},{"$f":"IF($K178=照射試料の誘導放射能の計算書!$B$40&照射試料の誘導放射能の計算書!$D$40,COUNTIF($K178:$K436,照射試料の誘導放射能の計算書!$B$40&照射試料の誘導放射能の計算書!$D$40),\"\")","v":""},"Pr-142m","(n,γ)Pr-142m",4,14.6,"min"]
[60,"Tl-203","Nd",143,"Nd-143",12.18,"(n,γ)","Nd144","Nd",{"$f":"RIGHT(H179,3)","v":"144"},"Nd-143(n,γ)",{"$f":"IF($K179=照射試料の誘導放射能の計算書!$B$31&照射試料の誘導放射能の計算書!$D$31,COUNTIF($K179:$K437,照射試料の誘導放射能の計算書!$B$31&照射試料の誘導放射能の計算書!$D$31),\"\")","v":""},{"$f":"IF($K179=照射試料の誘導放射能の計算書!$B$32&照射試料の誘導放射能の計算書!$D$32,COUNTIF($K179:$K437,照射試料の誘導放射能の計算書!$B$32&照射試料の誘導放射能の計算書!$D$32),\"\")","v":""},{"$f":"IF($K179=照射試料の誘導放射能の計算書!$B$33&照射試料の誘導放射能の計算書!$D$33,COUNTIF($K179:$K437,照射試料の誘導放射能の計算書!$B$33&照射試料の誘導放射能の計算書!$D$33),\"\")","v":""},{"$f":"IF($K179=照射試料の誘導放射能の計算書!$B$34&照射試料の誘導放射能の計算書!$D$34,COUNTIF($K179:$K437,照射試料の誘導放射能の計算書!$B$34&照射試料の誘導放射能の計算書!$D$34),\"\")","v":""},{"$f":"IF($K179=照射試料の誘導放射能の計算書!$B$35&照射試料の誘導放射能の計算書!$D$35,COUNTIF($K179:$K437,照射試料の誘導放射能の計算書!$B$35&照射試料の誘導放射能の計算書!$D$35),\"\")","v":""},{"$f":"IF($K179=照射試料の誘導放射能の計算書!$B$36&照射試料の誘導放射能の計算書!$D$36,COUNTIF($K179:$K437,照射試料の誘導放射能の計算書!$B$36&照射試料の誘導放射能の計算書!$D$36),\"\")","v":""},{"$f":"IF($K179=照射試料の誘導放射能の計算書!$B$37&照射試料の誘導放射能の計算書!$D$37,COUNTIF($K179:$K437,照射試料の誘導放射能の計算書!$B$37&照射試料の誘導放射能の計算書!$D$37),\"\")","v":""},{"$f":"IF($K179=照射試料の誘導放射能の計算書!$B$38&照射試料の誘導放射能の計算書!$D$38,COUNTIF($K179:$K437,照射試料の誘導放射能の計算書!$B$38&照射試料の誘導放射能の計算書!$D$38),\"\")","v":""},{"$f":"IF($K179=照射試料の誘導放射能の計算書!$B$39&照射試料の誘導放射能の計算書!$D$39,COUNTIF($K179:$K437,照射試料の誘導放射能の計算書!$B$39&照射試料の誘導放射能の計算書!$D$39),\"\")","v":""},{"$f":"IF($K179=照射試料の誘導放射能の計算書!$B$40&照射試料の誘導放射能の計算書!$D$40,COUNTIF($K179:$K437,照射試料の誘導放射能の計算書!$B$40&照射試料の誘導放射能の計算書!$D$40),\"\")","v":""},"Nd-144","(n,γ)Nd-144",330,2290000000000000,"y"]
[60,"Tl-205","Nd",146,"Nd-146",17.190000000000001,"(n,γ)","Nd147","Nd","147","Nd-146(n,γ)",{"$f":"IF($K180=照射試料の誘導放射能の計算書!$B$31&照射試料の誘導放射能の計算書!$D$31,COUNTIF($K180:$K438,照射試料の誘導放射能の計算書!$B$31&照射試料の誘導放射能の計算書!$D$31),\"\")","v":""},{"$f":"IF($K180=照射試料の誘導放射能の計算書!$B$32&照射試料の誘導放射能の計算書!$D$32,COUNTIF($K180:$K438,照射試料の誘導放射能の計算書!$B$32&照射試料の誘導放射能の計算書!$D$32),\"\")","v":""},{"$f":"IF($K180=照射試料の誘導放射能の計算書!$B$33&照射試料の誘導放射能の計算書!$D$33,COUNTIF($K180:$K438,照射試料の誘導放射能の計算書!$B$33&照射試料の誘導放射能の計算書!$D$33),\"\")","v":""},{"$f":"IF($K180=照射試料の誘導放射能の計算書!$B$34&照射試料の誘導放射能の計算書!$D$34,COUNTIF($K180:$K438,照射試料の誘導放射能の計算書!$B$34&照射試料の誘導放射能の計算書!$D$34),\"\")","v":""},{"$f":"IF($K180=照射試料の誘導放射能の計算書!$B$35&照射試料の誘導放射能の計算書!$D$35,COUNTIF($K180:$K438,照射試料の誘導放射能の計算書!$B$35&照射試料の誘導放射能の計算書!$D$35),\"\")","v":""},{"$f":"IF($K180=照射試料の誘導放射能の計算書!$B$36&照射試料の誘導放射能の計算書!$D$36,COUNTIF($K180:$K438,照射試料の誘導放射能の計算書!$B$36&照射試料の誘導放射能の計算書!$D$36),\"\")","v":""},{"$f":"IF($K180=照射試料の誘導放射能の計算書!$B$37&照射試料の誘導放射能の計算書!$D$37,COUNTIF($K180:$K438,照射試料の誘導放射能の計算書!$B$37&照射試料の誘導放射能の計算書!$D$37),\"\")","v":""},{"$f":"IF($K180=照射試料の誘導放射能の計算書!$B$38&照射試料の誘導放射能の計算書!$D$38,COUNTIF($K180:$K438,照射試料の誘導放射能の計算書!$B$38&照射試料の誘導放射能の計算書!$D$38),\"\")","v":""},{"$f":"IF($K180=照射試料の誘導放射能の計算書!$B$39&照射試料の誘導放射能の計算書!$D$39,COUNTIF($K180:$K438,照射試料の誘導放射能の計算書!$B$39&照射試料の誘導放射能の計算書!$D$39),\"\")","v":""},{"$f":"IF($K180=照射試料の誘導放射能の計算書!$B$40&照射試料の誘導放射能の計算書!$D$40,COUNTIF($K180:$K438,照射試料の誘導放射能の計算書!$B$40&照射試料の誘導放射能の計算書!$D$40),\"\")","v":""},"Nd-147","(n,γ)Nd-147",1.3,10.98,"d"]
[60,"Pb-204","Nd",148,"Nd-148",5.76,"(n,γ)","Nd149","Nd","149","Nd-148(n,γ)",{"$f":"IF($K181=照射試料の誘導放射能の計算書!$B$31&照射試料の誘導放射能の計算書!$D$31,COUNTIF($K181:$K439,照射試料の誘導放射能の計算書!$B$31&照射試料の誘導放射能の計算書!$D$31),\"\")","v":""},{"$f":"IF($K181=照射試料の誘導放射能の計算書!$B$32&照射試料の誘導放射能の計算書!$D$32,COUNTIF($K181:$K439,照射試料の誘導放射能の計算書!$B$32&照射試料の誘導放射能の計算書!$D$32),\"\")","v":""},{"$f":"IF($K181=照射試料の誘導放射能の計算書!$B$33&照射試料の誘導放射能の計算書!$D$33,COUNTIF($K181:$K439,照射試料の誘導放射能の計算書!$B$33&照射試料の誘導放射能の計算書!$D$33),\"\")","v":""},{"$f":"IF($K181=照射試料の誘導放射能の計算書!$B$34&照射試料の誘導放射能の計算書!$D$34,COUNTIF($K181:$K439,照射試料の誘導放射能の計算書!$B$34&照射試料の誘導放射能の計算書!$D$34),\"\")","v":""},{"$f":"IF($K181=照射試料の誘導放射能の計算書!$B$35&照射試料の誘導放射能の計算書!$D$35,COUNTIF($K181:$K439,照射試料の誘導放射能の計算書!$B$35&照射試料の誘導放射能の計算書!$D$35),\"\")","v":""},{"$f":"IF($K181=照射試料の誘導放射能の計算書!$B$36&照射試料の誘導放射能の計算書!$D$36,COUNTIF($K181:$K439,照射試料の誘導放射能の計算書!$B$36&照射試料の誘導放射能の計算書!$D$36),\"\")","v":""},{"$f":"IF($K181=照射試料の誘導放射能の計算書!$B$37&照射試料の誘導放射能の計算書!$D$37,COUNTIF($K181:$K439,照射試料の誘導放射能の計算書!$B$37&照射試料の誘導放射能の計算書!$D$37),\"\")","v":""},{"$f":"IF($K181=照射試料の誘導放射能の計算書!$B$38&照射試料の誘導放射能の計算書!$D$38,COUNTIF($K181:$K439,照射試料の誘導放射能の計算書!$B$38&照射試料の誘導放射能の計算書!$D$38),\"\")","v":""},{"$f":"IF($K181=照射試料の誘導放射能の計算書!$B$39&照射試料の誘導放射能の計算書!$D$39,COUNTIF($K181:$K439,照射試料の誘導放射能の計算書!$B$39&照射試料の誘導放射能の計算書!$D$39),\"\")","v":""},{"$f":"IF($K181=照射試料の誘導放射能の計算書!$B$40&照射試料の誘導放射能の計算書!$D$40,COUNTIF($K181:$K439,照射試料の誘導放射能の計算書!$B$40&照射試料の誘導放射能の計算書!$D$40),\"\")","v":""},"Nd-149","(n,γ)Nd-149",2.5,1.73,"h"]
[60,"Pb-208","Nd",150,"Nd-150",5.64,"(n,γ)","Nd151","Nd","151","Nd-150(n,γ)",{"$f":"IF($K182=照射試料の誘導放射能の計算書!$B$31&照射試料の誘導放射能の計算書!$D$31,COUNTIF($K182:$K440,照射試料の誘導放射能の計算書!$B$31&照射試料の誘導放射能の計算書!$D$31),\"\")","v":""},{"$f":"IF($K182=照射試料の誘導放射能の計算書!$B$32&照射試料の誘導放射能の計算書!$D$32,COUNTIF($K182:$K440,照射試料の誘導放射能の計算書!$B$32&照射試料の誘導放射能の計算書!$D$32),\"\")","v":""},{"$f":"IF($K182=照射試料の誘導放射能の計算書!$B$33&照射試料の誘導放射能の計算書!$D$33,COUNTIF($K182:$K440,照射試料の誘導放射能の計算書!$B$33&照射試料の誘導放射能の計算書!$D$33),\"\")","v":""},{"$f":"IF($K182=照射試料の誘導放射能の計算書!$B$34&照射試料の誘導放射能の計算書!$D$34,COUNTIF($K182:$K440,照射試料の誘導放射能の計算書!$B$34&照射試料の誘導放射能の計算書!$D$34),\"\")","v":""},{"$f":"IF($K182=照射試料の誘導放射能の計算書!$B$35&照射試料の誘導放射能の計算書!$D$35,COUNTIF($K182:$K440,照射試料の誘導放射能の計算書!$B$35&照射試料の誘導放射能の計算書!$D$35),\"\")","v":""},{"$f":"IF($K182=照射試料の誘導放射能の計算書!$B$36&照射試料の誘導放射能の計算書!$D$36,COUNTIF($K182:$K440,照射試料の誘導放射能の計算書!$B$36&照射試料の誘導放射能の計算書!$D$36),\"\")","v":""},{"$f":"IF($K182=照射試料の誘導放射能の計算書!$B$37&照射試料の誘導放射能の計算書!$D$37,COUNTIF($K182:$K440,照射試料の誘導放射能の計算書!$B$37&照射試料の誘導放射能の計算書!$D$37),\"\")","v":""},{"$f":"IF($K182=照射試料の誘導放射能の計算書!$B$38&照射試料の誘導放射能の計算書!$D$38,COUNTIF($K182:$K440,照射試料の誘導放射能の計算書!$B$38&照射試料の誘導放射能の計算書!$D$38),\"\")","v":""},{"$f":"IF($K182=照射試料の誘導放射能の計算書!$B$39&照射試料の誘導放射能の計算書!$D$39,COUNTIF($K182:$K440,照射試料の誘導放射能の計算書!$B$39&照射試料の誘導放射能の計算書!$D$39),\"\")","v":""},{"$f":"IF($K182=照射試料の誘導放射能の計算書!$B$40&照射試料の誘導放射能の計算書!$D$40,COUNTIF($K182:$K440,照射試料の誘導放射能の計算書!$B$40&照射試料の誘導放射能の計算書!$D$40),\"\")","v":""},"Nd-151","(n,γ)Nd-151",1.2,12.4,"min"]
[62,"Bi-209","Sm",144,"Sm-144",3.1,"(n,γ)","Sm145","Sm","145","Sm-144(n,γ)",{"$f":"IF($K183=照射試料の誘導放射能の計算書!$B$31&照射試料の誘導放射能の計算書!$D$31,COUNTIF($K183:$K441,照射試料の誘導放射能の計算書!$B$31&照射試料の誘導放射能の計算書!$D$31),\"\")","v":""},{"$f":"IF($K183=照射試料の誘導放射能の計算書!$B$32&照射試料の誘導放射能の計算書!$D$32,COUNTIF($K183:$K441,照射試料の誘導放射能の計算書!$B$32&照射試料の誘導放射能の計算書!$D$32),\"\")","v":""},{"$f":"IF($K183=照射試料の誘導放射能の計算書!$B$33&照射試料の誘導放射能の計算書!$D$33,COUNTIF($K183:$K441,照射試料の誘導放射能の計算書!$B$33&照射試料の誘導放射能の計算書!$D$33),\"\")","v":""},{"$f":"IF($K183=照射試料の誘導放射能の計算書!$B$34&照射試料の誘導放射能の計算書!$D$34,COUNTIF($K183:$K441,照射試料の誘導放射能の計算書!$B$34&照射試料の誘導放射能の計算書!$D$34),\"\")","v":""},{"$f":"IF($K183=照射試料の誘導放射能の計算書!$B$35&照射試料の誘導放射能の計算書!$D$35,COUNTIF($K183:$K441,照射試料の誘導放射能の計算書!$B$35&照射試料の誘導放射能の計算書!$D$35),\"\")","v":""},{"$f":"IF($K183=照射試料の誘導放射能の計算書!$B$36&照射試料の誘導放射能の計算書!$D$36,COUNTIF($K183:$K441,照射試料の誘導放射能の計算書!$B$36&照射試料の誘導放射能の計算書!$D$36),\"\")","v":""},{"$f":"IF($K183=照射試料の誘導放射能の計算書!$B$37&照射試料の誘導放射能の計算書!$D$37,COUNTIF($K183:$K441,照射試料の誘導放射能の計算書!$B$37&照射試料の誘導放射能の計算書!$D$37),\"\")","v":""},{"$f":"IF($K183=照射試料の誘導放射能の計算書!$B$38&照射試料の誘導放射能の計算書!$D$38,COUNTIF($K183:$K441,照射試料の誘導放射能の計算書!$B$38&照射試料の誘導放射能の計算書!$D$38),\"\")","v":""},{"$f":"IF($K183=照射試料の誘導放射能の計算書!$B$39&照射試料の誘導放射能の計算書!$D$39,COUNTIF($K183:$K441,照射試料の誘導放射能の計算書!$B$39&照射試料の誘導放射能の計算書!$D$39),\"\")","v":""},{"$f":"IF($K183=照射試料の誘導放射能の計算書!$B$40&照射試料の誘導放射能の計算書!$D$40,COUNTIF($K183:$K441,照射試料の誘導放射能の計算書!$B$40&照射試料の誘導放射能の計算書!$D$40),\"\")","v":""},"Sm-145","(n,γ)Sm-145",0.7,340,"d"]
[62,"Th-232","Sm",147,"Sm-147",15,"(n,γ)","Sm148","Sm","148","Sm-147(n,γ)",{"$f":"IF($K184=照射試料の誘導放射能の計算書!$B$31&照射試料の誘導放射能の計算書!$D$31,COUNTIF($K184:$K442,照射試料の誘導放射能の計算書!$B$31&照射試料の誘導放射能の計算書!$D$31),\"\")","v":""},{"$f":"IF($K184=照射試料の誘導放射能の計算書!$B$32&照射試料の誘導放射能の計算書!$D$32,COUNTIF($K184:$K442,照射試料の誘導放射能の計算書!$B$32&照射試料の誘導放射能の計算書!$D$32),\"\")","v":""},{"$f":"IF($K184=照射試料の誘導放射能の計算書!$B$33&照射試料の誘導放射能の計算書!$D$33,COUNTIF($K184:$K442,照射試料の誘導放射能の計算書!$B$33&照射試料の誘導放射能の計算書!$D$33),\"\")","v":""},{"$f":"IF($K184=照射試料の誘導放射能の計算書!$B$34&照射試料の誘導放射能の計算書!$D$34,COUNTIF($K184:$K442,照射試料の誘導放射能の計算書!$B$34&照射試料の誘導放射能の計算書!$D$34),\"\")","v":""},{"$f":"IF($K184=照射試料の誘導放射能の計算書!$B$35&照射試料の誘導放射能の計算書!$D$35,COUNTIF($K184:$K442,照射試料の誘導放射能の計算書!$B$35&照射試料の誘導放射能の計算書!$D$35),\"\")","v":""},{"$f":"IF($K184=照射試料の誘導放射能の計算書!$B$36&照射試料の誘導放射能の計算書!$D$36,COUNTIF($K184:$K442,照射試料の誘導放射能の計算書!$B$36&照射試料の誘導放射能の計算書!$D$36),\"\")","v":""},{"$f":"IF($K184=照射試料の誘導放射能の計算書!$B$37&照射試料の誘導放射能の計算書!$D$37,COUNTIF($K184:$K442,照射試料の誘導放射能の計算書!$B$37&照射試料の誘導放射能の計算書!$D$37),\"\")","v":""},{"$f":"IF($K184=照射試料の誘導放射能の計算書!$B$38&照射試料の誘導放射能の計算書!$D$38,COUNTIF($K184:$K442,照射試料の誘導放射能の計算書!$B$38&照射試料の誘導放射能の計算書!$D$38),\"\")","v":""},{"$f":"IF($K184=照射試料の誘導放射能の計算書!$B$39&照射試料の誘導放射能の計算書!$D$39,COUNTIF($K184:$K442,照射試料の誘導放射能の計算書!$B$39&照射試料の誘導放射能の計算書!$D$39),\"\")","v":""},{"$f":"IF($K184=照射試料の誘導放射能の計算書!$B$40&照射試料の誘導放射能の計算書!$D$40,COUNTIF($K184:$K442,照射試料の誘導放射能の計算書!$B$40&照射試料の誘導放射能の計算書!$D$40),\"\")","v":""},"Sm-148","(n,γ)Sm-148",56,700000000000,"y"]
[62,"U-235","Sm",150,"Sm-150",7.4,"(n,γ)","Sm151","Sm","151","Sm-150(n,γ)",{"$f":"IF($K185=照射試料の誘導放射能の計算書!$B$31&照射試料の誘導放射能の計算書!$D$31,COUNTIF($K185:$K443,照射試料の誘導放射能の計算書!$B$31&照射試料の誘導放射能の計算書!$D$31),\"\")","v":""},{"$f":"IF($K185=照射試料の誘導放射能の計算書!$B$32&照射試料の誘導放射能の計算書!$D$32,COUNTIF($K185:$K443,照射試料の誘導放射能の計算書!$B$32&照射試料の誘導放射能の計算書!$D$32),\"\")","v":""},{"$f":"IF($K185=照射試料の誘導放射能の計算書!$B$33&照射試料の誘導放射能の計算書!$D$33,COUNTIF($K185:$K443,照射試料の誘導放射能の計算書!$B$33&照射試料の誘導放射能の計算書!$D$33),\"\")","v":""},{"$f":"IF($K185=照射試料の誘導放射能の計算書!$B$34&照射試料の誘導放射能の計算書!$D$34,COUNTIF($K185:$K443,照射試料の誘導放射能の計算書!$B$34&照射試料の誘導放射能の計算書!$D$34),\"\")","v":""},{"$f":"IF($K185=照射試料の誘導放射能の計算書!$B$35&照射試料の誘導放射能の計算書!$D$35,COUNTIF($K185:$K443,照射試料の誘導放射能の計算書!$B$35&照射試料の誘導放射能の計算書!$D$35),\"\")","v":""},{"$f":"IF($K185=照射試料の誘導放射能の計算書!$B$36&照射試料の誘導放射能の計算書!$D$36,COUNTIF($K185:$K443,照射試料の誘導放射能の計算書!$B$36&照射試料の誘導放射能の計算書!$D$36),\"\")","v":""},{"$f":"IF($K185=照射試料の誘導放射能の計算書!$B$37&照射試料の誘導放射能の計算書!$D$37,COUNTIF($K185:$K443,照射試料の誘導放射能の計算書!$B$37&照射試料の誘導放射能の計算書!$D$37),\"\")","v":""},{"$f":"IF($K185=照射試料の誘導放射能の計算書!$B$38&照射試料の誘導放射能の計算書!$D$38,COUNTIF($K185:$K443,照射試料の誘導放射能の計算書!$B$38&照射試料の誘導放射能の計算書!$D$38),\"\")","v":""},{"$f":"IF($K185=照射試料の誘導放射能の計算書!$B$39&照射試料の誘導放射能の計算書!$D$39,COUNTIF($K185:$K443,照射試料の誘導放射能の計算書!$B$39&照射試料の誘導放射能の計算書!$D$39),\"\")","v":""},{"$f":"IF($K185=照射試料の誘導放射能の計算書!$B$40&照射試料の誘導放射能の計算書!$D$40,COUNTIF($K185:$K443,照射試料の誘導放射能の計算書!$B$40&照射試料の誘導放射能の計算書!$D$40),\"\")","v":""},"Sm-151","(n,γ)Sm-151",102,93,"y"]
[62,"U-238","Sm",152,"Sm-152",26.7,"(n,γ)","Sm153","Sm","153","Sm-152(n,γ)",{"$f":"IF($K186=照射試料の誘導放射能の計算書!$B$31&照射試料の誘導放射能の計算書!$D$31,COUNTIF($K186:$K444,照射試料の誘導放射能の計算書!$B$31&照射試料の誘導放射能の計算書!$D$31),\"\")","v":""},{"$f":"IF($K186=照射試料の誘導放射能の計算書!$B$32&照射試料の誘導放射能の計算書!$D$32,COUNTIF($K186:$K444,照射試料の誘導放射能の計算書!$B$32&照射試料の誘導放射能の計算書!$D$32),\"\")","v":""},{"$f":"IF($K186=照射試料の誘導放射能の計算書!$B$33&照射試料の誘導放射能の計算書!$D$33,COUNTIF($K186:$K444,照射試料の誘導放射能の計算書!$B$33&照射試料の誘導放射能の計算書!$D$33),\"\")","v":""},{"$f":"IF($K186=照射試料の誘導放射能の計算書!$B$34&照射試料の誘導放射能の計算書!$D$34,COUNTIF($K186:$K444,照射試料の誘導放射能の計算書!$B$34&照射試料の誘導放射能の計算書!$D$34),\"\")","v":""},{"$f":"IF($K186=照射試料の誘導放射能の計算書!$B$35&照射試料の誘導放射能の計算書!$D$35,COUNTIF($K186:$K444,照射試料の誘導放射能の計算書!$B$35&照射試料の誘導放射能の計算書!$D$35),\"\")","v":""},{"$f":"IF($K186=照射試料の誘導放射能の計算書!$B$36&照射試料の誘導放射能の計算書!$D$36,COUNTIF($K186:$K444,照射試料の誘導放射能の計算書!$B$36&照射試料の誘導放射能の計算書!$D$36),\"\")","v":""},{"$f":"IF($K186=照射試料の誘導放射能の計算書!$B$37&照射試料の誘導放射能の計算書!$D$37,COUNTIF($K186:$K444,照射試料の誘導放射能の計算書!$B$37&照射試料の誘導放射能の計算書!$D$37),\"\")","v":""},{"$f":"IF($K186=照射試料の誘導放射能の計算書!$B$38&照射試料の誘導放射能の計算書!$D$38,COUNTIF($K186:$K444,照射試料の誘導放射能の計算書!$B$38&照射試料の誘導放射能の計算書!$D$38),\"\")","v":""},{"$f":"IF($K186=照射試料の誘導放射能の計算書!$B$39&照射試料の誘導放射能の計算書!$D$39,COUNTIF($K186:$K444,照射試料の誘導放射能の計算書!$B$39&照射試料の誘導放射能の計算書!$D$39),\"\")","v":""},{"$f":"IF($K186=照射試料の誘導放射能の計算書!$B$40&照射試料の誘導放射能の計算書!$D$40,COUNTIF($K186:$K444,照射試料の誘導放射能の計算書!$B$40&照射試料の誘導放射能の計算書!$D$40),\"\")","v":""},"Sm-153","(n,γ)Sm-153",206,46.27,"h"]
[62,null,"Sm",154,"Sm-154",22.7,"(n,γ)","Sm155","Sm","155","Sm-154(n,γ)",{"$f":"IF($K187=照射試料の誘導放射能の計算書!$B$31&照射試料の誘導放射能の計算書!$D$31,COUNTIF($K187:$K445,照射試料の誘導放射能の計算書!$B$31&照射試料の誘導放射能の計算書!$D$31),\"\")","v":""},{"$f":"IF($K187=照射試料の誘導放射能の計算書!$B$32&照射試料の誘導放射能の計算書!$D$32,COUNTIF($K187:$K445,照射試料の誘導放射能の計算書!$B$32&照射試料の誘導放射能の計算書!$D$32),\"\")","v":""},{"$f":"IF($K187=照射試料の誘導放射能の計算書!$B$33&照射試料の誘導放射能の計算書!$D$33,COUNTIF($K187:$K445,照射試料の誘導放射能の計算書!$B$33&照射試料の誘導放射能の計算書!$D$33),\"\")","v":""},{"$f":"IF($K187=照射試料の誘導放射能の計算書!$B$34&照射試料の誘導放射能の計算書!$D$34,COUNTIF($K187:$K445,照射試料の誘導放射能の計算書!$B$34&照射試料の誘導放射能の計算書!$D$34),\"\")","v":""},{"$f":"IF($K187=照射試料の誘導放射能の計算書!$B$35&照射試料の誘導放射能の計算書!$D$35,COUNTIF($K187:$K445,照射試料の誘導放射能の計算書!$B$35&照射試料の誘導放射能の計算書!$D$35),\"\")","v":""},{"$f":"IF($K187=照射試料の誘導放射能の計算書!$B$36&照射試料の誘導放射能の計算書!$D$36,COUNTIF($K187:$K445,照射試料の誘導放射能の計算書!$B$36&照射試料の誘導放射能の計算書!$D$36),\"\")","v":""},{"$f":"IF($K187=照射試料の誘導放射能の計算書!$B$37&照射試料の誘導放射能の計算書!$D$37,COUNTIF($K187:$K445,照射試料の誘導放射能の計算書!$B$37&照射試料の誘導放射能の計算書!$D$37),\"\")","v":""},{"$f":"IF($K187=照射試料の誘導放射能の計算書!$B$38&照射試料の誘導放射能の計算書!$D$38,COUNTIF($K187:$K445,照射試料の誘導放射能の計算書!$B$38&照射試料の誘導放射能の計算書!$D$38),\"\")","v":""},{"$f":"IF($K187=照射試料の誘導放射能の計算書!$B$39&照射試料の誘導放射能の計算書!$D$39,COUNTIF($K187:$K445,照射試料の誘導放射能の計算書!$B$39&照射試料の誘導放射能の計算書!$D$39),\"\")","v":""},{"$f":"IF($K187=照射試料の誘導放射能の計算書!$B$40&照射試料の誘導放射能の計算書!$D$40,COUNTIF($K187:$K445,照射試料の誘導放射能の計算書!$B$40&照射試料の誘導放射能の計算書!$D$40),\"\")","v":""},"Sm-155","(n,γ)Sm-155",5.5,22.4,"min"]
[63,null,"Eu",151,"Eu-151",47.8,"(n,γ)","Eu152","Eu","152","Eu-151(n,γ)",{"$f":"IF($K188=照射試料の誘導放射能の計算書!$B$31&照射試料の誘導放射能の計算書!$D$31,COUNTIF($K188:$K446,照射試料の誘導放射能の計算書!$B$31&照射試料の誘導放射能の計算書!$D$31),\"\")","v":""},{"$f":"IF($K188=照射試料の誘導放射能の計算書!$B$32&照射試料の誘導放射能の計算書!$D$32,COUNTIF($K188:$K446,照射試料の誘導放射能の計算書!$B$32&照射試料の誘導放射能の計算書!$D$32),\"\")","v":""},{"$f":"IF($K188=照射試料の誘導放射能の計算書!$B$33&照射試料の誘導放射能の計算書!$D$33,COUNTIF($K188:$K446,照射試料の誘導放射能の計算書!$B$33&照射試料の誘導放射能の計算書!$D$33),\"\")","v":""},{"$f":"IF($K188=照射試料の誘導放射能の計算書!$B$34&照射試料の誘導放射能の計算書!$D$34,COUNTIF($K188:$K446,照射試料の誘導放射能の計算書!$B$34&照射試料の誘導放射能の計算書!$D$34),\"\")","v":""},{"$f":"IF($K188=照射試料の誘導放射能の計算書!$B$35&照射試料の誘導放射能の計算書!$D$35,COUNTIF($K188:$K446,照射試料の誘導放射能の計算書!$B$35&照射試料の誘導放射能の計算書!$D$35),\"\")","v":""},{"$f":"IF($K188=照射試料の誘導放射能の計算書!$B$36&照射試料の誘導放射能の計算書!$D$36,COUNTIF($K188:$K446,照射試料の誘導放射能の計算書!$B$36&照射試料の誘導放射能の計算書!$D$36),\"\")","v":""},{"$f":"IF($K188=照射試料の誘導放射能の計算書!$B$37&照射試料の誘導放射能の計算書!$D$37,COUNTIF($K188:$K446,照射試料の誘導放射能の計算書!$B$37&照射試料の誘導放射能の計算書!$D$37),\"\")","v":""},{"$f":"IF($K188=照射試料の誘導放射能の計算書!$B$38&照射試料の誘導放射能の計算書!$D$38,COUNTIF($K188:$K446,照射試料の誘導放射能の計算書!$B$38&照射試料の誘導放射能の計算書!$D$38),\"\")","v":""},{"$f":"IF($K188=照射試料の誘導放射能の計算書!$B$39&照射試料の誘導放射能の計算書!$D$39,COUNTIF($K188:$K446,照射試料の誘導放射能の計算書!$B$39&照射試料の誘導放射能の計算書!$D$39),\"\")","v":""},{"$f":"IF($K188=照射試料の誘導放射能の計算書!$B$40&照射試料の誘導放射能の計算書!$D$40,COUNTIF($K188:$K446,照射試料の誘導放射能の計算書!$B$40&照射試料の誘導放射能の計算書!$D$40),\"\")","v":""},"Eu-152","(n,γ)Eu-152",5900,13.33,"y"]
[63,null,"Eu",151,"Eu-151",47.8,"(n,γ)","Eu152m1","Eu",{"$f":"RIGHT(H189,5)","v":"152m1"},"Eu-151(n,γ)",{"$f":"IF($K189=照射試料の誘導放射能の計算書!$B$31&照射試料の誘導放射能の計算書!$D$31,COUNTIF($K189:$K447,照射試料の誘導放射能の計算書!$B$31&照射試料の誘導放射能の計算書!$D$31),\"\")","v":""},{"$f":"IF($K189=照射試料の誘導放射能の計算書!$B$32&照射試料の誘導放射能の計算書!$D$32,COUNTIF($K189:$K447,照射試料の誘導放射能の計算書!$B$32&照射試料の誘導放射能の計算書!$D$32),\"\")","v":""},{"$f":"IF($K189=照射試料の誘導放射能の計算書!$B$33&照射試料の誘導放射能の計算書!$D$33,COUNTIF($K189:$K447,照射試料の誘導放射能の計算書!$B$33&照射試料の誘導放射能の計算書!$D$33),\"\")","v":""},{"$f":"IF($K189=照射試料の誘導放射能の計算書!$B$34&照射試料の誘導放射能の計算書!$D$34,COUNTIF($K189:$K447,照射試料の誘導放射能の計算書!$B$34&照射試料の誘導放射能の計算書!$D$34),\"\")","v":""},{"$f":"IF($K189=照射試料の誘導放射能の計算書!$B$35&照射試料の誘導放射能の計算書!$D$35,COUNTIF($K189:$K447,照射試料の誘導放射能の計算書!$B$35&照射試料の誘導放射能の計算書!$D$35),\"\")","v":""},{"$f":"IF($K189=照射試料の誘導放射能の計算書!$B$36&照射試料の誘導放射能の計算書!$D$36,COUNTIF($K189:$K447,照射試料の誘導放射能の計算書!$B$36&照射試料の誘導放射能の計算書!$D$36),\"\")","v":""},{"$f":"IF($K189=照射試料の誘導放射能の計算書!$B$37&照射試料の誘導放射能の計算書!$D$37,COUNTIF($K189:$K447,照射試料の誘導放射能の計算書!$B$37&照射試料の誘導放射能の計算書!$D$37),\"\")","v":""},{"$f":"IF($K189=照射試料の誘導放射能の計算書!$B$38&照射試料の誘導放射能の計算書!$D$38,COUNTIF($K189:$K447,照射試料の誘導放射能の計算書!$B$38&照射試料の誘導放射能の計算書!$D$38),\"\")","v":""},{"$f":"IF($K189=照射試料の誘導放射能の計算書!$B$39&照射試料の誘導放射能の計算書!$D$39,COUNTIF($K189:$K447,照射試料の誘導放射能の計算書!$B$39&照射試料の誘導放射能の計算書!$D$39),\"\")","v":""},{"$f":"IF($K189=照射試料の誘導放射能の計算書!$B$40&照射試料の誘導放射能の計算書!$D$40,COUNTIF($K189:$K447,照射試料の誘導放射能の計算書!$B$40&照射試料の誘導放射能の計算書!$D$40),\"\")","v":""},"Eu-152m1","(n,γ)Eu-152m1",3300,9.3000000000000007,"h"]
[63,null,"Eu",151,"Eu-151",47.8,"(n,γ)","Eu152m2","Eu",{"$f":"RIGHT(H190,5)","v":"152m2"},"Eu-151(n,γ)",{"$f":"IF($K190=照射試料の誘導放射能の計算書!$B$31&照射試料の誘導放射能の計算書!$D$31,COUNTIF($K190:$K448,照射試料の誘導放射能の計算書!$B$31&照射試料の誘導放射能の計算書!$D$31),\"\")","v":""},{"$f":"IF($K190=照射試料の誘導放射能の計算書!$B$32&照射試料の誘導放射能の計算書!$D$32,COUNTIF($K190:$K448,照射試料の誘導放射能の計算書!$B$32&照射試料の誘導放射能の計算書!$D$32),\"\")","v":""},{"$f":"IF($K190=照射試料の誘導放射能の計算書!$B$33&照射試料の誘導放射能の計算書!$D$33,COUNTIF($K190:$K448,照射試料の誘導放射能の計算書!$B$33&照射試料の誘導放射能の計算書!$D$33),\"\")","v":""},{"$f":"IF($K190=照射試料の誘導放射能の計算書!$B$34&照射試料の誘導放射能の計算書!$D$34,COUNTIF($K190:$K448,照射試料の誘導放射能の計算書!$B$34&照射試料の誘導放射能の計算書!$D$34),\"\")","v":""},{"$f":"IF($K190=照射試料の誘導放射能の計算書!$B$35&照射試料の誘導放射能の計算書!$D$35,COUNTIF($K190:$K448,照射試料の誘導放射能の計算書!$B$35&照射試料の誘導放射能の計算書!$D$35),\"\")","v":""},{"$f":"IF($K190=照射試料の誘導放射能の計算書!$B$36&照射試料の誘導放射能の計算書!$D$36,COUNTIF($K190:$K448,照射試料の誘導放射能の計算書!$B$36&照射試料の誘導放射能の計算書!$D$36),\"\")","v":""},{"$f":"IF($K190=照射試料の誘導放射能の計算書!$B$37&照射試料の誘導放射能の計算書!$D$37,COUNTIF($K190:$K448,照射試料の誘導放射能の計算書!$B$37&照射試料の誘導放射能の計算書!$D$37),\"\")","v":""},{"$f":"IF($K190=照射試料の誘導放射能の計算書!$B$38&照射試料の誘導放射能の計算書!$D$38,COUNTIF($K190:$K448,照射試料の誘導放射能の計算書!$B$38&照射試料の誘導放射能の計算書!$D$38),\"\")","v":""},{"$f":"IF($K190=照射試料の誘導放射能の計算書!$B$39&照射試料の誘導放射能の計算書!$D$39,COUNTIF($K190:$K448,照射試料の誘導放射能の計算書!$B$39&照射試料の誘導放射能の計算書!$D$39),\"\")","v":""},{"$f":"IF($K190=照射試料の誘導放射能の計算書!$B$40&照射試料の誘導放射能の計算書!$D$40,COUNTIF($K190:$K448,照射試料の誘導放射能の計算書!$B$40&照射試料の誘導放射能の計算書!$D$40),\"\")","v":""},"Eu-152m2","(n,γ)Eu-152m2",3.8,96,"min"]
[63,null,"Eu",153,"Eu-153",52.2,"(n,γ)","Eu154","Eu",{"$f":"RIGHT(H191,3)","v":"154"},"Eu-153(n,γ)",{"$f":"IF($K191=照射試料の誘導放射能の計算書!$B$31&照射試料の誘導放射能の計算書!$D$31,COUNTIF($K191:$K449,照射試料の誘導放射能の計算書!$B$31&照射試料の誘導放射能の計算書!$D$31),\"\")","v":""},{"$f":"IF($K191=照射試料の誘導放射能の計算書!$B$32&照射試料の誘導放射能の計算書!$D$32,COUNTIF($K191:$K449,照射試料の誘導放射能の計算書!$B$32&照射試料の誘導放射能の計算書!$D$32),\"\")","v":""},{"$f":"IF($K191=照射試料の誘導放射能の計算書!$B$33&照射試料の誘導放射能の計算書!$D$33,COUNTIF($K191:$K449,照射試料の誘導放射能の計算書!$B$33&照射試料の誘導放射能の計算書!$D$33),\"\")","v":""},{"$f":"IF($K191=照射試料の誘導放射能の計算書!$B$34&照射試料の誘導放射能の計算書!$D$34,COUNTIF($K191:$K449,照射試料の誘導放射能の計算書!$B$34&照射試料の誘導放射能の計算書!$D$34),\"\")","v":""},{"$f":"IF($K191=照射試料の誘導放射能の計算書!$B$35&照射試料の誘導放射能の計算書!$D$35,COUNTIF($K191:$K449,照射試料の誘導放射能の計算書!$B$35&照射試料の誘導放射能の計算書!$D$35),\"\")","v":""},{"$f":"IF($K191=照射試料の誘導放射能の計算書!$B$36&照射試料の誘導放射能の計算書!$D$36,COUNTIF($K191:$K449,照射試料の誘導放射能の計算書!$B$36&照射試料の誘導放射能の計算書!$D$36),\"\")","v":""},{"$f":"IF($K191=照射試料の誘導放射能の計算書!$B$37&照射試料の誘導放射能の計算書!$D$37,COUNTIF($K191:$K449,照射試料の誘導放射能の計算書!$B$37&照射試料の誘導放射能の計算書!$D$37),\"\")","v":""},{"$f":"IF($K191=照射試料の誘導放射能の計算書!$B$38&照射試料の誘導放射能の計算書!$D$38,COUNTIF($K191:$K449,照射試料の誘導放射能の計算書!$B$38&照射試料の誘導放射能の計算書!$D$38),\"\")","v":""},{"$f":"IF($K191=照射試料の誘導放射能の計算書!$B$39&照射試料の誘導放射能の計算書!$D$39,COUNTIF($K191:$K449,照射試料の誘導放射能の計算書!$B$39&照射試料の誘導放射能の計算書!$D$39),\"\")","v":""},{"$f":"IF($K191=照射試料の誘導放射能の計算書!$B$40&照射試料の誘導放射能の計算書!$D$40,COUNTIF($K191:$K449,照射試料の誘導放射能の計算書!$B$40&照射試料の誘導放射能の計算書!$D$40),\"\")","v":""},"Eu-154","(n,γ)Eu-154",390,8.8000000000000007,"y"]
[64,null,"Gd",152,"Gd-152",0.2,"(n,γ)","Gd153","Gd","153","Gd-152(n,γ)",{"$f":"IF($K192=照射試料の誘導放射能の計算書!$B$31&照射試料の誘導放射能の計算書!$D$31,COUNTIF($K192:$K450,照射試料の誘導放射能の計算書!$B$31&照射試料の誘導放射能の計算書!$D$31),\"\")","v":""},{"$f":"IF($K192=照射試料の誘導放射能の計算書!$B$32&照射試料の誘導放射能の計算書!$D$32,COUNTIF($K192:$K450,照射試料の誘導放射能の計算書!$B$32&照射試料の誘導放射能の計算書!$D$32),\"\")","v":""},{"$f":"IF($K192=照射試料の誘導放射能の計算書!$B$33&照射試料の誘導放射能の計算書!$D$33,COUNTIF($K192:$K450,照射試料の誘導放射能の計算書!$B$33&照射試料の誘導放射能の計算書!$D$33),\"\")","v":""},{"$f":"IF($K192=照射試料の誘導放射能の計算書!$B$34&照射試料の誘導放射能の計算書!$D$34,COUNTIF($K192:$K450,照射試料の誘導放射能の計算書!$B$34&照射試料の誘導放射能の計算書!$D$34),\"\")","v":""},{"$f":"IF($K192=照射試料の誘導放射能の計算書!$B$35&照射試料の誘導放射能の計算書!$D$35,COUNTIF($K192:$K450,照射試料の誘導放射能の計算書!$B$35&照射試料の誘導放射能の計算書!$D$35),\"\")","v":""},{"$f":"IF($K192=照射試料の誘導放射能の計算書!$B$36&照射試料の誘導放射能の計算書!$D$36,COUNTIF($K192:$K450,照射試料の誘導放射能の計算書!$B$36&照射試料の誘導放射能の計算書!$D$36),\"\")","v":""},{"$f":"IF($K192=照射試料の誘導放射能の計算書!$B$37&照射試料の誘導放射能の計算書!$D$37,COUNTIF($K192:$K450,照射試料の誘導放射能の計算書!$B$37&照射試料の誘導放射能の計算書!$D$37),\"\")","v":""},{"$f":"IF($K192=照射試料の誘導放射能の計算書!$B$38&照射試料の誘導放射能の計算書!$D$38,COUNTIF($K192:$K450,照射試料の誘導放射能の計算書!$B$38&照射試料の誘導放射能の計算書!$D$38),\"\")","v":""},{"$f":"IF($K192=照射試料の誘導放射能の計算書!$B$39&照射試料の誘導放射能の計算書!$D$39,COUNTIF($K192:$K450,照射試料の誘導放射能の計算書!$B$39&照射試料の誘導放射能の計算書!$D$39),\"\")","v":""},{"$f":"IF($K192=照射試料の誘導放射能の計算書!$B$40&照射試料の誘導放射能の計算書!$D$40,COUNTIF($K192:$K450,照射試料の誘導放射能の計算書!$B$40&照射試料の誘導放射能の計算書!$D$40),\"\")","v":""},"Gd-153","(n,γ)Gd-153",1100,239.47,"d"]
[64,null,"Gd",158,"Gd-158",24.84,"(n,γ)","Gd159","Gd","159","Gd-158(n,γ)",{"$f":"IF($K193=照射試料の誘導放射能の計算書!$B$31&照射試料の誘導放射能の計算書!$D$31,COUNTIF($K193:$K451,照射試料の誘導放射能の計算書!$B$31&照射試料の誘導放射能の計算書!$D$31),\"\")","v":""},{"$f":"IF($K193=照射試料の誘導放射能の計算書!$B$32&照射試料の誘導放射能の計算書!$D$32,COUNTIF($K193:$K451,照射試料の誘導放射能の計算書!$B$32&照射試料の誘導放射能の計算書!$D$32),\"\")","v":""},{"$f":"IF($K193=照射試料の誘導放射能の計算書!$B$33&照射試料の誘導放射能の計算書!$D$33,COUNTIF($K193:$K451,照射試料の誘導放射能の計算書!$B$33&照射試料の誘導放射能の計算書!$D$33),\"\")","v":""},{"$f":"IF($K193=照射試料の誘導放射能の計算書!$B$34&照射試料の誘導放射能の計算書!$D$34,COUNTIF($K193:$K451,照射試料の誘導放射能の計算書!$B$34&照射試料の誘導放射能の計算書!$D$34),\"\")","v":""},{"$f":"IF($K193=照射試料の誘導放射能の計算書!$B$35&照射試料の誘導放射能の計算書!$D$35,COUNTIF($K193:$K451,照射試料の誘導放射能の計算書!$B$35&照射試料の誘導放射能の計算書!$D$35),\"\")","v":""},{"$f":"IF($K193=照射試料の誘導放射能の計算書!$B$36&照射試料の誘導放射能の計算書!$D$36,COUNTIF($K193:$K451,照射試料の誘導放射能の計算書!$B$36&照射試料の誘導放射能の計算書!$D$36),\"\")","v":""},{"$f":"IF($K193=照射試料の誘導放射能の計算書!$B$37&照射試料の誘導放射能の計算書!$D$37,COUNTIF($K193:$K451,照射試料の誘導放射能の計算書!$B$37&照射試料の誘導放射能の計算書!$D$37),\"\")","v":""},{"$f":"IF($K193=照射試料の誘導放射能の計算書!$B$38&照射試料の誘導放射能の計算書!$D$38,COUNTIF($K193:$K451,照射試料の誘導放射能の計算書!$B$38&照射試料の誘導放射能の計算書!$D$38),\"\")","v":""},{"$f":"IF($K193=照射試料の誘導放射能の計算書!$B$39&照射試料の誘導放射能の計算書!$D$39,COUNTIF($K193:$K451,照射試料の誘導放射能の計算書!$B$39&照射試料の誘導放射能の計算書!$D$39),\"\")","v":""},{"$f":"IF($K193=照射試料の誘導放射能の計算書!$B$40&照射試料の誘導放射能の計算書!$D$40,COUNTIF($K193:$K451,照射試料の誘導放射能の計算書!$B$40&照射試料の誘導放射能の計算書!$D$40),\"\")","v":""},"Gd-159","(n,γ)Gd-159",2.5,18.48,"h"]
[64,null,"Gd",160,"Gd-160",21.86,"(n,γ)","Gd161",{"$f":"LEFT(H194,2)","v":"Gd"},"161","Gd-160(n,γ)",{"$f":"IF($K194=照射試料の誘導放射能の計算書!$B$31&照射試料の誘導放射能の計算書!$D$31,COUNTIF($K194:$K452,照射試料の誘導放射能の計算書!$B$31&照射試料の誘導放射能の計算書!$D$31),\"\")","v":""},{"$f":"IF($K194=照射試料の誘導放射能の計算書!$B$32&照射試料の誘導放射能の計算書!$D$32,COUNTIF($K194:$K452,照射試料の誘導放射能の計算書!$B$32&照射試料の誘導放射能の計算書!$D$32),\"\")","v":""},{"$f":"IF($K194=照射試料の誘導放射能の計算書!$B$33&照射試料の誘導放射能の計算書!$D$33,COUNTIF($K194:$K452,照射試料の誘導放射能の計算書!$B$33&照射試料の誘導放射能の計算書!$D$33),\"\")","v":""},{"$f":"IF($K194=照射試料の誘導放射能の計算書!$B$34&照射試料の誘導放射能の計算書!$D$34,COUNTIF($K194:$K452,照射試料の誘導放射能の計算書!$B$34&照射試料の誘導放射能の計算書!$D$34),\"\")","v":""},{"$f":"IF($K194=照射試料の誘導放射能の計算書!$B$35&照射試料の誘導放射能の計算書!$D$35,COUNTIF($K194:$K452,照射試料の誘導放射能の計算書!$B$35&照射試料の誘導放射能の計算書!$D$35),\"\")","v":""},{"$f":"IF($K194=照射試料の誘導放射能の計算書!$B$36&照射試料の誘導放射能の計算書!$D$36,COUNTIF($K194:$K452,照射試料の誘導放射能の計算書!$B$36&照射試料の誘導放射能の計算書!$D$36),\"\")","v":""},{"$f":"IF($K194=照射試料の誘導放射能の計算書!$B$37&照射試料の誘導放射能の計算書!$D$37,COUNTIF($K194:$K452,照射試料の誘導放射能の計算書!$B$37&照射試料の誘導放射能の計算書!$D$37),\"\")","v":""},{"$f":"IF($K194=照射試料の誘導放射能の計算書!$B$38&照射試料の誘導放射能の計算書!$D$38,COUNTIF($K194:$K452,照射試料の誘導放射能の計算書!$B$38&照射試料の誘導放射能の計算書!$D$38),\"\")","v":""},{"$f":"IF($K194=照射試料の誘導放射能の計算書!$B$39&照射試料の誘導放射能の計算書!$D$39,COUNTIF($K194:$K452,照射試料の誘導放射能の計算書!$B$39&照射試料の誘導放射能の計算書!$D$39),\"\")","v":""},{"$f":"IF($K194=照射試料の誘導放射能の計算書!$B$40&照射試料の誘導放射能の計算書!$D$40,COUNTIF($K194:$K452,照射試料の誘導放射能の計算書!$B$40&照射試料の誘導放射能の計算書!$D$40),\"\")","v":""},"Gd-161","(n,γ)Gd-161",0.77,3.66,"min"]
[65,null,"Tb",159,{"$f":"CONCATENATE(C195,\"-\",D195)","v":"Tb-159"},100,{"$f":"IF(C195=I195,\"(n,γ)\",\"(n,p)\")","v":"(n,γ)"},"Tb160","Tb","160","Tb-159(n,γ)",{"$f":"IF($K195=照射試料の誘導放射能の計算書!$B$31&照射試料の誘導放射能の計算書!$D$31,COUNTIF($K195:$K453,照射試料の誘導放射能の計算書!$B$31&照射試料の誘導放射能の計算書!$D$31),\"\")","v":""},{"$f":"IF($K195=照射試料の誘導放射能の計算書!$B$32&照射試料の誘導放射能の計算書!$D$32,COUNTIF($K195:$K453,照射試料の誘導放射能の計算書!$B$32&照射試料の誘導放射能の計算書!$D$32),\"\")","v":""},{"$f":"IF($K195=照射試料の誘導放射能の計算書!$B$33&照射試料の誘導放射能の計算書!$D$33,COUNTIF($K195:$K453,照射試料の誘導放射能の計算書!$B$33&照射試料の誘導放射能の計算書!$D$33),\"\")","v":""},{"$f":"IF($K195=照射試料の誘導放射能の計算書!$B$34&照射試料の誘導放射能の計算書!$D$34,COUNTIF($K195:$K453,照射試料の誘導放射能の計算書!$B$34&照射試料の誘導放射能の計算書!$D$34),\"\")","v":""},{"$f":"IF($K195=照射試料の誘導放射能の計算書!$B$35&照射試料の誘導放射能の計算書!$D$35,COUNTIF($K195:$K453,照射試料の誘導放射能の計算書!$B$35&照射試料の誘導放射能の計算書!$D$35),\"\")","v":""},{"$f":"IF($K195=照射試料の誘導放射能の計算書!$B$36&照射試料の誘導放射能の計算書!$D$36,COUNTIF($K195:$K453,照射試料の誘導放射能の計算書!$B$36&照射試料の誘導放射能の計算書!$D$36),\"\")","v":""},{"$f":"IF($K195=照射試料の誘導放射能の計算書!$B$37&照射試料の誘導放射能の計算書!$D$37,COUNTIF($K195:$K453,照射試料の誘導放射能の計算書!$B$37&照射試料の誘導放射能の計算書!$D$37),\"\")","v":""},{"$f":"IF($K195=照射試料の誘導放射能の計算書!$B$38&照射試料の誘導放射能の計算書!$D$38,COUNTIF($K195:$K453,照射試料の誘導放射能の計算書!$B$38&照射試料の誘導放射能の計算書!$D$38),\"\")","v":""},{"$f":"IF($K195=照射試料の誘導放射能の計算書!$B$39&照射試料の誘導放射能の計算書!$D$39,COUNTIF($K195:$K453,照射試料の誘導放射能の計算書!$B$39&照射試料の誘導放射能の計算書!$D$39),\"\")","v":""},{"$f":"IF($K195=照射試料の誘導放射能の計算書!$B$40&照射試料の誘導放射能の計算書!$D$40,COUNTIF($K195:$K453,照射試料の誘導放射能の計算書!$B$40&照射試料の誘導放射能の計算書!$D$40),\"\")","v":""},{"$f":"CONCATENATE(I195,\"-\",J195)","v":"Tb-160"},{"$f":"G195&V195","v":"(n,γ)Tb-160"},25.5,72.3,"d"]
[66,null,"Dy",156,"Dy-156",0.06,"(n,γ)","Dy157","Dy","157",{"$f":"E196&G196","v":"Dy-156(n,γ)"},{"$f":"IF($K196=照射試料の誘導放射能の計算書!$B$31&照射試料の誘導放射能の計算書!$D$31,COUNTIF($K196:$K454,照射試料の誘導放射能の計算書!$B$31&照射試料の誘導放射能の計算書!$D$31),\"\")","v":""},{"$f":"IF($K196=照射試料の誘導放射能の計算書!$B$32&照射試料の誘導放射能の計算書!$D$32,COUNTIF($K196:$K454,照射試料の誘導放射能の計算書!$B$32&照射試料の誘導放射能の計算書!$D$32),\"\")","v":""},{"$f":"IF($K196=照射試料の誘導放射能の計算書!$B$33&照射試料の誘導放射能の計算書!$D$33,COUNTIF($K196:$K454,照射試料の誘導放射能の計算書!$B$33&照射試料の誘導放射能の計算書!$D$33),\"\")","v":""},{"$f":"IF($K196=照射試料の誘導放射能の計算書!$B$34&照射試料の誘導放射能の計算書!$D$34,COUNTIF($K196:$K454,照射試料の誘導放射能の計算書!$B$34&照射試料の誘導放射能の計算書!$D$34),\"\")","v":""},{"$f":"IF($K196=照射試料の誘導放射能の計算書!$B$35&照射試料の誘導放射能の計算書!$D$35,COUNTIF($K196:$K454,照射試料の誘導放射能の計算書!$B$35&照射試料の誘導放射能の計算書!$D$35),\"\")","v":""},{"$f":"IF($K196=照射試料の誘導放射能の計算書!$B$36&照射試料の誘導放射能の計算書!$D$36,COUNTIF($K196:$K454,照射試料の誘導放射能の計算書!$B$36&照射試料の誘導放射能の計算書!$D$36),\"\")","v":""},{"$f":"IF($K196=照射試料の誘導放射能の計算書!$B$37&照射試料の誘導放射能の計算書!$D$37,COUNTIF($K196:$K454,照射試料の誘導放射能の計算書!$B$37&照射試料の誘導放射能の計算書!$D$37),\"\")","v":""},{"$f":"IF($K196=照射試料の誘導放射能の計算書!$B$38&照射試料の誘導放射能の計算書!$D$38,COUNTIF($K196:$K454,照射試料の誘導放射能の計算書!$B$38&照射試料の誘導放射能の計算書!$D$38),\"\")","v":""},{"$f":"IF($K196=照射試料の誘導放射能の計算書!$B$39&照射試料の誘導放射能の計算書!$D$39,COUNTIF($K196:$K454,照射試料の誘導放射能の計算書!$B$39&照射試料の誘導放射能の計算書!$D$39),\"\")","v":""},{"$f":"IF($K196=照射試料の誘導放射能の計算書!$B$40&照射試料の誘導放射能の計算書!$D$40,COUNTIF($K196:$K454,照射試料の誘導放射能の計算書!$B$40&照射試料の誘導放射能の計算書!$D$40),\"\")","v":""},"Dy-157","(n,γ)Dy-157",33,8.1,"h"]
[66,null,"Dy",158,"Dy-158",0.1,"(n,γ)","Dy159","Dy","159","Dy-158(n,γ)",{"$f":"IF($K197=照射試料の誘導放射能の計算書!$B$31&照射試料の誘導放射能の計算書!$D$31,COUNTIF($K197:$K455,照射試料の誘導放射能の計算書!$B$31&照射試料の誘導放射能の計算書!$D$31),\"\")","v":""},{"$f":"IF($K197=照射試料の誘導放射能の計算書!$B$32&照射試料の誘導放射能の計算書!$D$32,COUNTIF($K197:$K455,照射試料の誘導放射能の計算書!$B$32&照射試料の誘導放射能の計算書!$D$32),\"\")","v":""},{"$f":"IF($K197=照射試料の誘導放射能の計算書!$B$33&照射試料の誘導放射能の計算書!$D$33,COUNTIF($K197:$K455,照射試料の誘導放射能の計算書!$B$33&照射試料の誘導放射能の計算書!$D$33),\"\")","v":""},{"$f":"IF($K197=照射試料の誘導放射能の計算書!$B$34&照射試料の誘導放射能の計算書!$D$34,COUNTIF($K197:$K455,照射試料の誘導放射能の計算書!$B$34&照射試料の誘導放射能の計算書!$D$34),\"\")","v":""},{"$f":"IF($K197=照射試料の誘導放射能の計算書!$B$35&照射試料の誘導放射能の計算書!$D$35,COUNTIF($K197:$K455,照射試料の誘導放射能の計算書!$B$35&照射試料の誘導放射能の計算書!$D$35),\"\")","v":""},{"$f":"IF($K197=照射試料の誘導放射能の計算書!$B$36&照射試料の誘導放射能の計算書!$D$36,COUNTIF($K197:$K455,照射試料の誘導放射能の計算書!$B$36&照射試料の誘導放射能の計算書!$D$36),\"\")","v":""},{"$f":"IF($K197=照射試料の誘導放射能の計算書!$B$37&照射試料の誘導放射能の計算書!$D$37,COUNTIF($K197:$K455,照射試料の誘導放射能の計算書!$B$37&照射試料の誘導放射能の計算書!$D$37),\"\")","v":""},{"$f":"IF($K197=照射試料の誘導放射能の計算書!$B$38&照射試料の誘導放射能の計算書!$D$38,COUNTIF($K197:$K455,照射試料の誘導放射能の計算書!$B$38&照射試料の誘導放射能の計算書!$D$38),\"\")","v":""},{"$f":"IF($K197=照射試料の誘導放射能の計算書!$B$39&照射試料の誘導放射能の計算書!$D$39,COUNTIF($K197:$K455,照射試料の誘導放射能の計算書!$B$39&照射試料の誘導放射能の計算書!$D$39),\"\")","v":""},{"$f":"IF($K197=照射試料の誘導放射能の計算書!$B$40&照射試料の誘導放射能の計算書!$D$40,COUNTIF($K197:$K455,照射試料の誘導放射能の計算書!$B$40&照射試料の誘導放射能の計算書!$D$40),\"\")","v":""},"Dy-159","(n,γ)Dy-159",43,144.4,"d"]
[66,null,"Dy",164,"Dy-164",28.2,"(n,γ)","Dy165","Dy","165","Dy-164(n,γ)",{"$f":"IF($K198=照射試料の誘導放射能の計算書!$B$31&照射試料の誘導放射能の計算書!$D$31,COUNTIF($K198:$K456,照射試料の誘導放射能の計算書!$B$31&照射試料の誘導放射能の計算書!$D$31),\"\")","v":""},{"$f":"IF($K198=照射試料の誘導放射能の計算書!$B$32&照射試料の誘導放射能の計算書!$D$32,COUNTIF($K198:$K456,照射試料の誘導放射能の計算書!$B$32&照射試料の誘導放射能の計算書!$D$32),\"\")","v":""},{"$f":"IF($K198=照射試料の誘導放射能の計算書!$B$33&照射試料の誘導放射能の計算書!$D$33,COUNTIF($K198:$K456,照射試料の誘導放射能の計算書!$B$33&照射試料の誘導放射能の計算書!$D$33),\"\")","v":""},{"$f":"IF($K198=照射試料の誘導放射能の計算書!$B$34&照射試料の誘導放射能の計算書!$D$34,COUNTIF($K198:$K456,照射試料の誘導放射能の計算書!$B$34&照射試料の誘導放射能の計算書!$D$34),\"\")","v":""},{"$f":"IF($K198=照射試料の誘導放射能の計算書!$B$35&照射試料の誘導放射能の計算書!$D$35,COUNTIF($K198:$K456,照射試料の誘導放射能の計算書!$B$35&照射試料の誘導放射能の計算書!$D$35),\"\")","v":""},{"$f":"IF($K198=照射試料の誘導放射能の計算書!$B$36&照射試料の誘導放射能の計算書!$D$36,COUNTIF($K198:$K456,照射試料の誘導放射能の計算書!$B$36&照射試料の誘導放射能の計算書!$D$36),\"\")","v":""},{"$f":"IF($K198=照射試料の誘導放射能の計算書!$B$37&照射試料の誘導放射能の計算書!$D$37,COUNTIF($K198:$K456,照射試料の誘導放射能の計算書!$B$37&照射試料の誘導放射能の計算書!$D$37),\"\")","v":""},{"$f":"IF($K198=照射試料の誘導放射能の計算書!$B$38&照射試料の誘導放射能の計算書!$D$38,COUNTIF($K198:$K456,照射試料の誘導放射能の計算書!$B$38&照射試料の誘導放射能の計算書!$D$38),\"\")","v":""},{"$f":"IF($K198=照射試料の誘導放射能の計算書!$B$39&照射試料の誘導放射能の計算書!$D$39,COUNTIF($K198:$K456,照射試料の誘導放射能の計算書!$B$39&照射試料の誘導放射能の計算書!$D$39),\"\")","v":""},{"$f":"IF($K198=照射試料の誘導放射能の計算書!$B$40&照射試料の誘導放射能の計算書!$D$40,COUNTIF($K198:$K456,照射試料の誘導放射能の計算書!$B$40&照射試料の誘導放射能の計算書!$D$40),\"\")","v":""},"Dy-165","(n,γ)Dy-165",1000,2.35,"h"]
[66,null,"Dy",164,"Dy-164",28.2,"(n,γ)","Dy165m","Dy",{"$f":"RIGHT(H199,4)","v":"165m"},"Dy-164(n,γ)",{"$f":"IF($K199=照射試料の誘導放射能の計算書!$B$31&照射試料の誘導放射能の計算書!$D$31,COUNTIF($K199:$K457,照射試料の誘導放射能の計算書!$B$31&照射試料の誘導放射能の計算書!$D$31),\"\")","v":""},{"$f":"IF($K199=照射試料の誘導放射能の計算書!$B$32&照射試料の誘導放射能の計算書!$D$32,COUNTIF($K199:$K457,照射試料の誘導放射能の計算書!$B$32&照射試料の誘導放射能の計算書!$D$32),\"\")","v":""},{"$f":"IF($K199=照射試料の誘導放射能の計算書!$B$33&照射試料の誘導放射能の計算書!$D$33,COUNTIF($K199:$K457,照射試料の誘導放射能の計算書!$B$33&照射試料の誘導放射能の計算書!$D$33),\"\")","v":""},{"$f":"IF($K199=照射試料の誘導放射能の計算書!$B$34&照射試料の誘導放射能の計算書!$D$34,COUNTIF($K199:$K457,照射試料の誘導放射能の計算書!$B$34&照射試料の誘導放射能の計算書!$D$34),\"\")","v":""},{"$f":"IF($K199=照射試料の誘導放射能の計算書!$B$35&照射試料の誘導放射能の計算書!$D$35,COUNTIF($K199:$K457,照射試料の誘導放射能の計算書!$B$35&照射試料の誘導放射能の計算書!$D$35),\"\")","v":""},{"$f":"IF($K199=照射試料の誘導放射能の計算書!$B$36&照射試料の誘導放射能の計算書!$D$36,COUNTIF($K199:$K457,照射試料の誘導放射能の計算書!$B$36&照射試料の誘導放射能の計算書!$D$36),\"\")","v":""},{"$f":"IF($K199=照射試料の誘導放射能の計算書!$B$37&照射試料の誘導放射能の計算書!$D$37,COUNTIF($K199:$K457,照射試料の誘導放射能の計算書!$B$37&照射試料の誘導放射能の計算書!$D$37),\"\")","v":""},{"$f":"IF($K199=照射試料の誘導放射能の計算書!$B$38&照射試料の誘導放射能の計算書!$D$38,COUNTIF($K199:$K457,照射試料の誘導放射能の計算書!$B$38&照射試料の誘導放射能の計算書!$D$38),\"\")","v":""},{"$f":"IF($K199=照射試料の誘導放射能の計算書!$B$39&照射試料の誘導放射能の計算書!$D$39,COUNTIF($K199:$K457,照射試料の誘導放射能の計算書!$B$39&照射試料の誘導放射能の計算書!$D$39),\"\")","v":""},{"$f":"IF($K199=照射試料の誘導放射能の計算書!$B$40&照射試料の誘導放射能の計算書!$D$40,COUNTIF($K199:$K457,照射試料の誘導放射能の計算書!$B$40&照射試料の誘導放射能の計算書!$D$40),\"\")","v":""},"Dy-165m","(n,γ)Dy-165m",1700,1.3,"min"]
[67,null,"Ho",165,"Ho-165",100,"(n,γ)","Ho166","Ho",{"$f":"RIGHT(H200,3)","v":"166"},"Ho-165(n,γ)",{"$f":"IF($K200=照射試料の誘導放射能の計算書!$B$31&照射試料の誘導放射能の計算書!$D$31,COUNTIF($K200:$K458,照射試料の誘導放射能の計算書!$B$31&照射試料の誘導放射能の計算書!$D$31),\"\")","v":""},{"$f":"IF($K200=照射試料の誘導放射能の計算書!$B$32&照射試料の誘導放射能の計算書!$D$32,COUNTIF($K200:$K458,照射試料の誘導放射能の計算書!$B$32&照射試料の誘導放射能の計算書!$D$32),\"\")","v":""},{"$f":"IF($K200=照射試料の誘導放射能の計算書!$B$33&照射試料の誘導放射能の計算書!$D$33,COUNTIF($K200:$K458,照射試料の誘導放射能の計算書!$B$33&照射試料の誘導放射能の計算書!$D$33),\"\")","v":""},{"$f":"IF($K200=照射試料の誘導放射能の計算書!$B$34&照射試料の誘導放射能の計算書!$D$34,COUNTIF($K200:$K458,照射試料の誘導放射能の計算書!$B$34&照射試料の誘導放射能の計算書!$D$34),\"\")","v":""},{"$f":"IF($K200=照射試料の誘導放射能の計算書!$B$35&照射試料の誘導放射能の計算書!$D$35,COUNTIF($K200:$K458,照射試料の誘導放射能の計算書!$B$35&照射試料の誘導放射能の計算書!$D$35),\"\")","v":""},{"$f":"IF($K200=照射試料の誘導放射能の計算書!$B$36&照射試料の誘導放射能の計算書!$D$36,COUNTIF($K200:$K458,照射試料の誘導放射能の計算書!$B$36&照射試料の誘導放射能の計算書!$D$36),\"\")","v":""},{"$f":"IF($K200=照射試料の誘導放射能の計算書!$B$37&照射試料の誘導放射能の計算書!$D$37,COUNTIF($K200:$K458,照射試料の誘導放射能の計算書!$B$37&照射試料の誘導放射能の計算書!$D$37),\"\")","v":""},{"$f":"IF($K200=照射試料の誘導放射能の計算書!$B$38&照射試料の誘導放射能の計算書!$D$38,COUNTIF($K200:$K458,照射試料の誘導放射能の計算書!$B$38&照射試料の誘導放射能の計算書!$D$38),\"\")","v":""},{"$f":"IF($K200=照射試料の誘導放射能の計算書!$B$39&照射試料の誘導放射能の計算書!$D$39,COUNTIF($K200:$K458,照射試料の誘導放射能の計算書!$B$39&照射試料の誘導放射能の計算書!$D$39),\"\")","v":""},{"$f":"IF($K200=照射試料の誘導放射能の計算書!$B$40&照射試料の誘導放射能の計算書!$D$40,COUNTIF($K200:$K458,照射試料の誘導放射能の計算書!$B$40&照射試料の誘導放射能の計算書!$D$40),\"\")","v":""},"Ho-166","(n,γ)Ho-166",63,26.8,"h"]
[67,null,"Ho",165,"Ho-165",100,"(n,γ)","Ho166m","Ho",{"$f":"RIGHT(H201,4)","v":"166m"},"Ho-165(n,γ)",{"$f":"IF($K201=照射試料の誘導放射能の計算書!$B$31&照射試料の誘導放射能の計算書!$D$31,COUNTIF($K201:$K459,照射試料の誘導放射能の計算書!$B$31&照射試料の誘導放射能の計算書!$D$31),\"\")","v":""},{"$f":"IF($K201=照射試料の誘導放射能の計算書!$B$32&照射試料の誘導放射能の計算書!$D$32,COUNTIF($K201:$K459,照射試料の誘導放射能の計算書!$B$32&照射試料の誘導放射能の計算書!$D$32),\"\")","v":""},{"$f":"IF($K201=照射試料の誘導放射能の計算書!$B$33&照射試料の誘導放射能の計算書!$D$33,COUNTIF($K201:$K459,照射試料の誘導放射能の計算書!$B$33&照射試料の誘導放射能の計算書!$D$33),\"\")","v":""},{"$f":"IF($K201=照射試料の誘導放射能の計算書!$B$34&照射試料の誘導放射能の計算書!$D$34,COUNTIF($K201:$K459,照射試料の誘導放射能の計算書!$B$34&照射試料の誘導放射能の計算書!$D$34),\"\")","v":""},{"$f":"IF($K201=照射試料の誘導放射能の計算書!$B$35&照射試料の誘導放射能の計算書!$D$35,COUNTIF($K201:$K459,照射試料の誘導放射能の計算書!$B$35&照射試料の誘導放射能の計算書!$D$35),\"\")","v":""},{"$f":"IF($K201=照射試料の誘導放射能の計算書!$B$36&照射試料の誘導放射能の計算書!$D$36,COUNTIF($K201:$K459,照射試料の誘導放射能の計算書!$B$36&照射試料の誘導放射能の計算書!$D$36),\"\")","v":""},{"$f":"IF($K201=照射試料の誘導放射能の計算書!$B$37&照射試料の誘導放射能の計算書!$D$37,COUNTIF($K201:$K459,照射試料の誘導放射能の計算書!$B$37&照射試料の誘導放射能の計算書!$D$37),\"\")","v":""},{"$f":"IF($K201=照射試料の誘導放射能の計算書!$B$38&照射試料の誘導放射能の計算書!$D$38,COUNTIF($K201:$K459,照射試料の誘導放射能の計算書!$B$38&照射試料の誘導放射能の計算書!$D$38),\"\")","v":""},{"$f":"IF($K201=照射試料の誘導放射能の計算書!$B$39&照射試料の誘導放射能の計算書!$D$39,COUNTIF($K201:$K459,照射試料の誘導放射能の計算書!$B$39&照射試料の誘導放射能の計算書!$D$39),\"\")","v":""},{"$f":"IF($K201=照射試料の誘導放射能の計算書!$B$40&照射試料の誘導放射能の計算書!$D$40,COUNTIF($K201:$K459,照射試料の誘導放射能の計算書!$B$40&照射試料の誘導放射能の計算書!$D$40),\"\")","v":""},"Ho-166m","(n,γ)Ho-166m",3.5,1200,"y"]
[68,null,"Er",162,"Er-162",0.14000000000000001,"(n,γ)","Er163","Er",{"$f":"RIGHT(H202,3)","v":"163"},"Er-162(n,γ)",{"$f":"IF($K202=照射試料の誘導放射能の計算書!$B$31&照射試料の誘導放射能の計算書!$D$31,COUNTIF($K202:$K460,照射試料の誘導放射能の計算書!$B$31&照射試料の誘導放射能の計算書!$D$31),\"\")","v":""},{"$f":"IF($K202=照射試料の誘導放射能の計算書!$B$32&照射試料の誘導放射能の計算書!$D$32,COUNTIF($K202:$K460,照射試料の誘導放射能の計算書!$B$32&照射試料の誘導放射能の計算書!$D$32),\"\")","v":""},{"$f":"IF($K202=照射試料の誘導放射能の計算書!$B$33&照射試料の誘導放射能の計算書!$D$33,COUNTIF($K202:$K460,照射試料の誘導放射能の計算書!$B$33&照射試料の誘導放射能の計算書!$D$33),\"\")","v":""},{"$f":"IF($K202=照射試料の誘導放射能の計算書!$B$34&照射試料の誘導放射能の計算書!$D$34,COUNTIF($K202:$K460,照射試料の誘導放射能の計算書!$B$34&照射試料の誘導放射能の計算書!$D$34),\"\")","v":""},{"$f":"IF($K202=照射試料の誘導放射能の計算書!$B$35&照射試料の誘導放射能の計算書!$D$35,COUNTIF($K202:$K460,照射試料の誘導放射能の計算書!$B$35&照射試料の誘導放射能の計算書!$D$35),\"\")","v":""},{"$f":"IF($K202=照射試料の誘導放射能の計算書!$B$36&照射試料の誘導放射能の計算書!$D$36,COUNTIF($K202:$K460,照射試料の誘導放射能の計算書!$B$36&照射試料の誘導放射能の計算書!$D$36),\"\")","v":""},{"$f":"IF($K202=照射試料の誘導放射能の計算書!$B$37&照射試料の誘導放射能の計算書!$D$37,COUNTIF($K202:$K460,照射試料の誘導放射能の計算書!$B$37&照射試料の誘導放射能の計算書!$D$37),\"\")","v":""},{"$f":"IF($K202=照射試料の誘導放射能の計算書!$B$38&照射試料の誘導放射能の計算書!$D$38,COUNTIF($K202:$K460,照射試料の誘導放射能の計算書!$B$38&照射試料の誘導放射能の計算書!$D$38),\"\")","v":""},{"$f":"IF($K202=照射試料の誘導放射能の計算書!$B$39&照射試料の誘導放射能の計算書!$D$39,COUNTIF($K202:$K460,照射試料の誘導放射能の計算書!$B$39&照射試料の誘導放射能の計算書!$D$39),\"\")","v":""},{"$f":"IF($K202=照射試料の誘導放射能の計算書!$B$40&照射試料の誘導放射能の計算書!$D$40,COUNTIF($K202:$K460,照射試料の誘導放射能の計算書!$B$40&照射試料の誘導放射能の計算書!$D$40),\"\")","v":""},"Er-163","(n,γ)Er-163",19,75,"min"]
[68,null,"Er",164,"Er-164",1.61,"(n,γ)","Er165","Er",{"$f":"RIGHT(H203,3)","v":"165"},"Er-164(n,γ)",{"$f":"IF($K203=照射試料の誘導放射能の計算書!$B$31&照射試料の誘導放射能の計算書!$D$31,COUNTIF($K203:$K461,照射試料の誘導放射能の計算書!$B$31&照射試料の誘導放射能の計算書!$D$31),\"\")","v":""},{"$f":"IF($K203=照射試料の誘導放射能の計算書!$B$32&照射試料の誘導放射能の計算書!$D$32,COUNTIF($K203:$K461,照射試料の誘導放射能の計算書!$B$32&照射試料の誘導放射能の計算書!$D$32),\"\")","v":""},{"$f":"IF($K203=照射試料の誘導放射能の計算書!$B$33&照射試料の誘導放射能の計算書!$D$33,COUNTIF($K203:$K461,照射試料の誘導放射能の計算書!$B$33&照射試料の誘導放射能の計算書!$D$33),\"\")","v":""},{"$f":"IF($K203=照射試料の誘導放射能の計算書!$B$34&照射試料の誘導放射能の計算書!$D$34,COUNTIF($K203:$K461,照射試料の誘導放射能の計算書!$B$34&照射試料の誘導放射能の計算書!$D$34),\"\")","v":""},{"$f":"IF($K203=照射試料の誘導放射能の計算書!$B$35&照射試料の誘導放射能の計算書!$D$35,COUNTIF($K203:$K461,照射試料の誘導放射能の計算書!$B$35&照射試料の誘導放射能の計算書!$D$35),\"\")","v":""},{"$f":"IF($K203=照射試料の誘導放射能の計算書!$B$36&照射試料の誘導放射能の計算書!$D$36,COUNTIF($K203:$K461,照射試料の誘導放射能の計算書!$B$36&照射試料の誘導放射能の計算書!$D$36),\"\")","v":""},{"$f":"IF($K203=照射試料の誘導放射能の計算書!$B$37&照射試料の誘導放射能の計算書!$D$37,COUNTIF($K203:$K461,照射試料の誘導放射能の計算書!$B$37&照射試料の誘導放射能の計算書!$D$37),\"\")","v":""},{"$f":"IF($K203=照射試料の誘導放射能の計算書!$B$38&照射試料の誘導放射能の計算書!$D$38,COUNTIF($K203:$K461,照射試料の誘導放射能の計算書!$B$38&照射試料の誘導放射能の計算書!$D$38),\"\")","v":""},{"$f":"IF($K203=照射試料の誘導放射能の計算書!$B$39&照射試料の誘導放射能の計算書!$D$39,COUNTIF($K203:$K461,照射試料の誘導放射能の計算書!$B$39&照射試料の誘導放射能の計算書!$D$39),\"\")","v":""},{"$f":"IF($K203=照射試料の誘導放射能の計算書!$B$40&照射試料の誘導放射能の計算書!$D$40,COUNTIF($K203:$K461,照射試料の誘導放射能の計算書!$B$40&照射試料の誘導放射能の計算書!$D$40),\"\")","v":""},"Er-165","(n,γ)Er-165",13,10.3,"h"]
[68,null,"Er",166,"Er-166",33.6,"(n,γ)","Er167m","Er",{"$f":"RIGHT(H204,4)","v":"167m"},"Er-166(n,γ)",{"$f":"IF($K204=照射試料の誘導放射能の計算書!$B$31&照射試料の誘導放射能の計算書!$D$31,COUNTIF($K204:$K462,照射試料の誘導放射能の計算書!$B$31&照射試料の誘導放射能の計算書!$D$31),\"\")","v":""},{"$f":"IF($K204=照射試料の誘導放射能の計算書!$B$32&照射試料の誘導放射能の計算書!$D$32,COUNTIF($K204:$K462,照射試料の誘導放射能の計算書!$B$32&照射試料の誘導放射能の計算書!$D$32),\"\")","v":""},{"$f":"IF($K204=照射試料の誘導放射能の計算書!$B$33&照射試料の誘導放射能の計算書!$D$33,COUNTIF($K204:$K462,照射試料の誘導放射能の計算書!$B$33&照射試料の誘導放射能の計算書!$D$33),\"\")","v":""},{"$f":"IF($K204=照射試料の誘導放射能の計算書!$B$34&照射試料の誘導放射能の計算書!$D$34,COUNTIF($K204:$K462,照射試料の誘導放射能の計算書!$B$34&照射試料の誘導放射能の計算書!$D$34),\"\")","v":""},{"$f":"IF($K204=照射試料の誘導放射能の計算書!$B$35&照射試料の誘導放射能の計算書!$D$35,COUNTIF($K204:$K462,照射試料の誘導放射能の計算書!$B$35&照射試料の誘導放射能の計算書!$D$35),\"\")","v":""},{"$f":"IF($K204=照射試料の誘導放射能の計算書!$B$36&照射試料の誘導放射能の計算書!$D$36,COUNTIF($K204:$K462,照射試料の誘導放射能の計算書!$B$36&照射試料の誘導放射能の計算書!$D$36),\"\")","v":""},{"$f":"IF($K204=照射試料の誘導放射能の計算書!$B$37&照射試料の誘導放射能の計算書!$D$37,COUNTIF($K204:$K462,照射試料の誘導放射能の計算書!$B$37&照射試料の誘導放射能の計算書!$D$37),\"\")","v":""},{"$f":"IF($K204=照射試料の誘導放射能の計算書!$B$38&照射試料の誘導放射能の計算書!$D$38,COUNTIF($K204:$K462,照射試料の誘導放射能の計算書!$B$38&照射試料の誘導放射能の計算書!$D$38),\"\")","v":""},{"$f":"IF($K204=照射試料の誘導放射能の計算書!$B$39&照射試料の誘導放射能の計算書!$D$39,COUNTIF($K204:$K462,照射試料の誘導放射能の計算書!$B$39&照射試料の誘導放射能の計算書!$D$39),\"\")","v":""},{"$f":"IF($K204=照射試料の誘導放射能の計算書!$B$40&照射試料の誘導放射能の計算書!$D$40,COUNTIF($K204:$K462,照射試料の誘導放射能の計算書!$B$40&照射試料の誘導放射能の計算書!$D$40),\"\")","v":""},"Er-167m","(n,γ)Er-167m",15,2.2999999999999998,"s"]
[68,null,"Er",168,"Er-168",26.8,"(n,γ)","Er169","Er",{"$f":"RIGHT(H205,3)","v":"169"},"Er-168(n,γ)",{"$f":"IF($K205=照射試料の誘導放射能の計算書!$B$31&照射試料の誘導放射能の計算書!$D$31,COUNTIF($K205:$K463,照射試料の誘導放射能の計算書!$B$31&照射試料の誘導放射能の計算書!$D$31),\"\")","v":""},{"$f":"IF($K205=照射試料の誘導放射能の計算書!$B$32&照射試料の誘導放射能の計算書!$D$32,COUNTIF($K205:$K463,照射試料の誘導放射能の計算書!$B$32&照射試料の誘導放射能の計算書!$D$32),\"\")","v":""},{"$f":"IF($K205=照射試料の誘導放射能の計算書!$B$33&照射試料の誘導放射能の計算書!$D$33,COUNTIF($K205:$K463,照射試料の誘導放射能の計算書!$B$33&照射試料の誘導放射能の計算書!$D$33),\"\")","v":""},{"$f":"IF($K205=照射試料の誘導放射能の計算書!$B$34&照射試料の誘導放射能の計算書!$D$34,COUNTIF($K205:$K463,照射試料の誘導放射能の計算書!$B$34&照射試料の誘導放射能の計算書!$D$34),\"\")","v":""},{"$f":"IF($K205=照射試料の誘導放射能の計算書!$B$35&照射試料の誘導放射能の計算書!$D$35,COUNTIF($K205:$K463,照射試料の誘導放射能の計算書!$B$35&照射試料の誘導放射能の計算書!$D$35),\"\")","v":""},{"$f":"IF($K205=照射試料の誘導放射能の計算書!$B$36&照射試料の誘導放射能の計算書!$D$36,COUNTIF($K205:$K463,照射試料の誘導放射能の計算書!$B$36&照射試料の誘導放射能の計算書!$D$36),\"\")","v":""},{"$f":"IF($K205=照射試料の誘導放射能の計算書!$B$37&照射試料の誘導放射能の計算書!$D$37,COUNTIF($K205:$K463,照射試料の誘導放射能の計算書!$B$37&照射試料の誘導放射能の計算書!$D$37),\"\")","v":""},{"$f":"IF($K205=照射試料の誘導放射能の計算書!$B$38&照射試料の誘導放射能の計算書!$D$38,COUNTIF($K205:$K463,照射試料の誘導放射能の計算書!$B$38&照射試料の誘導放射能の計算書!$D$38),\"\")","v":""},{"$f":"IF($K205=照射試料の誘導放射能の計算書!$B$39&照射試料の誘導放射能の計算書!$D$39,COUNTIF($K205:$K463,照射試料の誘導放射能の計算書!$B$39&照射試料の誘導放射能の計算書!$D$39),\"\")","v":""},{"$f":"IF($K205=照射試料の誘導放射能の計算書!$B$40&照射試料の誘導放射能の計算書!$D$40,COUNTIF($K205:$K463,照射試料の誘導放射能の計算書!$B$40&照射試料の誘導放射能の計算書!$D$40),\"\")","v":""},"Er-169","(n,γ)Er-169",2,9.4,"d"]
[68,null,"Er",170,"Er-170",14.9,"(n,γ)","Er171","Er","171","Er-170(n,γ)",{"$f":"IF($K206=照射試料の誘導放射能の計算書!$B$31&照射試料の誘導放射能の計算書!$D$31,COUNTIF($K206:$K464,照射試料の誘導放射能の計算書!$B$31&照射試料の誘導放射能の計算書!$D$31),\"\")","v":""},{"$f":"IF($K206=照射試料の誘導放射能の計算書!$B$32&照射試料の誘導放射能の計算書!$D$32,COUNTIF($K206:$K464,照射試料の誘導放射能の計算書!$B$32&照射試料の誘導放射能の計算書!$D$32),\"\")","v":""},{"$f":"IF($K206=照射試料の誘導放射能の計算書!$B$33&照射試料の誘導放射能の計算書!$D$33,COUNTIF($K206:$K464,照射試料の誘導放射能の計算書!$B$33&照射試料の誘導放射能の計算書!$D$33),\"\")","v":""},{"$f":"IF($K206=照射試料の誘導放射能の計算書!$B$34&照射試料の誘導放射能の計算書!$D$34,COUNTIF($K206:$K464,照射試料の誘導放射能の計算書!$B$34&照射試料の誘導放射能の計算書!$D$34),\"\")","v":""},{"$f":"IF($K206=照射試料の誘導放射能の計算書!$B$35&照射試料の誘導放射能の計算書!$D$35,COUNTIF($K206:$K464,照射試料の誘導放射能の計算書!$B$35&照射試料の誘導放射能の計算書!$D$35),\"\")","v":""},{"$f":"IF($K206=照射試料の誘導放射能の計算書!$B$36&照射試料の誘導放射能の計算書!$D$36,COUNTIF($K206:$K464,照射試料の誘導放射能の計算書!$B$36&照射試料の誘導放射能の計算書!$D$36),\"\")","v":""},{"$f":"IF($K206=照射試料の誘導放射能の計算書!$B$37&照射試料の誘導放射能の計算書!$D$37,COUNTIF($K206:$K464,照射試料の誘導放射能の計算書!$B$37&照射試料の誘導放射能の計算書!$D$37),\"\")","v":""},{"$f":"IF($K206=照射試料の誘導放射能の計算書!$B$38&照射試料の誘導放射能の計算書!$D$38,COUNTIF($K206:$K464,照射試料の誘導放射能の計算書!$B$38&照射試料の誘導放射能の計算書!$D$38),\"\")","v":""},{"$f":"IF($K206=照射試料の誘導放射能の計算書!$B$39&照射試料の誘導放射能の計算書!$D$39,COUNTIF($K206:$K464,照射試料の誘導放射能の計算書!$B$39&照射試料の誘導放射能の計算書!$D$39),\"\")","v":""},{"$f":"IF($K206=照射試料の誘導放射能の計算書!$B$40&照射試料の誘導放射能の計算書!$D$40,COUNTIF($K206:$K464,照射試料の誘導放射能の計算書!$B$40&照射試料の誘導放射能の計算書!$D$40),\"\")","v":""},"Er-171","(n,γ)Er-171",6,7.52,"h"]
[69,null,"Tm",169,"Tm-169",100,"(n,γ)","Tm170","Tm","170","Tm-169(n,γ)",{"$f":"IF($K207=照射試料の誘導放射能の計算書!$B$31&照射試料の誘導放射能の計算書!$D$31,COUNTIF($K207:$K465,照射試料の誘導放射能の計算書!$B$31&照射試料の誘導放射能の計算書!$D$31),\"\")","v":""},{"$f":"IF($K207=照射試料の誘導放射能の計算書!$B$32&照射試料の誘導放射能の計算書!$D$32,COUNTIF($K207:$K465,照射試料の誘導放射能の計算書!$B$32&照射試料の誘導放射能の計算書!$D$32),\"\")","v":""},{"$f":"IF($K207=照射試料の誘導放射能の計算書!$B$33&照射試料の誘導放射能の計算書!$D$33,COUNTIF($K207:$K465,照射試料の誘導放射能の計算書!$B$33&照射試料の誘導放射能の計算書!$D$33),\"\")","v":""},{"$f":"IF($K207=照射試料の誘導放射能の計算書!$B$34&照射試料の誘導放射能の計算書!$D$34,COUNTIF($K207:$K465,照射試料の誘導放射能の計算書!$B$34&照射試料の誘導放射能の計算書!$D$34),\"\")","v":""},{"$f":"IF($K207=照射試料の誘導放射能の計算書!$B$35&照射試料の誘導放射能の計算書!$D$35,COUNTIF($K207:$K465,照射試料の誘導放射能の計算書!$B$35&照射試料の誘導放射能の計算書!$D$35),\"\")","v":""},{"$f":"IF($K207=照射試料の誘導放射能の計算書!$B$36&照射試料の誘導放射能の計算書!$D$36,COUNTIF($K207:$K465,照射試料の誘導放射能の計算書!$B$36&照射試料の誘導放射能の計算書!$D$36),\"\")","v":""},{"$f":"IF($K207=照射試料の誘導放射能の計算書!$B$37&照射試料の誘導放射能の計算書!$D$37,COUNTIF($K207:$K465,照射試料の誘導放射能の計算書!$B$37&照射試料の誘導放射能の計算書!$D$37),\"\")","v":""},{"$f":"IF($K207=照射試料の誘導放射能の計算書!$B$38&照射試料の誘導放射能の計算書!$D$38,COUNTIF($K207:$K465,照射試料の誘導放射能の計算書!$B$38&照射試料の誘導放射能の計算書!$D$38),\"\")","v":""},{"$f":"IF($K207=照射試料の誘導放射能の計算書!$B$39&照射試料の誘導放射能の計算書!$D$39,COUNTIF($K207:$K465,照射試料の誘導放射能の計算書!$B$39&照射試料の誘導放射能の計算書!$D$39),\"\")","v":""},{"$f":"IF($K207=照射試料の誘導放射能の計算書!$B$40&照射試料の誘導放射能の計算書!$D$40,COUNTIF($K207:$K465,照射試料の誘導放射能の計算書!$B$40&照射試料の誘導放射能の計算書!$D$40),\"\")","v":""},"Tm-170","(n,γ)Tm-170",103,128.6,"d"]
[70,null,"Yb",168,"Yb-168",0.13,"(n,γ)","Yb169","Yb","169","Yb-168(n,γ)",{"$f":"IF($K208=照射試料の誘導放射能の計算書!$B$31&照射試料の誘導放射能の計算書!$D$31,COUNTIF($K208:$K466,照射試料の誘導放射能の計算書!$B$31&照射試料の誘導放射能の計算書!$D$31),\"\")","v":""},{"$f":"IF($K208=照射試料の誘導放射能の計算書!$B$32&照射試料の誘導放射能の計算書!$D$32,COUNTIF($K208:$K466,照射試料の誘導放射能の計算書!$B$32&照射試料の誘導放射能の計算書!$D$32),\"\")","v":""},{"$f":"IF($K208=照射試料の誘導放射能の計算書!$B$33&照射試料の誘導放射能の計算書!$D$33,COUNTIF($K208:$K466,照射試料の誘導放射能の計算書!$B$33&照射試料の誘導放射能の計算書!$D$33),\"\")","v":""},{"$f":"IF($K208=照射試料の誘導放射能の計算書!$B$34&照射試料の誘導放射能の計算書!$D$34,COUNTIF($K208:$K466,照射試料の誘導放射能の計算書!$B$34&照射試料の誘導放射能の計算書!$D$34),\"\")","v":""},{"$f":"IF($K208=照射試料の誘導放射能の計算書!$B$35&照射試料の誘導放射能の計算書!$D$35,COUNTIF($K208:$K466,照射試料の誘導放射能の計算書!$B$35&照射試料の誘導放射能の計算書!$D$35),\"\")","v":""},{"$f":"IF($K208=照射試料の誘導放射能の計算書!$B$36&照射試料の誘導放射能の計算書!$D$36,COUNTIF($K208:$K466,照射試料の誘導放射能の計算書!$B$36&照射試料の誘導放射能の計算書!$D$36),\"\")","v":""},{"$f":"IF($K208=照射試料の誘導放射能の計算書!$B$37&照射試料の誘導放射能の計算書!$D$37,COUNTIF($K208:$K466,照射試料の誘導放射能の計算書!$B$37&照射試料の誘導放射能の計算書!$D$37),\"\")","v":""},{"$f":"IF($K208=照射試料の誘導放射能の計算書!$B$38&照射試料の誘導放射能の計算書!$D$38,COUNTIF($K208:$K466,照射試料の誘導放射能の計算書!$B$38&照射試料の誘導放射能の計算書!$D$38),\"\")","v":""},{"$f":"IF($K208=照射試料の誘導放射能の計算書!$B$39&照射試料の誘導放射能の計算書!$D$39,COUNTIF($K208:$K466,照射試料の誘導放射能の計算書!$B$39&照射試料の誘導放射能の計算書!$D$39),\"\")","v":""},{"$f":"IF($K208=照射試料の誘導放射能の計算書!$B$40&照射試料の誘導放射能の計算書!$D$40,COUNTIF($K208:$K466,照射試料の誘導放射能の計算書!$B$40&照射試料の誘導放射能の計算書!$D$40),\"\")","v":""},"Yb-169","(n,γ)Yb-169",3470,32,"d"]
[70,null,"Yb",174,"Yb-174",31.8,"(n,γ)","Yb175","Yb","175","Yb-174(n,γ)",{"$f":"IF($K209=照射試料の誘導放射能の計算書!$B$31&照射試料の誘導放射能の計算書!$D$31,COUNTIF($K209:$K467,照射試料の誘導放射能の計算書!$B$31&照射試料の誘導放射能の計算書!$D$31),\"\")","v":""},{"$f":"IF($K209=照射試料の誘導放射能の計算書!$B$32&照射試料の誘導放射能の計算書!$D$32,COUNTIF($K209:$K467,照射試料の誘導放射能の計算書!$B$32&照射試料の誘導放射能の計算書!$D$32),\"\")","v":""},{"$f":"IF($K209=照射試料の誘導放射能の計算書!$B$33&照射試料の誘導放射能の計算書!$D$33,COUNTIF($K209:$K467,照射試料の誘導放射能の計算書!$B$33&照射試料の誘導放射能の計算書!$D$33),\"\")","v":""},{"$f":"IF($K209=照射試料の誘導放射能の計算書!$B$34&照射試料の誘導放射能の計算書!$D$34,COUNTIF($K209:$K467,照射試料の誘導放射能の計算書!$B$34&照射試料の誘導放射能の計算書!$D$34),\"\")","v":""},{"$f":"IF($K209=照射試料の誘導放射能の計算書!$B$35&照射試料の誘導放射能の計算書!$D$35,COUNTIF($K209:$K467,照射試料の誘導放射能の計算書!$B$35&照射試料の誘導放射能の計算書!$D$35),\"\")","v":""},{"$f":"IF($K209=照射試料の誘導放射能の計算書!$B$36&照射試料の誘導放射能の計算書!$D$36,COUNTIF($K209:$K467,照射試料の誘導放射能の計算書!$B$36&照射試料の誘導放射能の計算書!$D$36),\"\")","v":""},{"$f":"IF($K209=照射試料の誘導放射能の計算書!$B$37&照射試料の誘導放射能の計算書!$D$37,COUNTIF($K209:$K467,照射試料の誘導放射能の計算書!$B$37&照射試料の誘導放射能の計算書!$D$37),\"\")","v":""},{"$f":"IF($K209=照射試料の誘導放射能の計算書!$B$38&照射試料の誘導放射能の計算書!$D$38,COUNTIF($K209:$K467,照射試料の誘導放射能の計算書!$B$38&照射試料の誘導放射能の計算書!$D$38),\"\")","v":""},{"$f":"IF($K209=照射試料の誘導放射能の計算書!$B$39&照射試料の誘導放射能の計算書!$D$39,COUNTIF($K209:$K467,照射試料の誘導放射能の計算書!$B$39&照射試料の誘導放射能の計算書!$D$39),\"\")","v":""},{"$f":"IF($K209=照射試料の誘導放射能の計算書!$B$40&照射試料の誘導放射能の計算書!$D$40,COUNTIF($K209:$K467,照射試料の誘導放射能の計算書!$B$40&照射試料の誘導放射能の計算書!$D$40),\"\")","v":""},"Yb-175","(n,γ)Yb-175",19,4.2,"d"]
[70,null,"Yb",176,"Yb-176",12.7,"(n,γ)","Yb177","Yb","177","Yb-176(n,γ)",{"$f":"IF($K210=照射試料の誘導放射能の計算書!$B$31&照射試料の誘導放射能の計算書!$D$31,COUNTIF($K210:$K468,照射試料の誘導放射能の計算書!$B$31&照射試料の誘導放射能の計算書!$D$31),\"\")","v":""},{"$f":"IF($K210=照射試料の誘導放射能の計算書!$B$32&照射試料の誘導放射能の計算書!$D$32,COUNTIF($K210:$K468,照射試料の誘導放射能の計算書!$B$32&照射試料の誘導放射能の計算書!$D$32),\"\")","v":""},{"$f":"IF($K210=照射試料の誘導放射能の計算書!$B$33&照射試料の誘導放射能の計算書!$D$33,COUNTIF($K210:$K468,照射試料の誘導放射能の計算書!$B$33&照射試料の誘導放射能の計算書!$D$33),\"\")","v":""},{"$f":"IF($K210=照射試料の誘導放射能の計算書!$B$34&照射試料の誘導放射能の計算書!$D$34,COUNTIF($K210:$K468,照射試料の誘導放射能の計算書!$B$34&照射試料の誘導放射能の計算書!$D$34),\"\")","v":""},{"$f":"IF($K210=照射試料の誘導放射能の計算書!$B$35&照射試料の誘導放射能の計算書!$D$35,COUNTIF($K210:$K468,照射試料の誘導放射能の計算書!$B$35&照射試料の誘導放射能の計算書!$D$35),\"\")","v":""},{"$f":"IF($K210=照射試料の誘導放射能の計算書!$B$36&照射試料の誘導放射能の計算書!$D$36,COUNTIF($K210:$K468,照射試料の誘導放射能の計算書!$B$36&照射試料の誘導放射能の計算書!$D$36),\"\")","v":""},{"$f":"IF($K210=照射試料の誘導放射能の計算書!$B$37&照射試料の誘導放射能の計算書!$D$37,COUNTIF($K210:$K468,照射試料の誘導放射能の計算書!$B$37&照射試料の誘導放射能の計算書!$D$37),\"\")","v":""},{"$f":"IF($K210=照射試料の誘導放射能の計算書!$B$38&照射試料の誘導放射能の計算書!$D$38,COUNTIF($K210:$K468,照射試料の誘導放射能の計算書!$B$38&照射試料の誘導放射能の計算書!$D$38),\"\")","v":""},{"$f":"IF($K210=照射試料の誘導放射能の計算書!$B$39&照射試料の誘導放射能の計算書!$D$39,COUNTIF($K210:$K468,照射試料の誘導放射能の計算書!$B$39&照射試料の誘導放射能の計算書!$D$39),\"\")","v":""},{"$f":"IF($K210=照射試料の誘導放射能の計算書!$B$40&照射試料の誘導放射能の計算書!$D$40,COUNTIF($K210:$K468,照射試料の誘導放射能の計算書!$B$40&照射試料の誘導放射能の計算書!$D$40),\"\")","v":""},"Yb-177","(n,γ)Yb-177",2.4,1.9,"h"]
[71,null,"Lu",175,"Lu-175",97.41,"(n,γ)","Lu176","Lu","176","Lu-175(n,γ)",{"$f":"IF($K211=照射試料の誘導放射能の計算書!$B$31&照射試料の誘導放射能の計算書!$D$31,COUNTIF($K211:$K469,照射試料の誘導放射能の計算書!$B$31&照射試料の誘導放射能の計算書!$D$31),\"\")","v":""},{"$f":"IF($K211=照射試料の誘導放射能の計算書!$B$32&照射試料の誘導放射能の計算書!$D$32,COUNTIF($K211:$K469,照射試料の誘導放射能の計算書!$B$32&照射試料の誘導放射能の計算書!$D$32),\"\")","v":""},{"$f":"IF($K211=照射試料の誘導放射能の計算書!$B$33&照射試料の誘導放射能の計算書!$D$33,COUNTIF($K211:$K469,照射試料の誘導放射能の計算書!$B$33&照射試料の誘導放射能の計算書!$D$33),\"\")","v":""},{"$f":"IF($K211=照射試料の誘導放射能の計算書!$B$34&照射試料の誘導放射能の計算書!$D$34,COUNTIF($K211:$K469,照射試料の誘導放射能の計算書!$B$34&照射試料の誘導放射能の計算書!$D$34),\"\")","v":""},{"$f":"IF($K211=照射試料の誘導放射能の計算書!$B$35&照射試料の誘導放射能の計算書!$D$35,COUNTIF($K211:$K469,照射試料の誘導放射能の計算書!$B$35&照射試料の誘導放射能の計算書!$D$35),\"\")","v":""},{"$f":"IF($K211=照射試料の誘導放射能の計算書!$B$36&照射試料の誘導放射能の計算書!$D$36,COUNTIF($K211:$K469,照射試料の誘導放射能の計算書!$B$36&照射試料の誘導放射能の計算書!$D$36),\"\")","v":""},{"$f":"IF($K211=照射試料の誘導放射能の計算書!$B$37&照射試料の誘導放射能の計算書!$D$37,COUNTIF($K211:$K469,照射試料の誘導放射能の計算書!$B$37&照射試料の誘導放射能の計算書!$D$37),\"\")","v":""},{"$f":"IF($K211=照射試料の誘導放射能の計算書!$B$38&照射試料の誘導放射能の計算書!$D$38,COUNTIF($K211:$K469,照射試料の誘導放射能の計算書!$B$38&照射試料の誘導放射能の計算書!$D$38),\"\")","v":""},{"$f":"IF($K211=照射試料の誘導放射能の計算書!$B$39&照射試料の誘導放射能の計算書!$D$39,COUNTIF($K211:$K469,照射試料の誘導放射能の計算書!$B$39&照射試料の誘導放射能の計算書!$D$39),\"\")","v":""},{"$f":"IF($K211=照射試料の誘導放射能の計算書!$B$40&照射試料の誘導放射能の計算書!$D$40,COUNTIF($K211:$K469,照射試料の誘導放射能の計算書!$B$40&照射試料の誘導放射能の計算書!$D$40),\"\")","v":""},"Lu-176","(n,γ)Lu-176",8,38000000000,"y"]
[71,null,"Lu",175,"Lu-175",97.41,"(n,γ)","Lu176m","Lu",{"$f":"RIGHT(H212,4)","v":"176m"},"Lu-175(n,γ)",{"$f":"IF($K212=照射試料の誘導放射能の計算書!$B$31&照射試料の誘導放射能の計算書!$D$31,COUNTIF($K212:$K470,照射試料の誘導放射能の計算書!$B$31&照射試料の誘導放射能の計算書!$D$31),\"\")","v":""},{"$f":"IF($K212=照射試料の誘導放射能の計算書!$B$32&照射試料の誘導放射能の計算書!$D$32,COUNTIF($K212:$K470,照射試料の誘導放射能の計算書!$B$32&照射試料の誘導放射能の計算書!$D$32),\"\")","v":""},{"$f":"IF($K212=照射試料の誘導放射能の計算書!$B$33&照射試料の誘導放射能の計算書!$D$33,COUNTIF($K212:$K470,照射試料の誘導放射能の計算書!$B$33&照射試料の誘導放射能の計算書!$D$33),\"\")","v":""},{"$f":"IF($K212=照射試料の誘導放射能の計算書!$B$34&照射試料の誘導放射能の計算書!$D$34,COUNTIF($K212:$K470,照射試料の誘導放射能の計算書!$B$34&照射試料の誘導放射能の計算書!$D$34),\"\")","v":""},{"$f":"IF($K212=照射試料の誘導放射能の計算書!$B$35&照射試料の誘導放射能の計算書!$D$35,COUNTIF($K212:$K470,照射試料の誘導放射能の計算書!$B$35&照射試料の誘導放射能の計算書!$D$35),\"\")","v":""},{"$f":"IF($K212=照射試料の誘導放射能の計算書!$B$36&照射試料の誘導放射能の計算書!$D$36,COUNTIF($K212:$K470,照射試料の誘導放射能の計算書!$B$36&照射試料の誘導放射能の計算書!$D$36),\"\")","v":""},{"$f":"IF($K212=照射試料の誘導放射能の計算書!$B$37&照射試料の誘導放射能の計算書!$D$37,COUNTIF($K212:$K470,照射試料の誘導放射能の計算書!$B$37&照射試料の誘導放射能の計算書!$D$37),\"\")","v":""},{"$f":"IF($K212=照射試料の誘導放射能の計算書!$B$38&照射試料の誘導放射能の計算書!$D$38,COUNTIF($K212:$K470,照射試料の誘導放射能の計算書!$B$38&照射試料の誘導放射能の計算書!$D$38),\"\")","v":""},{"$f":"IF($K212=照射試料の誘導放射能の計算書!$B$39&照射試料の誘導放射能の計算書!$D$39,COUNTIF($K212:$K470,照射試料の誘導放射能の計算書!$B$39&照射試料の誘導放射能の計算書!$D$39),\"\")","v":""},{"$f":"IF($K212=照射試料の誘導放射能の計算書!$B$40&照射試料の誘導放射能の計算書!$D$40,COUNTIF($K212:$K470,照射試料の誘導放射能の計算書!$B$40&照射試料の誘導放射能の計算書!$D$40),\"\")","v":""},"Lu-176m","(n,γ)Lu-176m",16.399999999999999,3.68,"h"]
[71,null,"Lu",176,"Lu-176",2.59,"(n,γ)","Lu177","Lu",{"$f":"RIGHT(H213,3)","v":"177"},"Lu-176(n,γ)",{"$f":"IF($K213=照射試料の誘導放射能の計算書!$B$31&照射試料の誘導放射能の計算書!$D$31,COUNTIF($K213:$K471,照射試料の誘導放射能の計算書!$B$31&照射試料の誘導放射能の計算書!$D$31),\"\")","v":""},{"$f":"IF($K213=照射試料の誘導放射能の計算書!$B$32&照射試料の誘導放射能の計算書!$D$32,COUNTIF($K213:$K471,照射試料の誘導放射能の計算書!$B$32&照射試料の誘導放射能の計算書!$D$32),\"\")","v":""},{"$f":"IF($K213=照射試料の誘導放射能の計算書!$B$33&照射試料の誘導放射能の計算書!$D$33,COUNTIF($K213:$K471,照射試料の誘導放射能の計算書!$B$33&照射試料の誘導放射能の計算書!$D$33),\"\")","v":""},{"$f":"IF($K213=照射試料の誘導放射能の計算書!$B$34&照射試料の誘導放射能の計算書!$D$34,COUNTIF($K213:$K471,照射試料の誘導放射能の計算書!$B$34&照射試料の誘導放射能の計算書!$D$34),\"\")","v":""},{"$f":"IF($K213=照射試料の誘導放射能の計算書!$B$35&照射試料の誘導放射能の計算書!$D$35,COUNTIF($K213:$K471,照射試料の誘導放射能の計算書!$B$35&照射試料の誘導放射能の計算書!$D$35),\"\")","v":""},{"$f":"IF($K213=照射試料の誘導放射能の計算書!$B$36&照射試料の誘導放射能の計算書!$D$36,COUNTIF($K213:$K471,照射試料の誘導放射能の計算書!$B$36&照射試料の誘導放射能の計算書!$D$36),\"\")","v":""},{"$f":"IF($K213=照射試料の誘導放射能の計算書!$B$37&照射試料の誘導放射能の計算書!$D$37,COUNTIF($K213:$K471,照射試料の誘導放射能の計算書!$B$37&照射試料の誘導放射能の計算書!$D$37),\"\")","v":""},{"$f":"IF($K213=照射試料の誘導放射能の計算書!$B$38&照射試料の誘導放射能の計算書!$D$38,COUNTIF($K213:$K471,照射試料の誘導放射能の計算書!$B$38&照射試料の誘導放射能の計算書!$D$38),\"\")","v":""},{"$f":"IF($K213=照射試料の誘導放射能の計算書!$B$39&照射試料の誘導放射能の計算書!$D$39,COUNTIF($K213:$K471,照射試料の誘導放射能の計算書!$B$39&照射試料の誘導放射能の計算書!$D$39),\"\")","v":""},{"$f":"IF($K213=照射試料の誘導放射能の計算書!$B$40&照射試料の誘導放射能の計算書!$D$40,COUNTIF($K213:$K471,照射試料の誘導放射能の計算書!$B$40&照射試料の誘導放射能の計算書!$D$40),\"\")","v":""},"Lu-177","(n,γ)Lu-177",1778,6.71,"d"]
[71,null,"Lu",176,"Lu-176",2.59,"(n,γ)","Lu177m","Lu",{"$f":"RIGHT(H214,4)","v":"177m"},"Lu-176(n,γ)",{"$f":"IF($K214=照射試料の誘導放射能の計算書!$B$31&照射試料の誘導放射能の計算書!$D$31,COUNTIF($K214:$K472,照射試料の誘導放射能の計算書!$B$31&照射試料の誘導放射能の計算書!$D$31),\"\")","v":""},{"$f":"IF($K214=照射試料の誘導放射能の計算書!$B$32&照射試料の誘導放射能の計算書!$D$32,COUNTIF($K214:$K472,照射試料の誘導放射能の計算書!$B$32&照射試料の誘導放射能の計算書!$D$32),\"\")","v":""},{"$f":"IF($K214=照射試料の誘導放射能の計算書!$B$33&照射試料の誘導放射能の計算書!$D$33,COUNTIF($K214:$K472,照射試料の誘導放射能の計算書!$B$33&照射試料の誘導放射能の計算書!$D$33),\"\")","v":""},{"$f":"IF($K214=照射試料の誘導放射能の計算書!$B$34&照射試料の誘導放射能の計算書!$D$34,COUNTIF($K214:$K472,照射試料の誘導放射能の計算書!$B$34&照射試料の誘導放射能の計算書!$D$34),\"\")","v":""},{"$f":"IF($K214=照射試料の誘導放射能の計算書!$B$35&照射試料の誘導放射能の計算書!$D$35,COUNTIF($K214:$K472,照射試料の誘導放射能の計算書!$B$35&照射試料の誘導放射能の計算書!$D$35),\"\")","v":""},{"$f":"IF($K214=照射試料の誘導放射能の計算書!$B$36&照射試料の誘導放射能の計算書!$D$36,COUNTIF($K214:$K472,照射試料の誘導放射能の計算書!$B$36&照射試料の誘導放射能の計算書!$D$36),\"\")","v":""},{"$f":"IF($K214=照射試料の誘導放射能の計算書!$B$37&照射試料の誘導放射能の計算書!$D$37,COUNTIF($K214:$K472,照射試料の誘導放射能の計算書!$B$37&照射試料の誘導放射能の計算書!$D$37),\"\")","v":""},{"$f":"IF($K214=照射試料の誘導放射能の計算書!$B$38&照射試料の誘導放射能の計算書!$D$38,COUNTIF($K214:$K472,照射試料の誘導放射能の計算書!$B$38&照射試料の誘導放射能の計算書!$D$38),\"\")","v":""},{"$f":"IF($K214=照射試料の誘導放射能の計算書!$B$39&照射試料の誘導放射能の計算書!$D$39,COUNTIF($K214:$K472,照射試料の誘導放射能の計算書!$B$39&照射試料の誘導放射能の計算書!$D$39),\"\")","v":""},{"$f":"IF($K214=照射試料の誘導放射能の計算書!$B$40&照射試料の誘導放射能の計算書!$D$40,COUNTIF($K214:$K472,照射試料の誘導放射能の計算書!$B$40&照射試料の誘導放射能の計算書!$D$40),\"\")","v":""},"Lu-177m","(n,γ)Lu-177m",7,160.1,"d"]
[72,null,"Hf",177,"Hf-177",18.600000000000001,"(n,γ)","Hf178m1","Hf",{"$f":"RIGHT(H215,5)","v":"178m1"},"Hf-177(n,γ)",{"$f":"IF($K215=照射試料の誘導放射能の計算書!$B$31&照射試料の誘導放射能の計算書!$D$31,COUNTIF($K215:$K473,照射試料の誘導放射能の計算書!$B$31&照射試料の誘導放射能の計算書!$D$31),\"\")","v":""},{"$f":"IF($K215=照射試料の誘導放射能の計算書!$B$32&照射試料の誘導放射能の計算書!$D$32,COUNTIF($K215:$K473,照射試料の誘導放射能の計算書!$B$32&照射試料の誘導放射能の計算書!$D$32),\"\")","v":""},{"$f":"IF($K215=照射試料の誘導放射能の計算書!$B$33&照射試料の誘導放射能の計算書!$D$33,COUNTIF($K215:$K473,照射試料の誘導放射能の計算書!$B$33&照射試料の誘導放射能の計算書!$D$33),\"\")","v":""},{"$f":"IF($K215=照射試料の誘導放射能の計算書!$B$34&照射試料の誘導放射能の計算書!$D$34,COUNTIF($K215:$K473,照射試料の誘導放射能の計算書!$B$34&照射試料の誘導放射能の計算書!$D$34),\"\")","v":""},{"$f":"IF($K215=照射試料の誘導放射能の計算書!$B$35&照射試料の誘導放射能の計算書!$D$35,COUNTIF($K215:$K473,照射試料の誘導放射能の計算書!$B$35&照射試料の誘導放射能の計算書!$D$35),\"\")","v":""},{"$f":"IF($K215=照射試料の誘導放射能の計算書!$B$36&照射試料の誘導放射能の計算書!$D$36,COUNTIF($K215:$K473,照射試料の誘導放射能の計算書!$B$36&照射試料の誘導放射能の計算書!$D$36),\"\")","v":""},{"$f":"IF($K215=照射試料の誘導放射能の計算書!$B$37&照射試料の誘導放射能の計算書!$D$37,COUNTIF($K215:$K473,照射試料の誘導放射能の計算書!$B$37&照射試料の誘導放射能の計算書!$D$37),\"\")","v":""},{"$f":"IF($K215=照射試料の誘導放射能の計算書!$B$38&照射試料の誘導放射能の計算書!$D$38,COUNTIF($K215:$K473,照射試料の誘導放射能の計算書!$B$38&照射試料の誘導放射能の計算書!$D$38),\"\")","v":""},{"$f":"IF($K215=照射試料の誘導放射能の計算書!$B$39&照射試料の誘導放射能の計算書!$D$39,COUNTIF($K215:$K473,照射試料の誘導放射能の計算書!$B$39&照射試料の誘導放射能の計算書!$D$39),\"\")","v":""},{"$f":"IF($K215=照射試料の誘導放射能の計算書!$B$40&照射試料の誘導放射能の計算書!$D$40,COUNTIF($K215:$K473,照射試料の誘導放射能の計算書!$B$40&照射試料の誘導放射能の計算書!$D$40),\"\")","v":""},"Hf-178m1","(n,γ)Hf-178m1",1.1000000000000001,4,"s"]
[72,null,"Hf",177,"Hf-177",18.600000000000001,"(n,γ)","Hf178m2","Hf",{"$f":"RIGHT(H216,5)","v":"178m2"},"Hf-177(n,γ)",{"$f":"IF($K216=照射試料の誘導放射能の計算書!$B$31&照射試料の誘導放射能の計算書!$D$31,COUNTIF($K216:$K474,照射試料の誘導放射能の計算書!$B$31&照射試料の誘導放射能の計算書!$D$31),\"\")","v":""},{"$f":"IF($K216=照射試料の誘導放射能の計算書!$B$32&照射試料の誘導放射能の計算書!$D$32,COUNTIF($K216:$K474,照射試料の誘導放射能の計算書!$B$32&照射試料の誘導放射能の計算書!$D$32),\"\")","v":""},{"$f":"IF($K216=照射試料の誘導放射能の計算書!$B$33&照射試料の誘導放射能の計算書!$D$33,COUNTIF($K216:$K474,照射試料の誘導放射能の計算書!$B$33&照射試料の誘導放射能の計算書!$D$33),\"\")","v":""},{"$f":"IF($K216=照射試料の誘導放射能の計算書!$B$34&照射試料の誘導放射能の計算書!$D$34,COUNTIF($K216:$K474,照射試料の誘導放射能の計算書!$B$34&照射試料の誘導放射能の計算書!$D$34),\"\")","v":""},{"$f":"IF($K216=照射試料の誘導放射能の計算書!$B$35&照射試料の誘導放射能の計算書!$D$35,COUNTIF($K216:$K474,照射試料の誘導放射能の計算書!$B$35&照射試料の誘導放射能の計算書!$D$35),\"\")","v":""},{"$f":"IF($K216=照射試料の誘導放射能の計算書!$B$36&照射試料の誘導放射能の計算書!$D$36,COUNTIF($K216:$K474,照射試料の誘導放射能の計算書!$B$36&照射試料の誘導放射能の計算書!$D$36),\"\")","v":""},{"$f":"IF($K216=照射試料の誘導放射能の計算書!$B$37&照射試料の誘導放射能の計算書!$D$37,COUNTIF($K216:$K474,照射試料の誘導放射能の計算書!$B$37&照射試料の誘導放射能の計算書!$D$37),\"\")","v":""},{"$f":"IF($K216=照射試料の誘導放射能の計算書!$B$38&照射試料の誘導放射能の計算書!$D$38,COUNTIF($K216:$K474,照射試料の誘導放射能の計算書!$B$38&照射試料の誘導放射能の計算書!$D$38),\"\")","v":""},{"$f":"IF($K216=照射試料の誘導放射能の計算書!$B$39&照射試料の誘導放射能の計算書!$D$39,COUNTIF($K216:$K474,照射試料の誘導放射能の計算書!$B$39&照射試料の誘導放射能の計算書!$D$39),\"\")","v":""},{"$f":"IF($K216=照射試料の誘導放射能の計算書!$B$40&照射試料の誘導放射能の計算書!$D$40,COUNTIF($K216:$K474,照射試料の誘導放射能の計算書!$B$40&照射試料の誘導放射能の計算書!$D$40),\"\")","v":""},"Hf-178m2","(n,γ)Hf-178m2",9.9999999999999995E-8,31,"y"]
[72,null,"Hf",178,"Hf-178",27.3,"(n,γ)","Hf179m1","Hf",{"$f":"RIGHT(H217,5)","v":"179m1"},"Hf-178(n,γ)",{"$f":"IF($K217=照射試料の誘導放射能の計算書!$B$31&照射試料の誘導放射能の計算書!$D$31,COUNTIF($K217:$K475,照射試料の誘導放射能の計算書!$B$31&照射試料の誘導放射能の計算書!$D$31),\"\")","v":""},{"$f":"IF($K217=照射試料の誘導放射能の計算書!$B$32&照射試料の誘導放射能の計算書!$D$32,COUNTIF($K217:$K475,照射試料の誘導放射能の計算書!$B$32&照射試料の誘導放射能の計算書!$D$32),\"\")","v":""},{"$f":"IF($K217=照射試料の誘導放射能の計算書!$B$33&照射試料の誘導放射能の計算書!$D$33,COUNTIF($K217:$K475,照射試料の誘導放射能の計算書!$B$33&照射試料の誘導放射能の計算書!$D$33),\"\")","v":""},{"$f":"IF($K217=照射試料の誘導放射能の計算書!$B$34&照射試料の誘導放射能の計算書!$D$34,COUNTIF($K217:$K475,照射試料の誘導放射能の計算書!$B$34&照射試料の誘導放射能の計算書!$D$34),\"\")","v":""},{"$f":"IF($K217=照射試料の誘導放射能の計算書!$B$35&照射試料の誘導放射能の計算書!$D$35,COUNTIF($K217:$K475,照射試料の誘導放射能の計算書!$B$35&照射試料の誘導放射能の計算書!$D$35),\"\")","v":""},{"$f":"IF($K217=照射試料の誘導放射能の計算書!$B$36&照射試料の誘導放射能の計算書!$D$36,COUNTIF($K217:$K475,照射試料の誘導放射能の計算書!$B$36&照射試料の誘導放射能の計算書!$D$36),\"\")","v":""},{"$f":"IF($K217=照射試料の誘導放射能の計算書!$B$37&照射試料の誘導放射能の計算書!$D$37,COUNTIF($K217:$K475,照射試料の誘導放射能の計算書!$B$37&照射試料の誘導放射能の計算書!$D$37),\"\")","v":""},{"$f":"IF($K217=照射試料の誘導放射能の計算書!$B$38&照射試料の誘導放射能の計算書!$D$38,COUNTIF($K217:$K475,照射試料の誘導放射能の計算書!$B$38&照射試料の誘導放射能の計算書!$D$38),\"\")","v":""},{"$f":"IF($K217=照射試料の誘導放射能の計算書!$B$39&照射試料の誘導放射能の計算書!$D$39,COUNTIF($K217:$K475,照射試料の誘導放射能の計算書!$B$39&照射試料の誘導放射能の計算書!$D$39),\"\")","v":""},{"$f":"IF($K217=照射試料の誘導放射能の計算書!$B$40&照射試料の誘導放射能の計算書!$D$40,COUNTIF($K217:$K475,照射試料の誘導放射能の計算書!$B$40&照射試料の誘導放射能の計算書!$D$40),\"\")","v":""},"Hf-179m1","(n,γ)Hf-179m1",53,18.7,"s"]
[72,null,"Hf",179,"Hf-179",13.63,"(n,γ)","Hf180m","Hf",{"$f":"RIGHT(H218,4)","v":"180m"},"Hf-179(n,γ)",{"$f":"IF($K218=照射試料の誘導放射能の計算書!$B$31&照射試料の誘導放射能の計算書!$D$31,COUNTIF($K218:$K476,照射試料の誘導放射能の計算書!$B$31&照射試料の誘導放射能の計算書!$D$31),\"\")","v":""},{"$f":"IF($K218=照射試料の誘導放射能の計算書!$B$32&照射試料の誘導放射能の計算書!$D$32,COUNTIF($K218:$K476,照射試料の誘導放射能の計算書!$B$32&照射試料の誘導放射能の計算書!$D$32),\"\")","v":""},{"$f":"IF($K218=照射試料の誘導放射能の計算書!$B$33&照射試料の誘導放射能の計算書!$D$33,COUNTIF($K218:$K476,照射試料の誘導放射能の計算書!$B$33&照射試料の誘導放射能の計算書!$D$33),\"\")","v":""},{"$f":"IF($K218=照射試料の誘導放射能の計算書!$B$34&照射試料の誘導放射能の計算書!$D$34,COUNTIF($K218:$K476,照射試料の誘導放射能の計算書!$B$34&照射試料の誘導放射能の計算書!$D$34),\"\")","v":""},{"$f":"IF($K218=照射試料の誘導放射能の計算書!$B$35&照射試料の誘導放射能の計算書!$D$35,COUNTIF($K218:$K476,照射試料の誘導放射能の計算書!$B$35&照射試料の誘導放射能の計算書!$D$35),\"\")","v":""},{"$f":"IF($K218=照射試料の誘導放射能の計算書!$B$36&照射試料の誘導放射能の計算書!$D$36,COUNTIF($K218:$K476,照射試料の誘導放射能の計算書!$B$36&照射試料の誘導放射能の計算書!$D$36),\"\")","v":""},{"$f":"IF($K218=照射試料の誘導放射能の計算書!$B$37&照射試料の誘導放射能の計算書!$D$37,COUNTIF($K218:$K476,照射試料の誘導放射能の計算書!$B$37&照射試料の誘導放射能の計算書!$D$37),\"\")","v":""},{"$f":"IF($K218=照射試料の誘導放射能の計算書!$B$38&照射試料の誘導放射能の計算書!$D$38,COUNTIF($K218:$K476,照射試料の誘導放射能の計算書!$B$38&照射試料の誘導放射能の計算書!$D$38),\"\")","v":""},{"$f":"IF($K218=照射試料の誘導放射能の計算書!$B$39&照射試料の誘導放射能の計算書!$D$39,COUNTIF($K218:$K476,照射試料の誘導放射能の計算書!$B$39&照射試料の誘導放射能の計算書!$D$39),\"\")","v":""},{"$f":"IF($K218=照射試料の誘導放射能の計算書!$B$40&照射試料の誘導放射能の計算書!$D$40,COUNTIF($K218:$K476,照射試料の誘導放射能の計算書!$B$40&照射試料の誘導放射能の計算書!$D$40),\"\")","v":""},"Hf-180m","(n,γ)Hf-180m",0.34,5.5,"h"]
[72,null,"Hf",180,"Hf-180",35.1,"(n,γ)","Hf181","Hf",{"$f":"RIGHT(H219,3)","v":"181"},"Hf-180(n,γ)",{"$f":"IF($K219=照射試料の誘導放射能の計算書!$B$31&照射試料の誘導放射能の計算書!$D$31,COUNTIF($K219:$K477,照射試料の誘導放射能の計算書!$B$31&照射試料の誘導放射能の計算書!$D$31),\"\")","v":""},{"$f":"IF($K219=照射試料の誘導放射能の計算書!$B$32&照射試料の誘導放射能の計算書!$D$32,COUNTIF($K219:$K477,照射試料の誘導放射能の計算書!$B$32&照射試料の誘導放射能の計算書!$D$32),\"\")","v":""},{"$f":"IF($K219=照射試料の誘導放射能の計算書!$B$33&照射試料の誘導放射能の計算書!$D$33,COUNTIF($K219:$K477,照射試料の誘導放射能の計算書!$B$33&照射試料の誘導放射能の計算書!$D$33),\"\")","v":""},{"$f":"IF($K219=照射試料の誘導放射能の計算書!$B$34&照射試料の誘導放射能の計算書!$D$34,COUNTIF($K219:$K477,照射試料の誘導放射能の計算書!$B$34&照射試料の誘導放射能の計算書!$D$34),\"\")","v":""},{"$f":"IF($K219=照射試料の誘導放射能の計算書!$B$35&照射試料の誘導放射能の計算書!$D$35,COUNTIF($K219:$K477,照射試料の誘導放射能の計算書!$B$35&照射試料の誘導放射能の計算書!$D$35),\"\")","v":""},{"$f":"IF($K219=照射試料の誘導放射能の計算書!$B$36&照射試料の誘導放射能の計算書!$D$36,COUNTIF($K219:$K477,照射試料の誘導放射能の計算書!$B$36&照射試料の誘導放射能の計算書!$D$36),\"\")","v":""},{"$f":"IF($K219=照射試料の誘導放射能の計算書!$B$37&照射試料の誘導放射能の計算書!$D$37,COUNTIF($K219:$K477,照射試料の誘導放射能の計算書!$B$37&照射試料の誘導放射能の計算書!$D$37),\"\")","v":""},{"$f":"IF($K219=照射試料の誘導放射能の計算書!$B$38&照射試料の誘導放射能の計算書!$D$38,COUNTIF($K219:$K477,照射試料の誘導放射能の計算書!$B$38&照射試料の誘導放射能の計算書!$D$38),\"\")","v":""},{"$f":"IF($K219=照射試料の誘導放射能の計算書!$B$39&照射試料の誘導放射能の計算書!$D$39,COUNTIF($K219:$K477,照射試料の誘導放射能の計算書!$B$39&照射試料の誘導放射能の計算書!$D$39),\"\")","v":""},{"$f":"IF($K219=照射試料の誘導放射能の計算書!$B$40&照射試料の誘導放射能の計算書!$D$40,COUNTIF($K219:$K477,照射試料の誘導放射能の計算書!$B$40&照射試料の誘導放射能の計算書!$D$40),\"\")","v":""},"Hf-181","(n,γ)Hf-181",13,42.39,"d"]
[73,null,"Ta",181,"Ta-181",99.988,"(n,γ)","Ta182","Ta",{"$f":"RIGHT(H220,3)","v":"182"},"Ta-181(n,γ)",{"$f":"IF($K220=照射試料の誘導放射能の計算書!$B$31&照射試料の誘導放射能の計算書!$D$31,COUNTIF($K220:$K478,照射試料の誘導放射能の計算書!$B$31&照射試料の誘導放射能の計算書!$D$31),\"\")","v":""},{"$f":"IF($K220=照射試料の誘導放射能の計算書!$B$32&照射試料の誘導放射能の計算書!$D$32,COUNTIF($K220:$K478,照射試料の誘導放射能の計算書!$B$32&照射試料の誘導放射能の計算書!$D$32),\"\")","v":""},{"$f":"IF($K220=照射試料の誘導放射能の計算書!$B$33&照射試料の誘導放射能の計算書!$D$33,COUNTIF($K220:$K478,照射試料の誘導放射能の計算書!$B$33&照射試料の誘導放射能の計算書!$D$33),\"\")","v":""},{"$f":"IF($K220=照射試料の誘導放射能の計算書!$B$34&照射試料の誘導放射能の計算書!$D$34,COUNTIF($K220:$K478,照射試料の誘導放射能の計算書!$B$34&照射試料の誘導放射能の計算書!$D$34),\"\")","v":""},{"$f":"IF($K220=照射試料の誘導放射能の計算書!$B$35&照射試料の誘導放射能の計算書!$D$35,COUNTIF($K220:$K478,照射試料の誘導放射能の計算書!$B$35&照射試料の誘導放射能の計算書!$D$35),\"\")","v":""},{"$f":"IF($K220=照射試料の誘導放射能の計算書!$B$36&照射試料の誘導放射能の計算書!$D$36,COUNTIF($K220:$K478,照射試料の誘導放射能の計算書!$B$36&照射試料の誘導放射能の計算書!$D$36),\"\")","v":""},{"$f":"IF($K220=照射試料の誘導放射能の計算書!$B$37&照射試料の誘導放射能の計算書!$D$37,COUNTIF($K220:$K478,照射試料の誘導放射能の計算書!$B$37&照射試料の誘導放射能の計算書!$D$37),\"\")","v":""},{"$f":"IF($K220=照射試料の誘導放射能の計算書!$B$38&照射試料の誘導放射能の計算書!$D$38,COUNTIF($K220:$K478,照射試料の誘導放射能の計算書!$B$38&照射試料の誘導放射能の計算書!$D$38),\"\")","v":""},{"$f":"IF($K220=照射試料の誘導放射能の計算書!$B$39&照射試料の誘導放射能の計算書!$D$39,COUNTIF($K220:$K478,照射試料の誘導放射能の計算書!$B$39&照射試料の誘導放射能の計算書!$D$39),\"\")","v":""},{"$f":"IF($K220=照射試料の誘導放射能の計算書!$B$40&照射試料の誘導放射能の計算書!$D$40,COUNTIF($K220:$K478,照射試料の誘導放射能の計算書!$B$40&照射試料の誘導放射能の計算書!$D$40),\"\")","v":""},"Ta-182","(n,γ)Ta-182",21,114.43,"d"]
[73,null,"Ta",181,"Ta-181",99.988,"(n,γ)","Ta182m","Ta",{"$f":"RIGHT(H221,4)","v":"182m"},"Ta-181(n,γ)",{"$f":"IF($K221=照射試料の誘導放射能の計算書!$B$31&照射試料の誘導放射能の計算書!$D$31,COUNTIF($K221:$K479,照射試料の誘導放射能の計算書!$B$31&照射試料の誘導放射能の計算書!$D$31),\"\")","v":""},{"$f":"IF($K221=照射試料の誘導放射能の計算書!$B$32&照射試料の誘導放射能の計算書!$D$32,COUNTIF($K221:$K479,照射試料の誘導放射能の計算書!$B$32&照射試料の誘導放射能の計算書!$D$32),\"\")","v":""},{"$f":"IF($K221=照射試料の誘導放射能の計算書!$B$33&照射試料の誘導放射能の計算書!$D$33,COUNTIF($K221:$K479,照射試料の誘導放射能の計算書!$B$33&照射試料の誘導放射能の計算書!$D$33),\"\")","v":""},{"$f":"IF($K221=照射試料の誘導放射能の計算書!$B$34&照射試料の誘導放射能の計算書!$D$34,COUNTIF($K221:$K479,照射試料の誘導放射能の計算書!$B$34&照射試料の誘導放射能の計算書!$D$34),\"\")","v":""},{"$f":"IF($K221=照射試料の誘導放射能の計算書!$B$35&照射試料の誘導放射能の計算書!$D$35,COUNTIF($K221:$K479,照射試料の誘導放射能の計算書!$B$35&照射試料の誘導放射能の計算書!$D$35),\"\")","v":""},{"$f":"IF($K221=照射試料の誘導放射能の計算書!$B$36&照射試料の誘導放射能の計算書!$D$36,COUNTIF($K221:$K479,照射試料の誘導放射能の計算書!$B$36&照射試料の誘導放射能の計算書!$D$36),\"\")","v":""},{"$f":"IF($K221=照射試料の誘導放射能の計算書!$B$37&照射試料の誘導放射能の計算書!$D$37,COUNTIF($K221:$K479,照射試料の誘導放射能の計算書!$B$37&照射試料の誘導放射能の計算書!$D$37),\"\")","v":""},{"$f":"IF($K221=照射試料の誘導放射能の計算書!$B$38&照射試料の誘導放射能の計算書!$D$38,COUNTIF($K221:$K479,照射試料の誘導放射能の計算書!$B$38&照射試料の誘導放射能の計算書!$D$38),\"\")","v":""},{"$f":"IF($K221=照射試料の誘導放射能の計算書!$B$39&照射試料の誘導放射能の計算書!$D$39,COUNTIF($K221:$K479,照射試料の誘導放射能の計算書!$B$39&照射試料の誘導放射能の計算書!$D$39),\"\")","v":""},{"$f":"IF($K221=照射試料の誘導放射能の計算書!$B$40&照射試料の誘導放射能の計算書!$D$40,COUNTIF($K221:$K479,照射試料の誘導放射能の計算書!$B$40&照射試料の誘導放射能の計算書!$D$40),\"\")","v":""},"Ta-182m","(n,γ)Ta-182m",0.01,16,"min"]
[74,null,"W",180,"W-180",0.13,"(n,p)","W181","W1",{"$f":"RIGHT(H222,3)","v":"181"},"W-180(n,p)",{"$f":"IF($K222=照射試料の誘導放射能の計算書!$B$31&照射試料の誘導放射能の計算書!$D$31,COUNTIF($K222:$K480,照射試料の誘導放射能の計算書!$B$31&照射試料の誘導放射能の計算書!$D$31),\"\")","v":""},{"$f":"IF($K222=照射試料の誘導放射能の計算書!$B$32&照射試料の誘導放射能の計算書!$D$32,COUNTIF($K222:$K480,照射試料の誘導放射能の計算書!$B$32&照射試料の誘導放射能の計算書!$D$32),\"\")","v":""},{"$f":"IF($K222=照射試料の誘導放射能の計算書!$B$33&照射試料の誘導放射能の計算書!$D$33,COUNTIF($K222:$K480,照射試料の誘導放射能の計算書!$B$33&照射試料の誘導放射能の計算書!$D$33),\"\")","v":""},{"$f":"IF($K222=照射試料の誘導放射能の計算書!$B$34&照射試料の誘導放射能の計算書!$D$34,COUNTIF($K222:$K480,照射試料の誘導放射能の計算書!$B$34&照射試料の誘導放射能の計算書!$D$34),\"\")","v":""},{"$f":"IF($K222=照射試料の誘導放射能の計算書!$B$35&照射試料の誘導放射能の計算書!$D$35,COUNTIF($K222:$K480,照射試料の誘導放射能の計算書!$B$35&照射試料の誘導放射能の計算書!$D$35),\"\")","v":""},{"$f":"IF($K222=照射試料の誘導放射能の計算書!$B$36&照射試料の誘導放射能の計算書!$D$36,COUNTIF($K222:$K480,照射試料の誘導放射能の計算書!$B$36&照射試料の誘導放射能の計算書!$D$36),\"\")","v":""},{"$f":"IF($K222=照射試料の誘導放射能の計算書!$B$37&照射試料の誘導放射能の計算書!$D$37,COUNTIF($K222:$K480,照射試料の誘導放射能の計算書!$B$37&照射試料の誘導放射能の計算書!$D$37),\"\")","v":""},{"$f":"IF($K222=照射試料の誘導放射能の計算書!$B$38&照射試料の誘導放射能の計算書!$D$38,COUNTIF($K222:$K480,照射試料の誘導放射能の計算書!$B$38&照射試料の誘導放射能の計算書!$D$38),\"\")","v":""},{"$f":"IF($K222=照射試料の誘導放射能の計算書!$B$39&照射試料の誘導放射能の計算書!$D$39,COUNTIF($K222:$K480,照射試料の誘導放射能の計算書!$B$39&照射試料の誘導放射能の計算書!$D$39),\"\")","v":""},{"$f":"IF($K222=照射試料の誘導放射能の計算書!$B$40&照射試料の誘導放射能の計算書!$D$40,COUNTIF($K222:$K480,照射試料の誘導放射能の計算書!$B$40&照射試料の誘導放射能の計算書!$D$40),\"\")","v":""},"W1-181","(n,p)W1-181",3.5,121.2,"d"]
[74,null,"W",184,"W-184",30.67,"(n,p)","W185","W1",{"$f":"RIGHT(H223,3)","v":"185"},"W-184(n,p)",{"$f":"IF($K223=照射試料の誘導放射能の計算書!$B$31&照射試料の誘導放射能の計算書!$D$31,COUNTIF($K223:$K481,照射試料の誘導放射能の計算書!$B$31&照射試料の誘導放射能の計算書!$D$31),\"\")","v":""},{"$f":"IF($K223=照射試料の誘導放射能の計算書!$B$32&照射試料の誘導放射能の計算書!$D$32,COUNTIF($K223:$K481,照射試料の誘導放射能の計算書!$B$32&照射試料の誘導放射能の計算書!$D$32),\"\")","v":""},{"$f":"IF($K223=照射試料の誘導放射能の計算書!$B$33&照射試料の誘導放射能の計算書!$D$33,COUNTIF($K223:$K481,照射試料の誘導放射能の計算書!$B$33&照射試料の誘導放射能の計算書!$D$33),\"\")","v":""},{"$f":"IF($K223=照射試料の誘導放射能の計算書!$B$34&照射試料の誘導放射能の計算書!$D$34,COUNTIF($K223:$K481,照射試料の誘導放射能の計算書!$B$34&照射試料の誘導放射能の計算書!$D$34),\"\")","v":""},{"$f":"IF($K223=照射試料の誘導放射能の計算書!$B$35&照射試料の誘導放射能の計算書!$D$35,COUNTIF($K223:$K481,照射試料の誘導放射能の計算書!$B$35&照射試料の誘導放射能の計算書!$D$35),\"\")","v":""},{"$f":"IF($K223=照射試料の誘導放射能の計算書!$B$36&照射試料の誘導放射能の計算書!$D$36,COUNTIF($K223:$K481,照射試料の誘導放射能の計算書!$B$36&照射試料の誘導放射能の計算書!$D$36),\"\")","v":""},{"$f":"IF($K223=照射試料の誘導放射能の計算書!$B$37&照射試料の誘導放射能の計算書!$D$37,COUNTIF($K223:$K481,照射試料の誘導放射能の計算書!$B$37&照射試料の誘導放射能の計算書!$D$37),\"\")","v":""},{"$f":"IF($K223=照射試料の誘導放射能の計算書!$B$38&照射試料の誘導放射能の計算書!$D$38,COUNTIF($K223:$K481,照射試料の誘導放射能の計算書!$B$38&照射試料の誘導放射能の計算書!$D$38),\"\")","v":""},{"$f":"IF($K223=照射試料の誘導放射能の計算書!$B$39&照射試料の誘導放射能の計算書!$D$39,COUNTIF($K223:$K481,照射試料の誘導放射能の計算書!$B$39&照射試料の誘導放射能の計算書!$D$39),\"\")","v":""},{"$f":"IF($K223=照射試料の誘導放射能の計算書!$B$40&照射試料の誘導放射能の計算書!$D$40,COUNTIF($K223:$K481,照射試料の誘導放射能の計算書!$B$40&照射試料の誘導放射能の計算書!$D$40),\"\")","v":""},"W1-185","(n,p)W1-185",1.8,75.099999999999994,"d"]
[74,null,"W",184,"W-184",30.67,"(n,p)","W185m","W1",{"$f":"RIGHT(H224,4)","v":"185m"},"W-184(n,p)",{"$f":"IF($K224=照射試料の誘導放射能の計算書!$B$31&照射試料の誘導放射能の計算書!$D$31,COUNTIF($K224:$K482,照射試料の誘導放射能の計算書!$B$31&照射試料の誘導放射能の計算書!$D$31),\"\")","v":""},{"$f":"IF($K224=照射試料の誘導放射能の計算書!$B$32&照射試料の誘導放射能の計算書!$D$32,COUNTIF($K224:$K482,照射試料の誘導放射能の計算書!$B$32&照射試料の誘導放射能の計算書!$D$32),\"\")","v":""},{"$f":"IF($K224=照射試料の誘導放射能の計算書!$B$33&照射試料の誘導放射能の計算書!$D$33,COUNTIF($K224:$K482,照射試料の誘導放射能の計算書!$B$33&照射試料の誘導放射能の計算書!$D$33),\"\")","v":""},{"$f":"IF($K224=照射試料の誘導放射能の計算書!$B$34&照射試料の誘導放射能の計算書!$D$34,COUNTIF($K224:$K482,照射試料の誘導放射能の計算書!$B$34&照射試料の誘導放射能の計算書!$D$34),\"\")","v":""},{"$f":"IF($K224=照射試料の誘導放射能の計算書!$B$35&照射試料の誘導放射能の計算書!$D$35,COUNTIF($K224:$K482,照射試料の誘導放射能の計算書!$B$35&照射試料の誘導放射能の計算書!$D$35),\"\")","v":""},{"$f":"IF($K224=照射試料の誘導放射能の計算書!$B$36&照射試料の誘導放射能の計算書!$D$36,COUNTIF($K224:$K482,照射試料の誘導放射能の計算書!$B$36&照射試料の誘導放射能の計算書!$D$36),\"\")","v":""},{"$f":"IF($K224=照射試料の誘導放射能の計算書!$B$37&照射試料の誘導放射能の計算書!$D$37,COUNTIF($K224:$K482,照射試料の誘導放射能の計算書!$B$37&照射試料の誘導放射能の計算書!$D$37),\"\")","v":""},{"$f":"IF($K224=照射試料の誘導放射能の計算書!$B$38&照射試料の誘導放射能の計算書!$D$38,COUNTIF($K224:$K482,照射試料の誘導放射能の計算書!$B$38&照射試料の誘導放射能の計算書!$D$38),\"\")","v":""},{"$f":"IF($K224=照射試料の誘導放射能の計算書!$B$39&照射試料の誘導放射能の計算書!$D$39,COUNTIF($K224:$K482,照射試料の誘導放射能の計算書!$B$39&照射試料の誘導放射能の計算書!$D$39),\"\")","v":""},{"$f":"IF($K224=照射試料の誘導放射能の計算書!$B$40&照射試料の誘導放射能の計算書!$D$40,COUNTIF($K224:$K482,照射試料の誘導放射能の計算書!$B$40&照射試料の誘導放射能の計算書!$D$40),\"\")","v":""},"W1-185m","(n,p)W1-185m",2E-3,1.67,"min"]
[74,null,"W",186,"W-186",28.6,"(n,p)","W187","W1",{"$f":"RIGHT(H225,3)","v":"187"},"W-186(n,p)",{"$f":"IF($K225=照射試料の誘導放射能の計算書!$B$31&照射試料の誘導放射能の計算書!$D$31,COUNTIF($K225:$K483,照射試料の誘導放射能の計算書!$B$31&照射試料の誘導放射能の計算書!$D$31),\"\")","v":""},{"$f":"IF($K225=照射試料の誘導放射能の計算書!$B$32&照射試料の誘導放射能の計算書!$D$32,COUNTIF($K225:$K483,照射試料の誘導放射能の計算書!$B$32&照射試料の誘導放射能の計算書!$D$32),\"\")","v":""},{"$f":"IF($K225=照射試料の誘導放射能の計算書!$B$33&照射試料の誘導放射能の計算書!$D$33,COUNTIF($K225:$K483,照射試料の誘導放射能の計算書!$B$33&照射試料の誘導放射能の計算書!$D$33),\"\")","v":""},{"$f":"IF($K225=照射試料の誘導放射能の計算書!$B$34&照射試料の誘導放射能の計算書!$D$34,COUNTIF($K225:$K483,照射試料の誘導放射能の計算書!$B$34&照射試料の誘導放射能の計算書!$D$34),\"\")","v":""},{"$f":"IF($K225=照射試料の誘導放射能の計算書!$B$35&照射試料の誘導放射能の計算書!$D$35,COUNTIF($K225:$K483,照射試料の誘導放射能の計算書!$B$35&照射試料の誘導放射能の計算書!$D$35),\"\")","v":""},{"$f":"IF($K225=照射試料の誘導放射能の計算書!$B$36&照射試料の誘導放射能の計算書!$D$36,COUNTIF($K225:$K483,照射試料の誘導放射能の計算書!$B$36&照射試料の誘導放射能の計算書!$D$36),\"\")","v":""},{"$f":"IF($K225=照射試料の誘導放射能の計算書!$B$37&照射試料の誘導放射能の計算書!$D$37,COUNTIF($K225:$K483,照射試料の誘導放射能の計算書!$B$37&照射試料の誘導放射能の計算書!$D$37),\"\")","v":""},{"$f":"IF($K225=照射試料の誘導放射能の計算書!$B$38&照射試料の誘導放射能の計算書!$D$38,COUNTIF($K225:$K483,照射試料の誘導放射能の計算書!$B$38&照射試料の誘導放射能の計算書!$D$38),\"\")","v":""},{"$f":"IF($K225=照射試料の誘導放射能の計算書!$B$39&照射試料の誘導放射能の計算書!$D$39,COUNTIF($K225:$K483,照射試料の誘導放射能の計算書!$B$39&照射試料の誘導放射能の計算書!$D$39),\"\")","v":""},{"$f":"IF($K225=照射試料の誘導放射能の計算書!$B$40&照射試料の誘導放射能の計算書!$D$40,COUNTIF($K225:$K483,照射試料の誘導放射能の計算書!$B$40&照射試料の誘導放射能の計算書!$D$40),\"\")","v":""},"W1-187","(n,p)W1-187",37.799999999999997,23.72,"h"]
[75,null,"Re",185,"Re-185",37.4,"(n,γ)","Re186","Re",{"$f":"RIGHT(H226,3)","v":"186"},"Re-185(n,γ)",{"$f":"IF($K226=照射試料の誘導放射能の計算書!$B$31&照射試料の誘導放射能の計算書!$D$31,COUNTIF($K226:$K484,照射試料の誘導放射能の計算書!$B$31&照射試料の誘導放射能の計算書!$D$31),\"\")","v":""},{"$f":"IF($K226=照射試料の誘導放射能の計算書!$B$32&照射試料の誘導放射能の計算書!$D$32,COUNTIF($K226:$K484,照射試料の誘導放射能の計算書!$B$32&照射試料の誘導放射能の計算書!$D$32),\"\")","v":""},{"$f":"IF($K226=照射試料の誘導放射能の計算書!$B$33&照射試料の誘導放射能の計算書!$D$33,COUNTIF($K226:$K484,照射試料の誘導放射能の計算書!$B$33&照射試料の誘導放射能の計算書!$D$33),\"\")","v":""},{"$f":"IF($K226=照射試料の誘導放射能の計算書!$B$34&照射試料の誘導放射能の計算書!$D$34,COUNTIF($K226:$K484,照射試料の誘導放射能の計算書!$B$34&照射試料の誘導放射能の計算書!$D$34),\"\")","v":""},{"$f":"IF($K226=照射試料の誘導放射能の計算書!$B$35&照射試料の誘導放射能の計算書!$D$35,COUNTIF($K226:$K484,照射試料の誘導放射能の計算書!$B$35&照射試料の誘導放射能の計算書!$D$35),\"\")","v":""},{"$f":"IF($K226=照射試料の誘導放射能の計算書!$B$36&照射試料の誘導放射能の計算書!$D$36,COUNTIF($K226:$K484,照射試料の誘導放射能の計算書!$B$36&照射試料の誘導放射能の計算書!$D$36),\"\")","v":""},{"$f":"IF($K226=照射試料の誘導放射能の計算書!$B$37&照射試料の誘導放射能の計算書!$D$37,COUNTIF($K226:$K484,照射試料の誘導放射能の計算書!$B$37&照射試料の誘導放射能の計算書!$D$37),\"\")","v":""},{"$f":"IF($K226=照射試料の誘導放射能の計算書!$B$38&照射試料の誘導放射能の計算書!$D$38,COUNTIF($K226:$K484,照射試料の誘導放射能の計算書!$B$38&照射試料の誘導放射能の計算書!$D$38),\"\")","v":""},{"$f":"IF($K226=照射試料の誘導放射能の計算書!$B$39&照射試料の誘導放射能の計算書!$D$39,COUNTIF($K226:$K484,照射試料の誘導放射能の計算書!$B$39&照射試料の誘導放射能の計算書!$D$39),\"\")","v":""},{"$f":"IF($K226=照射試料の誘導放射能の計算書!$B$40&照射試料の誘導放射能の計算書!$D$40,COUNTIF($K226:$K484,照射試料の誘導放射能の計算書!$B$40&照射試料の誘導放射能の計算書!$D$40),\"\")","v":""},"Re-186","(n,γ)Re-186",112,89.25,"h"]
[75,null,"Re",185,"Re-185",37.4,"(n,γ)","Re186m","Re",{"$f":"RIGHT(H227,4)","v":"186m"},"Re-185(n,γ)",{"$f":"IF($K227=照射試料の誘導放射能の計算書!$B$31&照射試料の誘導放射能の計算書!$D$31,COUNTIF($K227:$K485,照射試料の誘導放射能の計算書!$B$31&照射試料の誘導放射能の計算書!$D$31),\"\")","v":""},{"$f":"IF($K227=照射試料の誘導放射能の計算書!$B$32&照射試料の誘導放射能の計算書!$D$32,COUNTIF($K227:$K485,照射試料の誘導放射能の計算書!$B$32&照射試料の誘導放射能の計算書!$D$32),\"\")","v":""},{"$f":"IF($K227=照射試料の誘導放射能の計算書!$B$33&照射試料の誘導放射能の計算書!$D$33,COUNTIF($K227:$K485,照射試料の誘導放射能の計算書!$B$33&照射試料の誘導放射能の計算書!$D$33),\"\")","v":""},{"$f":"IF($K227=照射試料の誘導放射能の計算書!$B$34&照射試料の誘導放射能の計算書!$D$34,COUNTIF($K227:$K485,照射試料の誘導放射能の計算書!$B$34&照射試料の誘導放射能の計算書!$D$34),\"\")","v":""},{"$f":"IF($K227=照射試料の誘導放射能の計算書!$B$35&照射試料の誘導放射能の計算書!$D$35,COUNTIF($K227:$K485,照射試料の誘導放射能の計算書!$B$35&照射試料の誘導放射能の計算書!$D$35),\"\")","v":""},{"$f":"IF($K227=照射試料の誘導放射能の計算書!$B$36&照射試料の誘導放射能の計算書!$D$36,COUNTIF($K227:$K485,照射試料の誘導放射能の計算書!$B$36&照射試料の誘導放射能の計算書!$D$36),\"\")","v":""},{"$f":"IF($K227=照射試料の誘導放射能の計算書!$B$37&照射試料の誘導放射能の計算書!$D$37,COUNTIF($K227:$K485,照射試料の誘導放射能の計算書!$B$37&照射試料の誘導放射能の計算書!$D$37),\"\")","v":""},{"$f":"IF($K227=照射試料の誘導放射能の計算書!$B$38&照射試料の誘導放射能の計算書!$D$38,COUNTIF($K227:$K485,照射試料の誘導放射能の計算書!$B$38&照射試料の誘導放射能の計算書!$D$38),\"\")","v":""},{"$f":"IF($K227=照射試料の誘導放射能の計算書!$B$39&照射試料の誘導放射能の計算書!$D$39,COUNTIF($K227:$K485,照射試料の誘導放射能の計算書!$B$39&照射試料の誘導放射能の計算書!$D$39),\"\")","v":""},{"$f":"IF($K227=照射試料の誘導放射能の計算書!$B$40&照射試料の誘導放射能の計算書!$D$40,COUNTIF($K227:$K485,照射試料の誘導放射能の計算書!$B$40&照射試料の誘導放射能の計算書!$D$40),\"\")","v":""},"Re-186m","(n,γ)Re-186m",0.34,200000,"y"]
[75,null,"Re",187,"Re-187",62.6,"(n,γ)","Re188","Re",{"$f":"RIGHT(H228,3)","v":"188"},"Re-187(n,γ)",{"$f":"IF($K228=照射試料の誘導放射能の計算書!$B$31&照射試料の誘導放射能の計算書!$D$31,COUNTIF($K228:$K486,照射試料の誘導放射能の計算書!$B$31&照射試料の誘導放射能の計算書!$D$31),\"\")","v":""},{"$f":"IF($K228=照射試料の誘導放射能の計算書!$B$32&照射試料の誘導放射能の計算書!$D$32,COUNTIF($K228:$K486,照射試料の誘導放射能の計算書!$B$32&照射試料の誘導放射能の計算書!$D$32),\"\")","v":""},{"$f":"IF($K228=照射試料の誘導放射能の計算書!$B$33&照射試料の誘導放射能の計算書!$D$33,COUNTIF($K228:$K486,照射試料の誘導放射能の計算書!$B$33&照射試料の誘導放射能の計算書!$D$33),\"\")","v":""},{"$f":"IF($K228=照射試料の誘導放射能の計算書!$B$34&照射試料の誘導放射能の計算書!$D$34,COUNTIF($K228:$K486,照射試料の誘導放射能の計算書!$B$34&照射試料の誘導放射能の計算書!$D$34),\"\")","v":""},{"$f":"IF($K228=照射試料の誘導放射能の計算書!$B$35&照射試料の誘導放射能の計算書!$D$35,COUNTIF($K228:$K486,照射試料の誘導放射能の計算書!$B$35&照射試料の誘導放射能の計算書!$D$35),\"\")","v":""},{"$f":"IF($K228=照射試料の誘導放射能の計算書!$B$36&照射試料の誘導放射能の計算書!$D$36,COUNTIF($K228:$K486,照射試料の誘導放射能の計算書!$B$36&照射試料の誘導放射能の計算書!$D$36),\"\")","v":""},{"$f":"IF($K228=照射試料の誘導放射能の計算書!$B$37&照射試料の誘導放射能の計算書!$D$37,COUNTIF($K228:$K486,照射試料の誘導放射能の計算書!$B$37&照射試料の誘導放射能の計算書!$D$37),\"\")","v":""},{"$f":"IF($K228=照射試料の誘導放射能の計算書!$B$38&照射試料の誘導放射能の計算書!$D$38,COUNTIF($K228:$K486,照射試料の誘導放射能の計算書!$B$38&照射試料の誘導放射能の計算書!$D$38),\"\")","v":""},{"$f":"IF($K228=照射試料の誘導放射能の計算書!$B$39&照射試料の誘導放射能の計算書!$D$39,COUNTIF($K228:$K486,照射試料の誘導放射能の計算書!$B$39&照射試料の誘導放射能の計算書!$D$39),\"\")","v":""},{"$f":"IF($K228=照射試料の誘導放射能の計算書!$B$40&照射試料の誘導放射能の計算書!$D$40,COUNTIF($K228:$K486,照射試料の誘導放射能の計算書!$B$40&照射試料の誘導放射能の計算書!$D$40),\"\")","v":""},"Re-188","(n,γ)Re-188",1.6,16.98,"h"]
[75,null,"Re",187,"Re-187",62.6,"(n,γ)","Re188m","Re",{"$f":"RIGHT(H229,4)","v":"188m"},"Re-187(n,γ)",{"$f":"IF($K229=照射試料の誘導放射能の計算書!$B$31&照射試料の誘導放射能の計算書!$D$31,COUNTIF($K229:$K487,照射試料の誘導放射能の計算書!$B$31&照射試料の誘導放射能の計算書!$D$31),\"\")","v":""},{"$f":"IF($K229=照射試料の誘導放射能の計算書!$B$32&照射試料の誘導放射能の計算書!$D$32,COUNTIF($K229:$K487,照射試料の誘導放射能の計算書!$B$32&照射試料の誘導放射能の計算書!$D$32),\"\")","v":""},{"$f":"IF($K229=照射試料の誘導放射能の計算書!$B$33&照射試料の誘導放射能の計算書!$D$33,COUNTIF($K229:$K487,照射試料の誘導放射能の計算書!$B$33&照射試料の誘導放射能の計算書!$D$33),\"\")","v":""},{"$f":"IF($K229=照射試料の誘導放射能の計算書!$B$34&照射試料の誘導放射能の計算書!$D$34,COUNTIF($K229:$K487,照射試料の誘導放射能の計算書!$B$34&照射試料の誘導放射能の計算書!$D$34),\"\")","v":""},{"$f":"IF($K229=照射試料の誘導放射能の計算書!$B$35&照射試料の誘導放射能の計算書!$D$35,COUNTIF($K229:$K487,照射試料の誘導放射能の計算書!$B$35&照射試料の誘導放射能の計算書!$D$35),\"\")","v":""},{"$f":"IF($K229=照射試料の誘導放射能の計算書!$B$36&照射試料の誘導放射能の計算書!$D$36,COUNTIF($K229:$K487,照射試料の誘導放射能の計算書!$B$36&照射試料の誘導放射能の計算書!$D$36),\"\")","v":""},{"$f":"IF($K229=照射試料の誘導放射能の計算書!$B$37&照射試料の誘導放射能の計算書!$D$37,COUNTIF($K229:$K487,照射試料の誘導放射能の計算書!$B$37&照射試料の誘導放射能の計算書!$D$37),\"\")","v":""},{"$f":"IF($K229=照射試料の誘導放射能の計算書!$B$38&照射試料の誘導放射能の計算書!$D$38,COUNTIF($K229:$K487,照射試料の誘導放射能の計算書!$B$38&照射試料の誘導放射能の計算書!$D$38),\"\")","v":""},{"$f":"IF($K229=照射試料の誘導放射能の計算書!$B$39&照射試料の誘導放射能の計算書!$D$39,COUNTIF($K229:$K487,照射試料の誘導放射能の計算書!$B$39&照射試料の誘導放射能の計算書!$D$39),\"\")","v":""},{"$f":"IF($K229=照射試料の誘導放射能の計算書!$B$40&照射試料の誘導放射能の計算書!$D$40,COUNTIF($K229:$K487,照射試料の誘導放射能の計算書!$B$40&照射試料の誘導放射能の計算書!$D$40),\"\")","v":""},"Re-188m","(n,γ)Re-188m",73,18.600000000000001,"min"]
[76,null,"Os",184,"Os-184",0.02,"(n,γ)","Os185","Os",{"$f":"RIGHT(H230,3)","v":"185"},"Os-184(n,γ)",{"$f":"IF($K230=照射試料の誘導放射能の計算書!$B$31&照射試料の誘導放射能の計算書!$D$31,COUNTIF($K230:$K488,照射試料の誘導放射能の計算書!$B$31&照射試料の誘導放射能の計算書!$D$31),\"\")","v":""},{"$f":"IF($K230=照射試料の誘導放射能の計算書!$B$32&照射試料の誘導放射能の計算書!$D$32,COUNTIF($K230:$K488,照射試料の誘導放射能の計算書!$B$32&照射試料の誘導放射能の計算書!$D$32),\"\")","v":""},{"$f":"IF($K230=照射試料の誘導放射能の計算書!$B$33&照射試料の誘導放射能の計算書!$D$33,COUNTIF($K230:$K488,照射試料の誘導放射能の計算書!$B$33&照射試料の誘導放射能の計算書!$D$33),\"\")","v":""},{"$f":"IF($K230=照射試料の誘導放射能の計算書!$B$34&照射試料の誘導放射能の計算書!$D$34,COUNTIF($K230:$K488,照射試料の誘導放射能の計算書!$B$34&照射試料の誘導放射能の計算書!$D$34),\"\")","v":""},{"$f":"IF($K230=照射試料の誘導放射能の計算書!$B$35&照射試料の誘導放射能の計算書!$D$35,COUNTIF($K230:$K488,照射試料の誘導放射能の計算書!$B$35&照射試料の誘導放射能の計算書!$D$35),\"\")","v":""},{"$f":"IF($K230=照射試料の誘導放射能の計算書!$B$36&照射試料の誘導放射能の計算書!$D$36,COUNTIF($K230:$K488,照射試料の誘導放射能の計算書!$B$36&照射試料の誘導放射能の計算書!$D$36),\"\")","v":""},{"$f":"IF($K230=照射試料の誘導放射能の計算書!$B$37&照射試料の誘導放射能の計算書!$D$37,COUNTIF($K230:$K488,照射試料の誘導放射能の計算書!$B$37&照射試料の誘導放射能の計算書!$D$37),\"\")","v":""},{"$f":"IF($K230=照射試料の誘導放射能の計算書!$B$38&照射試料の誘導放射能の計算書!$D$38,COUNTIF($K230:$K488,照射試料の誘導放射能の計算書!$B$38&照射試料の誘導放射能の計算書!$D$38),\"\")","v":""},{"$f":"IF($K230=照射試料の誘導放射能の計算書!$B$39&照射試料の誘導放射能の計算書!$D$39,COUNTIF($K230:$K488,照射試料の誘導放射能の計算書!$B$39&照射試料の誘導放射能の計算書!$D$39),\"\")","v":""},{"$f":"IF($K230=照射試料の誘導放射能の計算書!$B$40&照射試料の誘導放射能の計算書!$D$40,COUNTIF($K230:$K488,照射試料の誘導放射能の計算書!$B$40&照射試料の誘導放射能の計算書!$D$40),\"\")","v":""},"Os-185","(n,γ)Os-185",3000,94,"d"]
[76,null,"Os",190,"Os-190",26.4,"(n,γ)","Os191","Os",{"$f":"RIGHT(H231,3)","v":"191"},"Os-190(n,γ)",{"$f":"IF($K231=照射試料の誘導放射能の計算書!$B$31&照射試料の誘導放射能の計算書!$D$31,COUNTIF($K231:$K489,照射試料の誘導放射能の計算書!$B$31&照射試料の誘導放射能の計算書!$D$31),\"\")","v":""},{"$f":"IF($K231=照射試料の誘導放射能の計算書!$B$32&照射試料の誘導放射能の計算書!$D$32,COUNTIF($K231:$K489,照射試料の誘導放射能の計算書!$B$32&照射試料の誘導放射能の計算書!$D$32),\"\")","v":""},{"$f":"IF($K231=照射試料の誘導放射能の計算書!$B$33&照射試料の誘導放射能の計算書!$D$33,COUNTIF($K231:$K489,照射試料の誘導放射能の計算書!$B$33&照射試料の誘導放射能の計算書!$D$33),\"\")","v":""},{"$f":"IF($K231=照射試料の誘導放射能の計算書!$B$34&照射試料の誘導放射能の計算書!$D$34,COUNTIF($K231:$K489,照射試料の誘導放射能の計算書!$B$34&照射試料の誘導放射能の計算書!$D$34),\"\")","v":""},{"$f":"IF($K231=照射試料の誘導放射能の計算書!$B$35&照射試料の誘導放射能の計算書!$D$35,COUNTIF($K231:$K489,照射試料の誘導放射能の計算書!$B$35&照射試料の誘導放射能の計算書!$D$35),\"\")","v":""},{"$f":"IF($K231=照射試料の誘導放射能の計算書!$B$36&照射試料の誘導放射能の計算書!$D$36,COUNTIF($K231:$K489,照射試料の誘導放射能の計算書!$B$36&照射試料の誘導放射能の計算書!$D$36),\"\")","v":""},{"$f":"IF($K231=照射試料の誘導放射能の計算書!$B$37&照射試料の誘導放射能の計算書!$D$37,COUNTIF($K231:$K489,照射試料の誘導放射能の計算書!$B$37&照射試料の誘導放射能の計算書!$D$37),\"\")","v":""},{"$f":"IF($K231=照射試料の誘導放射能の計算書!$B$38&照射試料の誘導放射能の計算書!$D$38,COUNTIF($K231:$K489,照射試料の誘導放射能の計算書!$B$38&照射試料の誘導放射能の計算書!$D$38),\"\")","v":""},{"$f":"IF($K231=照射試料の誘導放射能の計算書!$B$39&照射試料の誘導放射能の計算書!$D$39,COUNTIF($K231:$K489,照射試料の誘導放射能の計算書!$B$39&照射試料の誘導放射能の計算書!$D$39),\"\")","v":""},{"$f":"IF($K231=照射試料の誘導放射能の計算書!$B$40&照射試料の誘導放射能の計算書!$D$40,COUNTIF($K231:$K489,照射試料の誘導放射能の計算書!$B$40&照射試料の誘導放射能の計算書!$D$40),\"\")","v":""},"Os-191","(n,γ)Os-191",13,15.4,"d"]
[76,null,"Os",190,"Os-190",26.4,"(n,γ)","Os191m","Os",{"$f":"RIGHT(H232,4)","v":"191m"},"Os-190(n,γ)",{"$f":"IF($K232=照射試料の誘導放射能の計算書!$B$31&照射試料の誘導放射能の計算書!$D$31,COUNTIF($K232:$K490,照射試料の誘導放射能の計算書!$B$31&照射試料の誘導放射能の計算書!$D$31),\"\")","v":""},{"$f":"IF($K232=照射試料の誘導放射能の計算書!$B$32&照射試料の誘導放射能の計算書!$D$32,COUNTIF($K232:$K490,照射試料の誘導放射能の計算書!$B$32&照射試料の誘導放射能の計算書!$D$32),\"\")","v":""},{"$f":"IF($K232=照射試料の誘導放射能の計算書!$B$33&照射試料の誘導放射能の計算書!$D$33,COUNTIF($K232:$K490,照射試料の誘導放射能の計算書!$B$33&照射試料の誘導放射能の計算書!$D$33),\"\")","v":""},{"$f":"IF($K232=照射試料の誘導放射能の計算書!$B$34&照射試料の誘導放射能の計算書!$D$34,COUNTIF($K232:$K490,照射試料の誘導放射能の計算書!$B$34&照射試料の誘導放射能の計算書!$D$34),\"\")","v":""},{"$f":"IF($K232=照射試料の誘導放射能の計算書!$B$35&照射試料の誘導放射能の計算書!$D$35,COUNTIF($K232:$K490,照射試料の誘導放射能の計算書!$B$35&照射試料の誘導放射能の計算書!$D$35),\"\")","v":""},{"$f":"IF($K232=照射試料の誘導放射能の計算書!$B$36&照射試料の誘導放射能の計算書!$D$36,COUNTIF($K232:$K490,照射試料の誘導放射能の計算書!$B$36&照射試料の誘導放射能の計算書!$D$36),\"\")","v":""},{"$f":"IF($K232=照射試料の誘導放射能の計算書!$B$37&照射試料の誘導放射能の計算書!$D$37,COUNTIF($K232:$K490,照射試料の誘導放射能の計算書!$B$37&照射試料の誘導放射能の計算書!$D$37),\"\")","v":""},{"$f":"IF($K232=照射試料の誘導放射能の計算書!$B$38&照射試料の誘導放射能の計算書!$D$38,COUNTIF($K232:$K490,照射試料の誘導放射能の計算書!$B$38&照射試料の誘導放射能の計算書!$D$38),\"\")","v":""},{"$f":"IF($K232=照射試料の誘導放射能の計算書!$B$39&照射試料の誘導放射能の計算書!$D$39,COUNTIF($K232:$K490,照射試料の誘導放射能の計算書!$B$39&照射試料の誘導放射能の計算書!$D$39),\"\")","v":""},{"$f":"IF($K232=照射試料の誘導放射能の計算書!$B$40&照射試料の誘導放射能の計算書!$D$40,COUNTIF($K232:$K490,照射試料の誘導放射能の計算書!$B$40&照射試料の誘導放射能の計算書!$D$40),\"\")","v":""},"Os-191m","(n,γ)Os-191m",8.5500000000000007,13.1,"h"]
[76,null,"Os",192,"Os-192",41,"(n,γ)","Os193","Os",{"$f":"RIGHT(H233,3)","v":"193"},"Os-192(n,γ)",{"$f":"IF($K233=照射試料の誘導放射能の計算書!$B$31&照射試料の誘導放射能の計算書!$D$31,COUNTIF($K233:$K491,照射試料の誘導放射能の計算書!$B$31&照射試料の誘導放射能の計算書!$D$31),\"\")","v":""},{"$f":"IF($K234=照射試料の誘導放射能の計算書!$B$32&照射試料の誘導放射能の計算書!$D$32,COUNTIF($K234:$K491,照射試料の誘導放射能の計算書!$B$32&照射試料の誘導放射能の計算書!$D$32),\"\")","v":""},{"$f":"IF($K235=照射試料の誘導放射能の計算書!$B$33&照射試料の誘導放射能の計算書!$D$33,COUNTIF($K235:$K491,照射試料の誘導放射能の計算書!$B$33&照射試料の誘導放射能の計算書!$D$33),\"\")","v":""},{"$f":"IF($K236=照射試料の誘導放射能の計算書!$B$34&照射試料の誘導放射能の計算書!$D$34,COUNTIF($K236:$K491,照射試料の誘導放射能の計算書!$B$34&照射試料の誘導放射能の計算書!$D$34),\"\")","v":""},{"$f":"IF($K237=照射試料の誘導放射能の計算書!$B$35&照射試料の誘導放射能の計算書!$D$35,COUNTIF($K237:$K491,照射試料の誘導放射能の計算書!$B$35&照射試料の誘導放射能の計算書!$D$35),\"\")","v":""},{"$f":"IF($K238=照射試料の誘導放射能の計算書!$B$36&照射試料の誘導放射能の計算書!$D$36,COUNTIF($K238:$K491,照射試料の誘導放射能の計算書!$B$36&照射試料の誘導放射能の計算書!$D$36),\"\")","v":""},{"$f":"IF($K239=照射試料の誘導放射能の計算書!$B$37&照射試料の誘導放射能の計算書!$D$37,COUNTIF($K239:$K491,照射試料の誘導放射能の計算書!$B$37&照射試料の誘導放射能の計算書!$D$37),\"\")","v":""},{"$f":"IF($K240=照射試料の誘導放射能の計算書!$B$38&照射試料の誘導放射能の計算書!$D$38,COUNTIF($K240:$K491,照射試料の誘導放射能の計算書!$B$38&照射試料の誘導放射能の計算書!$D$38),\"\")","v":""},{"$f":"IF($K241=照射試料の誘導放射能の計算書!$B$39&照射試料の誘導放射能の計算書!$D$39,COUNTIF($K241:$K491,照射試料の誘導放射能の計算書!$B$39&照射試料の誘導放射能の計算書!$D$39),\"\")","v":""},{"$f":"IF($K242=照射試料の誘導放射能の計算書!$B$40&照射試料の誘導放射能の計算書!$D$40,COUNTIF($K242:$K491,照射試料の誘導放射能の計算書!$B$40&照射試料の誘導放射能の計算書!$D$40),\"\")","v":""},"Os-193","(n,γ)Os-193",2,30.11,"h"]
[77,null,"Ir",191,"Ir-191",37.299999999999997,"(n,γ)","Ir192","Ir",{"$f":"RIGHT(H234,3)","v":"192"},"Ir-191(n,γ)",{"$f":"IF($K234=照射試料の誘導放射能の計算書!$B$31&照射試料の誘導放射能の計算書!$D$31,COUNTIF($K234:$K492,照射試料の誘導放射能の計算書!$B$31&照射試料の誘導放射能の計算書!$D$31),\"\")","v":""},{"$f":"IF($K234=照射試料の誘導放射能の計算書!$B$32&照射試料の誘導放射能の計算書!$D$32,COUNTIF($K234:$K492,照射試料の誘導放射能の計算書!$B$32&照射試料の誘導放射能の計算書!$D$32),\"\")","v":""},{"$f":"IF($K234=照射試料の誘導放射能の計算書!$B$33&照射試料の誘導放射能の計算書!$D$33,COUNTIF($K234:$K492,照射試料の誘導放射能の計算書!$B$33&照射試料の誘導放射能の計算書!$D$33),\"\")","v":""},{"$f":"IF($K234=照射試料の誘導放射能の計算書!$B$34&照射試料の誘導放射能の計算書!$D$34,COUNTIF($K234:$K492,照射試料の誘導放射能の計算書!$B$34&照射試料の誘導放射能の計算書!$D$34),\"\")","v":""},{"$f":"IF($K234=照射試料の誘導放射能の計算書!$B$35&照射試料の誘導放射能の計算書!$D$35,COUNTIF($K234:$K492,照射試料の誘導放射能の計算書!$B$35&照射試料の誘導放射能の計算書!$D$35),\"\")","v":""},{"$f":"IF($K234=照射試料の誘導放射能の計算書!$B$36&照射試料の誘導放射能の計算書!$D$36,COUNTIF($K234:$K492,照射試料の誘導放射能の計算書!$B$36&照射試料の誘導放射能の計算書!$D$36),\"\")","v":""},{"$f":"IF($K234=照射試料の誘導放射能の計算書!$B$37&照射試料の誘導放射能の計算書!$D$37,COUNTIF($K234:$K492,照射試料の誘導放射能の計算書!$B$37&照射試料の誘導放射能の計算書!$D$37),\"\")","v":""},{"$f":"IF($K234=照射試料の誘導放射能の計算書!$B$38&照射試料の誘導放射能の計算書!$D$38,COUNTIF($K234:$K492,照射試料の誘導放射能の計算書!$B$38&照射試料の誘導放射能の計算書!$D$38),\"\")","v":""},{"$f":"IF($K234=照射試料の誘導放射能の計算書!$B$39&照射試料の誘導放射能の計算書!$D$39,COUNTIF($K234:$K492,照射試料の誘導放射能の計算書!$B$39&照射試料の誘導放射能の計算書!$D$39),\"\")","v":""},{"$f":"IF($K234=照射試料の誘導放射能の計算書!$B$40&照射試料の誘導放射能の計算書!$D$40,COUNTIF($K234:$K492,照射試料の誘導放射能の計算書!$B$40&照射試料の誘導放射能の計算書!$D$40),\"\")","v":""},"Ir-192","(n,γ)Ir-192",924,73.83,"d"]
[77,null,"Ir",191,"Ir-191",37.299999999999997,"(n,γ)","Ir192m1","Ir",{"$f":"RIGHT(H235,3)","v":"2m1"},"Ir-191(n,γ)",{"$f":"IF($K235=照射試料の誘導放射能の計算書!$B$31&照射試料の誘導放射能の計算書!$D$31,COUNTIF($K235:$K493,照射試料の誘導放射能の計算書!$B$31&照射試料の誘導放射能の計算書!$D$31),\"\")","v":""},{"$f":"IF($K235=照射試料の誘導放射能の計算書!$B$32&照射試料の誘導放射能の計算書!$D$32,COUNTIF($K235:$K493,照射試料の誘導放射能の計算書!$B$32&照射試料の誘導放射能の計算書!$D$32),\"\")","v":""},{"$f":"IF($K235=照射試料の誘導放射能の計算書!$B$33&照射試料の誘導放射能の計算書!$D$33,COUNTIF($K235:$K493,照射試料の誘導放射能の計算書!$B$33&照射試料の誘導放射能の計算書!$D$33),\"\")","v":""},{"$f":"IF($K235=照射試料の誘導放射能の計算書!$B$34&照射試料の誘導放射能の計算書!$D$34,COUNTIF($K235:$K493,照射試料の誘導放射能の計算書!$B$34&照射試料の誘導放射能の計算書!$D$34),\"\")","v":""},{"$f":"IF($K235=照射試料の誘導放射能の計算書!$B$35&照射試料の誘導放射能の計算書!$D$35,COUNTIF($K235:$K493,照射試料の誘導放射能の計算書!$B$35&照射試料の誘導放射能の計算書!$D$35),\"\")","v":""},{"$f":"IF($K235=照射試料の誘導放射能の計算書!$B$36&照射試料の誘導放射能の計算書!$D$36,COUNTIF($K235:$K493,照射試料の誘導放射能の計算書!$B$36&照射試料の誘導放射能の計算書!$D$36),\"\")","v":""},{"$f":"IF($K235=照射試料の誘導放射能の計算書!$B$37&照射試料の誘導放射能の計算書!$D$37,COUNTIF($K235:$K493,照射試料の誘導放射能の計算書!$B$37&照射試料の誘導放射能の計算書!$D$37),\"\")","v":""},{"$f":"IF($K235=照射試料の誘導放射能の計算書!$B$38&照射試料の誘導放射能の計算書!$D$38,COUNTIF($K235:$K493,照射試料の誘導放射能の計算書!$B$38&照射試料の誘導放射能の計算書!$D$38),\"\")","v":""},{"$f":"IF($K235=照射試料の誘導放射能の計算書!$B$39&照射試料の誘導放射能の計算書!$D$39,COUNTIF($K235:$K493,照射試料の誘導放射能の計算書!$B$39&照射試料の誘導放射能の計算書!$D$39),\"\")","v":""},{"$f":"IF($K235=照射試料の誘導放射能の計算書!$B$40&照射試料の誘導放射能の計算書!$D$40,COUNTIF($K235:$K493,照射試料の誘導放射能の計算書!$B$40&照射試料の誘導放射能の計算書!$D$40),\"\")","v":""},"Ir-2m1","(n,γ)Ir-2m1",300,1.4,"min"]
[77,null,"Ir",191,"Ir-191",37.299999999999997,"(n,γ)","Ir192m2","Ir",{"$f":"RIGHT(H236,3)","v":"2m2"},"Ir-191(n,γ)",{"$f":"IF($K236=照射試料の誘導放射能の計算書!$B$31&照射試料の誘導放射能の計算書!$D$31,COUNTIF($K236:$K494,照射試料の誘導放射能の計算書!$B$31&照射試料の誘導放射能の計算書!$D$31),\"\")","v":""},{"$f":"IF($K236=照射試料の誘導放射能の計算書!$B$32&照射試料の誘導放射能の計算書!$D$32,COUNTIF($K236:$K494,照射試料の誘導放射能の計算書!$B$32&照射試料の誘導放射能の計算書!$D$32),\"\")","v":""},{"$f":"IF($K236=照射試料の誘導放射能の計算書!$B$33&照射試料の誘導放射能の計算書!$D$33,COUNTIF($K236:$K494,照射試料の誘導放射能の計算書!$B$33&照射試料の誘導放射能の計算書!$D$33),\"\")","v":""},{"$f":"IF($K236=照射試料の誘導放射能の計算書!$B$34&照射試料の誘導放射能の計算書!$D$34,COUNTIF($K236:$K494,照射試料の誘導放射能の計算書!$B$34&照射試料の誘導放射能の計算書!$D$34),\"\")","v":""},{"$f":"IF($K236=照射試料の誘導放射能の計算書!$B$35&照射試料の誘導放射能の計算書!$D$35,COUNTIF($K236:$K494,照射試料の誘導放射能の計算書!$B$35&照射試料の誘導放射能の計算書!$D$35),\"\")","v":""},{"$f":"IF($K236=照射試料の誘導放射能の計算書!$B$36&照射試料の誘導放射能の計算書!$D$36,COUNTIF($K236:$K494,照射試料の誘導放射能の計算書!$B$36&照射試料の誘導放射能の計算書!$D$36),\"\")","v":""},{"$f":"IF($K236=照射試料の誘導放射能の計算書!$B$37&照射試料の誘導放射能の計算書!$D$37,COUNTIF($K236:$K494,照射試料の誘導放射能の計算書!$B$37&照射試料の誘導放射能の計算書!$D$37),\"\")","v":""},{"$f":"IF($K236=照射試料の誘導放射能の計算書!$B$38&照射試料の誘導放射能の計算書!$D$38,COUNTIF($K236:$K494,照射試料の誘導放射能の計算書!$B$38&照射試料の誘導放射能の計算書!$D$38),\"\")","v":""},{"$f":"IF($K236=照射試料の誘導放射能の計算書!$B$39&照射試料の誘導放射能の計算書!$D$39,COUNTIF($K236:$K494,照射試料の誘導放射能の計算書!$B$39&照射試料の誘導放射能の計算書!$D$39),\"\")","v":""},{"$f":"IF($K236=照射試料の誘導放射能の計算書!$B$40&照射試料の誘導放射能の計算書!$D$40,COUNTIF($K236:$K494,照射試料の誘導放射能の計算書!$B$40&照射試料の誘導放射能の計算書!$D$40),\"\")","v":""},"Ir-2m2","(n,γ)Ir-2m2",0.38,241,"y"]
[77,null,"Ir",193,"Ir-193",62.7,"(n,γ)","Ir194","Ir",{"$f":"RIGHT(H237,3)","v":"194"},"Ir-193(n,γ)",{"$f":"IF($K237=照射試料の誘導放射能の計算書!$B$31&照射試料の誘導放射能の計算書!$D$31,COUNTIF($K237:$K495,照射試料の誘導放射能の計算書!$B$31&照射試料の誘導放射能の計算書!$D$31),\"\")","v":""},{"$f":"IF($K237=照射試料の誘導放射能の計算書!$B$32&照射試料の誘導放射能の計算書!$D$32,COUNTIF($K237:$K495,照射試料の誘導放射能の計算書!$B$32&照射試料の誘導放射能の計算書!$D$32),\"\")","v":""},{"$f":"IF($K237=照射試料の誘導放射能の計算書!$B$33&照射試料の誘導放射能の計算書!$D$33,COUNTIF($K237:$K495,照射試料の誘導放射能の計算書!$B$33&照射試料の誘導放射能の計算書!$D$33),\"\")","v":""},{"$f":"IF($K237=照射試料の誘導放射能の計算書!$B$34&照射試料の誘導放射能の計算書!$D$34,COUNTIF($K237:$K495,照射試料の誘導放射能の計算書!$B$34&照射試料の誘導放射能の計算書!$D$34),\"\")","v":""},{"$f":"IF($K237=照射試料の誘導放射能の計算書!$B$35&照射試料の誘導放射能の計算書!$D$35,COUNTIF($K237:$K495,照射試料の誘導放射能の計算書!$B$35&照射試料の誘導放射能の計算書!$D$35),\"\")","v":""},{"$f":"IF($K237=照射試料の誘導放射能の計算書!$B$36&照射試料の誘導放射能の計算書!$D$36,COUNTIF($K237:$K495,照射試料の誘導放射能の計算書!$B$36&照射試料の誘導放射能の計算書!$D$36),\"\")","v":""},{"$f":"IF($K237=照射試料の誘導放射能の計算書!$B$37&照射試料の誘導放射能の計算書!$D$37,COUNTIF($K237:$K495,照射試料の誘導放射能の計算書!$B$37&照射試料の誘導放射能の計算書!$D$37),\"\")","v":""},{"$f":"IF($K237=照射試料の誘導放射能の計算書!$B$38&照射試料の誘導放射能の計算書!$D$38,COUNTIF($K237:$K495,照射試料の誘導放射能の計算書!$B$38&照射試料の誘導放射能の計算書!$D$38),\"\")","v":""},{"$f":"IF($K237=照射試料の誘導放射能の計算書!$B$39&照射試料の誘導放射能の計算書!$D$39,COUNTIF($K237:$K495,照射試料の誘導放射能の計算書!$B$39&照射試料の誘導放射能の計算書!$D$39),\"\")","v":""},{"$f":"IF($K237=照射試料の誘導放射能の計算書!$B$40&照射試料の誘導放射能の計算書!$D$40,COUNTIF($K237:$K495,照射試料の誘導放射能の計算書!$B$40&照射試料の誘導放射能の計算書!$D$40),\"\")","v":""},"Ir-194","(n,γ)Ir-194",112.5,19.149999999999999,"h"]
[77,null,"Ir",193,"Ir-193",62.7,"(n,γ)","Ir194m","Ir",{"$f":"RIGHT(H238,4)","v":"194m"},"Ir-193(n,γ)",{"$f":"IF($K238=照射試料の誘導放射能の計算書!$B$31&照射試料の誘導放射能の計算書!$D$31,COUNTIF($K238:$K496,照射試料の誘導放射能の計算書!$B$31&照射試料の誘導放射能の計算書!$D$31),\"\")","v":""},{"$f":"IF($K238=照射試料の誘導放射能の計算書!$B$32&照射試料の誘導放射能の計算書!$D$32,COUNTIF($K238:$K496,照射試料の誘導放射能の計算書!$B$32&照射試料の誘導放射能の計算書!$D$32),\"\")","v":""},{"$f":"IF($K238=照射試料の誘導放射能の計算書!$B$33&照射試料の誘導放射能の計算書!$D$33,COUNTIF($K238:$K496,照射試料の誘導放射能の計算書!$B$33&照射試料の誘導放射能の計算書!$D$33),\"\")","v":""},{"$f":"IF($K238=照射試料の誘導放射能の計算書!$B$34&照射試料の誘導放射能の計算書!$D$34,COUNTIF($K238:$K496,照射試料の誘導放射能の計算書!$B$34&照射試料の誘導放射能の計算書!$D$34),\"\")","v":""},{"$f":"IF($K238=照射試料の誘導放射能の計算書!$B$35&照射試料の誘導放射能の計算書!$D$35,COUNTIF($K238:$K496,照射試料の誘導放射能の計算書!$B$35&照射試料の誘導放射能の計算書!$D$35),\"\")","v":""},{"$f":"IF($K238=照射試料の誘導放射能の計算書!$B$36&照射試料の誘導放射能の計算書!$D$36,COUNTIF($K238:$K496,照射試料の誘導放射能の計算書!$B$36&照射試料の誘導放射能の計算書!$D$36),\"\")","v":""},{"$f":"IF($K238=照射試料の誘導放射能の計算書!$B$37&照射試料の誘導放射能の計算書!$D$37,COUNTIF($K238:$K496,照射試料の誘導放射能の計算書!$B$37&照射試料の誘導放射能の計算書!$D$37),\"\")","v":""},{"$f":"IF($K238=照射試料の誘導放射能の計算書!$B$38&照射試料の誘導放射能の計算書!$D$38,COUNTIF($K238:$K496,照射試料の誘導放射能の計算書!$B$38&照射試料の誘導放射能の計算書!$D$38),\"\")","v":""},{"$f":"IF($K238=照射試料の誘導放射能の計算書!$B$39&照射試料の誘導放射能の計算書!$D$39,COUNTIF($K238:$K496,照射試料の誘導放射能の計算書!$B$39&照射試料の誘導放射能の計算書!$D$39),\"\")","v":""},{"$f":"IF($K238=照射試料の誘導放射能の計算書!$B$40&照射試料の誘導放射能の計算書!$D$40,COUNTIF($K238:$K496,照射試料の誘導放射能の計算書!$B$40&照射試料の誘導放射能の計算書!$D$40),\"\")","v":""},"Ir-194m","(n,γ)Ir-194m",6,171,"d"]
[78,null,"Pt",190,"Pt-190",0.01,"(n,γ)","Pt191","Pt",{"$f":"RIGHT(H239,3)","v":"191"},"Pt-190(n,γ)",{"$f":"IF($K239=照射試料の誘導放射能の計算書!$B$31&照射試料の誘導放射能の計算書!$D$31,COUNTIF($K239:$K497,照射試料の誘導放射能の計算書!$B$31&照射試料の誘導放射能の計算書!$D$31),\"\")","v":""},{"$f":"IF($K239=照射試料の誘導放射能の計算書!$B$32&照射試料の誘導放射能の計算書!$D$32,COUNTIF($K239:$K497,照射試料の誘導放射能の計算書!$B$32&照射試料の誘導放射能の計算書!$D$32),\"\")","v":""},{"$f":"IF($K239=照射試料の誘導放射能の計算書!$B$33&照射試料の誘導放射能の計算書!$D$33,COUNTIF($K239:$K497,照射試料の誘導放射能の計算書!$B$33&照射試料の誘導放射能の計算書!$D$33),\"\")","v":""},{"$f":"IF($K239=照射試料の誘導放射能の計算書!$B$34&照射試料の誘導放射能の計算書!$D$34,COUNTIF($K239:$K497,照射試料の誘導放射能の計算書!$B$34&照射試料の誘導放射能の計算書!$D$34),\"\")","v":""},{"$f":"IF($K239=照射試料の誘導放射能の計算書!$B$35&照射試料の誘導放射能の計算書!$D$35,COUNTIF($K239:$K497,照射試料の誘導放射能の計算書!$B$35&照射試料の誘導放射能の計算書!$D$35),\"\")","v":""},{"$f":"IF($K239=照射試料の誘導放射能の計算書!$B$36&照射試料の誘導放射能の計算書!$D$36,COUNTIF($K239:$K497,照射試料の誘導放射能の計算書!$B$36&照射試料の誘導放射能の計算書!$D$36),\"\")","v":""},{"$f":"IF($K239=照射試料の誘導放射能の計算書!$B$37&照射試料の誘導放射能の計算書!$D$37,COUNTIF($K239:$K497,照射試料の誘導放射能の計算書!$B$37&照射試料の誘導放射能の計算書!$D$37),\"\")","v":""},{"$f":"IF($K239=照射試料の誘導放射能の計算書!$B$38&照射試料の誘導放射能の計算書!$D$38,COUNTIF($K239:$K497,照射試料の誘導放射能の計算書!$B$38&照射試料の誘導放射能の計算書!$D$38),\"\")","v":""},{"$f":"IF($K239=照射試料の誘導放射能の計算書!$B$39&照射試料の誘導放射能の計算書!$D$39,COUNTIF($K239:$K497,照射試料の誘導放射能の計算書!$B$39&照射試料の誘導放射能の計算書!$D$39),\"\")","v":""},{"$f":"IF($K239=照射試料の誘導放射能の計算書!$B$40&照射試料の誘導放射能の計算書!$D$40,COUNTIF($K239:$K497,照射試料の誘導放射能の計算書!$B$40&照射試料の誘導放射能の計算書!$D$40),\"\")","v":""},"Pt-191","(n,γ)Pt-191",150,2.8,"d"]
[78,null,"Pt",192,"Pt-192",0.79,"(n,γ)","Pt193","Pt",{"$f":"RIGHT(H240,3)","v":"193"},"Pt-192(n,γ)",{"$f":"IF($K240=照射試料の誘導放射能の計算書!$B$31&照射試料の誘導放射能の計算書!$D$31,COUNTIF($K240:$K498,照射試料の誘導放射能の計算書!$B$31&照射試料の誘導放射能の計算書!$D$31),\"\")","v":""},{"$f":"IF($K240=照射試料の誘導放射能の計算書!$B$32&照射試料の誘導放射能の計算書!$D$32,COUNTIF($K240:$K498,照射試料の誘導放射能の計算書!$B$32&照射試料の誘導放射能の計算書!$D$32),\"\")","v":""},{"$f":"IF($K240=照射試料の誘導放射能の計算書!$B$33&照射試料の誘導放射能の計算書!$D$33,COUNTIF($K240:$K498,照射試料の誘導放射能の計算書!$B$33&照射試料の誘導放射能の計算書!$D$33),\"\")","v":""},{"$f":"IF($K240=照射試料の誘導放射能の計算書!$B$34&照射試料の誘導放射能の計算書!$D$34,COUNTIF($K240:$K498,照射試料の誘導放射能の計算書!$B$34&照射試料の誘導放射能の計算書!$D$34),\"\")","v":""},{"$f":"IF($K240=照射試料の誘導放射能の計算書!$B$35&照射試料の誘導放射能の計算書!$D$35,COUNTIF($K240:$K498,照射試料の誘導放射能の計算書!$B$35&照射試料の誘導放射能の計算書!$D$35),\"\")","v":""},{"$f":"IF($K240=照射試料の誘導放射能の計算書!$B$36&照射試料の誘導放射能の計算書!$D$36,COUNTIF($K240:$K498,照射試料の誘導放射能の計算書!$B$36&照射試料の誘導放射能の計算書!$D$36),\"\")","v":""},{"$f":"IF($K240=照射試料の誘導放射能の計算書!$B$37&照射試料の誘導放射能の計算書!$D$37,COUNTIF($K240:$K498,照射試料の誘導放射能の計算書!$B$37&照射試料の誘導放射能の計算書!$D$37),\"\")","v":""},{"$f":"IF($K240=照射試料の誘導放射能の計算書!$B$38&照射試料の誘導放射能の計算書!$D$38,COUNTIF($K240:$K498,照射試料の誘導放射能の計算書!$B$38&照射試料の誘導放射能の計算書!$D$38),\"\")","v":""},{"$f":"IF($K240=照射試料の誘導放射能の計算書!$B$39&照射試料の誘導放射能の計算書!$D$39,COUNTIF($K240:$K498,照射試料の誘導放射能の計算書!$B$39&照射試料の誘導放射能の計算書!$D$39),\"\")","v":""},{"$f":"IF($K240=照射試料の誘導放射能の計算書!$B$40&照射試料の誘導放射能の計算書!$D$40,COUNTIF($K240:$K498,照射試料の誘導放射能の計算書!$B$40&照射試料の誘導放射能の計算書!$D$40),\"\")","v":""},"Pt-193","(n,γ)Pt-193",6,50,"y"]
[78,null,"Pt",192,"Pt-192",0.79,"(n,γ)","Pt193m","Pt",{"$f":"RIGHT(H241,4)","v":"193m"},"Pt-192(n,γ)",{"$f":"IF($K241=照射試料の誘導放射能の計算書!$B$31&照射試料の誘導放射能の計算書!$D$31,COUNTIF($K241:$K499,照射試料の誘導放射能の計算書!$B$31&照射試料の誘導放射能の計算書!$D$31),\"\")","v":""},{"$f":"IF($K241=照射試料の誘導放射能の計算書!$B$32&照射試料の誘導放射能の計算書!$D$32,COUNTIF($K241:$K499,照射試料の誘導放射能の計算書!$B$32&照射試料の誘導放射能の計算書!$D$32),\"\")","v":""},{"$f":"IF($K241=照射試料の誘導放射能の計算書!$B$33&照射試料の誘導放射能の計算書!$D$33,COUNTIF($K241:$K499,照射試料の誘導放射能の計算書!$B$33&照射試料の誘導放射能の計算書!$D$33),\"\")","v":""},{"$f":"IF($K241=照射試料の誘導放射能の計算書!$B$34&照射試料の誘導放射能の計算書!$D$34,COUNTIF($K241:$K499,照射試料の誘導放射能の計算書!$B$34&照射試料の誘導放射能の計算書!$D$34),\"\")","v":""},{"$f":"IF($K241=照射試料の誘導放射能の計算書!$B$35&照射試料の誘導放射能の計算書!$D$35,COUNTIF($K241:$K499,照射試料の誘導放射能の計算書!$B$35&照射試料の誘導放射能の計算書!$D$35),\"\")","v":""},{"$f":"IF($K241=照射試料の誘導放射能の計算書!$B$36&照射試料の誘導放射能の計算書!$D$36,COUNTIF($K241:$K499,照射試料の誘導放射能の計算書!$B$36&照射試料の誘導放射能の計算書!$D$36),\"\")","v":""},{"$f":"IF($K241=照射試料の誘導放射能の計算書!$B$37&照射試料の誘導放射能の計算書!$D$37,COUNTIF($K241:$K499,照射試料の誘導放射能の計算書!$B$37&照射試料の誘導放射能の計算書!$D$37),\"\")","v":""},{"$f":"IF($K241=照射試料の誘導放射能の計算書!$B$38&照射試料の誘導放射能の計算書!$D$38,COUNTIF($K241:$K499,照射試料の誘導放射能の計算書!$B$38&照射試料の誘導放射能の計算書!$D$38),\"\")","v":""},{"$f":"IF($K241=照射試料の誘導放射能の計算書!$B$39&照射試料の誘導放射能の計算書!$D$39,COUNTIF($K241:$K499,照射試料の誘導放射能の計算書!$B$39&照射試料の誘導放射能の計算書!$D$39),\"\")","v":""},{"$f":"IF($K241=照射試料の誘導放射能の計算書!$B$40&照射試料の誘導放射能の計算書!$D$40,COUNTIF($K241:$K499,照射試料の誘導放射能の計算書!$B$40&照射試料の誘導放射能の計算書!$D$40),\"\")","v":""},"Pt-193m","(n,γ)Pt-193m",2.2000000000000002,4.33,"d"]
[78,null,"Pt",194,"Pt-194",32.9,"(n,γ)","Pt195m","Pt","195m","Pt-194(n,γ)",{"$f":"IF($K242=照射試料の誘導放射能の計算書!$B$31&照射試料の誘導放射能の計算書!$D$31,COUNTIF($K242:$K500,照射試料の誘導放射能の計算書!$B$31&照射試料の誘導放射能の計算書!$D$31),\"\")","v":""},{"$f":"IF($K242=照射試料の誘導放射能の計算書!$B$32&照射試料の誘導放射能の計算書!$D$32,COUNTIF($K242:$K500,照射試料の誘導放射能の計算書!$B$32&照射試料の誘導放射能の計算書!$D$32),\"\")","v":""},{"$f":"IF($K242=照射試料の誘導放射能の計算書!$B$33&照射試料の誘導放射能の計算書!$D$33,COUNTIF($K242:$K500,照射試料の誘導放射能の計算書!$B$33&照射試料の誘導放射能の計算書!$D$33),\"\")","v":""},{"$f":"IF($K242=照射試料の誘導放射能の計算書!$B$34&照射試料の誘導放射能の計算書!$D$34,COUNTIF($K242:$K500,照射試料の誘導放射能の計算書!$B$34&照射試料の誘導放射能の計算書!$D$34),\"\")","v":""},{"$f":"IF($K242=照射試料の誘導放射能の計算書!$B$35&照射試料の誘導放射能の計算書!$D$35,COUNTIF($K242:$K500,照射試料の誘導放射能の計算書!$B$35&照射試料の誘導放射能の計算書!$D$35),\"\")","v":""},{"$f":"IF($K242=照射試料の誘導放射能の計算書!$B$36&照射試料の誘導放射能の計算書!$D$36,COUNTIF($K242:$K500,照射試料の誘導放射能の計算書!$B$36&照射試料の誘導放射能の計算書!$D$36),\"\")","v":""},{"$f":"IF($K242=照射試料の誘導放射能の計算書!$B$37&照射試料の誘導放射能の計算書!$D$37,COUNTIF($K242:$K500,照射試料の誘導放射能の計算書!$B$37&照射試料の誘導放射能の計算書!$D$37),\"\")","v":""},{"$f":"IF($K242=照射試料の誘導放射能の計算書!$B$38&照射試料の誘導放射能の計算書!$D$38,COUNTIF($K242:$K500,照射試料の誘導放射能の計算書!$B$38&照射試料の誘導放射能の計算書!$D$38),\"\")","v":""},{"$f":"IF($K242=照射試料の誘導放射能の計算書!$B$39&照射試料の誘導放射能の計算書!$D$39,COUNTIF($K242:$K500,照射試料の誘導放射能の計算書!$B$39&照射試料の誘導放射能の計算書!$D$39),\"\")","v":""},{"$f":"IF($K242=照射試料の誘導放射能の計算書!$B$40&照射試料の誘導放射能の計算書!$D$40,COUNTIF($K242:$K500,照射試料の誘導放射能の計算書!$B$40&照射試料の誘導放射能の計算書!$D$40),\"\")","v":""},"Pt-195m","(n,γ)Pt-195m",0.1,4.0199999999999996,"d"]
[78,null,"Pt",196,"Pt-196",25.3,"(n,γ)","Pt197","Pt",{"$f":"RIGHT(H243,3)","v":"197"},"Pt-196(n,γ)",{"$f":"IF($K243=照射試料の誘導放射能の計算書!$B$31&照射試料の誘導放射能の計算書!$D$31,COUNTIF($K243:$K501,照射試料の誘導放射能の計算書!$B$31&照射試料の誘導放射能の計算書!$D$31),\"\")","v":""},{"$f":"IF($K243=照射試料の誘導放射能の計算書!$B$32&照射試料の誘導放射能の計算書!$D$32,COUNTIF($K243:$K501,照射試料の誘導放射能の計算書!$B$32&照射試料の誘導放射能の計算書!$D$32),\"\")","v":""},{"$f":"IF($K243=照射試料の誘導放射能の計算書!$B$33&照射試料の誘導放射能の計算書!$D$33,COUNTIF($K243:$K501,照射試料の誘導放射能の計算書!$B$33&照射試料の誘導放射能の計算書!$D$33),\"\")","v":""},{"$f":"IF($K243=照射試料の誘導放射能の計算書!$B$34&照射試料の誘導放射能の計算書!$D$34,COUNTIF($K243:$K501,照射試料の誘導放射能の計算書!$B$34&照射試料の誘導放射能の計算書!$D$34),\"\")","v":""},{"$f":"IF($K243=照射試料の誘導放射能の計算書!$B$35&照射試料の誘導放射能の計算書!$D$35,COUNTIF($K243:$K501,照射試料の誘導放射能の計算書!$B$35&照射試料の誘導放射能の計算書!$D$35),\"\")","v":""},{"$f":"IF($K243=照射試料の誘導放射能の計算書!$B$36&照射試料の誘導放射能の計算書!$D$36,COUNTIF($K243:$K501,照射試料の誘導放射能の計算書!$B$36&照射試料の誘導放射能の計算書!$D$36),\"\")","v":""},{"$f":"IF($K243=照射試料の誘導放射能の計算書!$B$37&照射試料の誘導放射能の計算書!$D$37,COUNTIF($K243:$K501,照射試料の誘導放射能の計算書!$B$37&照射試料の誘導放射能の計算書!$D$37),\"\")","v":""},{"$f":"IF($K243=照射試料の誘導放射能の計算書!$B$38&照射試料の誘導放射能の計算書!$D$38,COUNTIF($K243:$K501,照射試料の誘導放射能の計算書!$B$38&照射試料の誘導放射能の計算書!$D$38),\"\")","v":""},{"$f":"IF($K243=照射試料の誘導放射能の計算書!$B$39&照射試料の誘導放射能の計算書!$D$39,COUNTIF($K243:$K501,照射試料の誘導放射能の計算書!$B$39&照射試料の誘導放射能の計算書!$D$39),\"\")","v":""},{"$f":"IF($K243=照射試料の誘導放射能の計算書!$B$40&照射試料の誘導放射能の計算書!$D$40,COUNTIF($K243:$K501,照射試料の誘導放射能の計算書!$B$40&照射試料の誘導放射能の計算書!$D$40),\"\")","v":""},"Pt-197","(n,γ)Pt-197",0.74,18.3,"h"]
[78,null,"Pt",196,"Pt-196",25.3,"(n,γ)","Pt197m","Pt",{"$f":"RIGHT(H244,4)","v":"197m"},"Pt-196(n,γ)",{"$f":"IF($K244=照射試料の誘導放射能の計算書!$B$31&照射試料の誘導放射能の計算書!$D$31,COUNTIF($K244:$K502,照射試料の誘導放射能の計算書!$B$31&照射試料の誘導放射能の計算書!$D$31),\"\")","v":""},{"$f":"IF($K244=照射試料の誘導放射能の計算書!$B$32&照射試料の誘導放射能の計算書!$D$32,COUNTIF($K244:$K502,照射試料の誘導放射能の計算書!$B$32&照射試料の誘導放射能の計算書!$D$32),\"\")","v":""},{"$f":"IF($K244=照射試料の誘導放射能の計算書!$B$33&照射試料の誘導放射能の計算書!$D$33,COUNTIF($K244:$K502,照射試料の誘導放射能の計算書!$B$33&照射試料の誘導放射能の計算書!$D$33),\"\")","v":""},{"$f":"IF($K244=照射試料の誘導放射能の計算書!$B$34&照射試料の誘導放射能の計算書!$D$34,COUNTIF($K244:$K502,照射試料の誘導放射能の計算書!$B$34&照射試料の誘導放射能の計算書!$D$34),\"\")","v":""},{"$f":"IF($K244=照射試料の誘導放射能の計算書!$B$35&照射試料の誘導放射能の計算書!$D$35,COUNTIF($K244:$K502,照射試料の誘導放射能の計算書!$B$35&照射試料の誘導放射能の計算書!$D$35),\"\")","v":""},{"$f":"IF($K244=照射試料の誘導放射能の計算書!$B$36&照射試料の誘導放射能の計算書!$D$36,COUNTIF($K244:$K502,照射試料の誘導放射能の計算書!$B$36&照射試料の誘導放射能の計算書!$D$36),\"\")","v":""},{"$f":"IF($K244=照射試料の誘導放射能の計算書!$B$37&照射試料の誘導放射能の計算書!$D$37,COUNTIF($K244:$K502,照射試料の誘導放射能の計算書!$B$37&照射試料の誘導放射能の計算書!$D$37),\"\")","v":""},{"$f":"IF($K244=照射試料の誘導放射能の計算書!$B$38&照射試料の誘導放射能の計算書!$D$38,COUNTIF($K244:$K502,照射試料の誘導放射能の計算書!$B$38&照射試料の誘導放射能の計算書!$D$38),\"\")","v":""},{"$f":"IF($K244=照射試料の誘導放射能の計算書!$B$39&照射試料の誘導放射能の計算書!$D$39,COUNTIF($K244:$K502,照射試料の誘導放射能の計算書!$B$39&照射試料の誘導放射能の計算書!$D$39),\"\")","v":""},{"$f":"IF($K244=照射試料の誘導放射能の計算書!$B$40&照射試料の誘導放射能の計算書!$D$40,COUNTIF($K244:$K502,照射試料の誘導放射能の計算書!$B$40&照射試料の誘導放射能の計算書!$D$40),\"\")","v":""},"Pt-197m","(n,γ)Pt-197m",0.05,94.4,"min"]
[78,null,"Pt",198,"Pt-198",7.2,"(n,γ)","Pt199","Pt",{"$f":"RIGHT(H245,3)","v":"199"},"Pt-198(n,γ)",{"$f":"IF($K245=照射試料の誘導放射能の計算書!$B$31&照射試料の誘導放射能の計算書!$D$31,COUNTIF($K245:$K503,照射試料の誘導放射能の計算書!$B$31&照射試料の誘導放射能の計算書!$D$31),\"\")","v":""},{"$f":"IF($K245=照射試料の誘導放射能の計算書!$B$32&照射試料の誘導放射能の計算書!$D$32,COUNTIF($K245:$K503,照射試料の誘導放射能の計算書!$B$32&照射試料の誘導放射能の計算書!$D$32),\"\")","v":""},{"$f":"IF($K245=照射試料の誘導放射能の計算書!$B$33&照射試料の誘導放射能の計算書!$D$33,COUNTIF($K245:$K503,照射試料の誘導放射能の計算書!$B$33&照射試料の誘導放射能の計算書!$D$33),\"\")","v":""},{"$f":"IF($K245=照射試料の誘導放射能の計算書!$B$34&照射試料の誘導放射能の計算書!$D$34,COUNTIF($K245:$K503,照射試料の誘導放射能の計算書!$B$34&照射試料の誘導放射能の計算書!$D$34),\"\")","v":""},{"$f":"IF($K245=照射試料の誘導放射能の計算書!$B$35&照射試料の誘導放射能の計算書!$D$35,COUNTIF($K245:$K503,照射試料の誘導放射能の計算書!$B$35&照射試料の誘導放射能の計算書!$D$35),\"\")","v":""},{"$f":"IF($K245=照射試料の誘導放射能の計算書!$B$36&照射試料の誘導放射能の計算書!$D$36,COUNTIF($K245:$K503,照射試料の誘導放射能の計算書!$B$36&照射試料の誘導放射能の計算書!$D$36),\"\")","v":""},{"$f":"IF($K245=照射試料の誘導放射能の計算書!$B$37&照射試料の誘導放射能の計算書!$D$37,COUNTIF($K245:$K503,照射試料の誘導放射能の計算書!$B$37&照射試料の誘導放射能の計算書!$D$37),\"\")","v":""},{"$f":"IF($K245=照射試料の誘導放射能の計算書!$B$38&照射試料の誘導放射能の計算書!$D$38,COUNTIF($K245:$K503,照射試料の誘導放射能の計算書!$B$38&照射試料の誘導放射能の計算書!$D$38),\"\")","v":""},{"$f":"IF($K245=照射試料の誘導放射能の計算書!$B$39&照射試料の誘導放射能の計算書!$D$39,COUNTIF($K245:$K503,照射試料の誘導放射能の計算書!$B$39&照射試料の誘導放射能の計算書!$D$39),\"\")","v":""},{"$f":"IF($K245=照射試料の誘導放射能の計算書!$B$40&照射試料の誘導放射能の計算書!$D$40,COUNTIF($K245:$K503,照射試料の誘導放射能の計算書!$B$40&照射試料の誘導放射能の計算書!$D$40),\"\")","v":""},"Pt-199","(n,γ)Pt-199",3.7,30.8,"min"]
[78,null,"Pt",198,"Pt-198",7.2,"(n,γ)","Pt199m","Pt",{"$f":"RIGHT(H246,4)","v":"199m"},"Pt-198(n,γ)",{"$f":"IF($K246=照射試料の誘導放射能の計算書!$B$31&照射試料の誘導放射能の計算書!$D$31,COUNTIF($K246:$K504,照射試料の誘導放射能の計算書!$B$31&照射試料の誘導放射能の計算書!$D$31),\"\")","v":""},{"$f":"IF($K246=照射試料の誘導放射能の計算書!$B$32&照射試料の誘導放射能の計算書!$D$32,COUNTIF($K246:$K504,照射試料の誘導放射能の計算書!$B$32&照射試料の誘導放射能の計算書!$D$32),\"\")","v":""},{"$f":"IF($K246=照射試料の誘導放射能の計算書!$B$33&照射試料の誘導放射能の計算書!$D$33,COUNTIF($K246:$K504,照射試料の誘導放射能の計算書!$B$33&照射試料の誘導放射能の計算書!$D$33),\"\")","v":""},{"$f":"IF($K246=照射試料の誘導放射能の計算書!$B$34&照射試料の誘導放射能の計算書!$D$34,COUNTIF($K246:$K504,照射試料の誘導放射能の計算書!$B$34&照射試料の誘導放射能の計算書!$D$34),\"\")","v":""},{"$f":"IF($K246=照射試料の誘導放射能の計算書!$B$35&照射試料の誘導放射能の計算書!$D$35,COUNTIF($K246:$K504,照射試料の誘導放射能の計算書!$B$35&照射試料の誘導放射能の計算書!$D$35),\"\")","v":""},{"$f":"IF($K246=照射試料の誘導放射能の計算書!$B$36&照射試料の誘導放射能の計算書!$D$36,COUNTIF($K246:$K504,照射試料の誘導放射能の計算書!$B$36&照射試料の誘導放射能の計算書!$D$36),\"\")","v":""},{"$f":"IF($K246=照射試料の誘導放射能の計算書!$B$37&照射試料の誘導放射能の計算書!$D$37,COUNTIF($K246:$K504,照射試料の誘導放射能の計算書!$B$37&照射試料の誘導放射能の計算書!$D$37),\"\")","v":""},{"$f":"IF($K246=照射試料の誘導放射能の計算書!$B$38&照射試料の誘導放射能の計算書!$D$38,COUNTIF($K246:$K504,照射試料の誘導放射能の計算書!$B$38&照射試料の誘導放射能の計算書!$D$38),\"\")","v":""},{"$f":"IF($K246=照射試料の誘導放射能の計算書!$B$39&照射試料の誘導放射能の計算書!$D$39,COUNTIF($K246:$K504,照射試料の誘導放射能の計算書!$B$39&照射試料の誘導放射能の計算書!$D$39),\"\")","v":""},{"$f":"IF($K246=照射試料の誘導放射能の計算書!$B$40&照射試料の誘導放射能の計算書!$D$40,COUNTIF($K246:$K504,照射試料の誘導放射能の計算書!$B$40&照射試料の誘導放射能の計算書!$D$40),\"\")","v":""},"Pt-199m","(n,γ)Pt-199m",2.7E-2,13.6,"s"]
[79,null,"Au",197,"Au-197",100,"(n,γ)","Au198","Au",{"$f":"RIGHT(H247,3)","v":"198"},"Au-197(n,γ)",{"$f":"IF($K247=照射試料の誘導放射能の計算書!$B$31&照射試料の誘導放射能の計算書!$D$31,COUNTIF($K247:$K505,照射試料の誘導放射能の計算書!$B$31&照射試料の誘導放射能の計算書!$D$31),\"\")","v":""},{"$f":"IF($K247=照射試料の誘導放射能の計算書!$B$32&照射試料の誘導放射能の計算書!$D$32,COUNTIF($K247:$K505,照射試料の誘導放射能の計算書!$B$32&照射試料の誘導放射能の計算書!$D$32),\"\")","v":""},{"$f":"IF($K247=照射試料の誘導放射能の計算書!$B$33&照射試料の誘導放射能の計算書!$D$33,COUNTIF($K247:$K505,照射試料の誘導放射能の計算書!$B$33&照射試料の誘導放射能の計算書!$D$33),\"\")","v":""},{"$f":"IF($K247=照射試料の誘導放射能の計算書!$B$34&照射試料の誘導放射能の計算書!$D$34,COUNTIF($K247:$K505,照射試料の誘導放射能の計算書!$B$34&照射試料の誘導放射能の計算書!$D$34),\"\")","v":""},{"$f":"IF($K247=照射試料の誘導放射能の計算書!$B$35&照射試料の誘導放射能の計算書!$D$35,COUNTIF($K247:$K505,照射試料の誘導放射能の計算書!$B$35&照射試料の誘導放射能の計算書!$D$35),\"\")","v":""},{"$f":"IF($K247=照射試料の誘導放射能の計算書!$B$36&照射試料の誘導放射能の計算書!$D$36,COUNTIF($K247:$K505,照射試料の誘導放射能の計算書!$B$36&照射試料の誘導放射能の計算書!$D$36),\"\")","v":""},{"$f":"IF($K247=照射試料の誘導放射能の計算書!$B$37&照射試料の誘導放射能の計算書!$D$37,COUNTIF($K247:$K505,照射試料の誘導放射能の計算書!$B$37&照射試料の誘導放射能の計算書!$D$37),\"\")","v":""},{"$f":"IF($K247=照射試料の誘導放射能の計算書!$B$38&照射試料の誘導放射能の計算書!$D$38,COUNTIF($K247:$K505,照射試料の誘導放射能の計算書!$B$38&照射試料の誘導放射能の計算書!$D$38),\"\")","v":""},{"$f":"IF($K247=照射試料の誘導放射能の計算書!$B$39&照射試料の誘導放射能の計算書!$D$39,COUNTIF($K247:$K505,照射試料の誘導放射能の計算書!$B$39&照射試料の誘導放射能の計算書!$D$39),\"\")","v":""},{"$f":"IF($K247=照射試料の誘導放射能の計算書!$B$40&照射試料の誘導放射能の計算書!$D$40,COUNTIF($K247:$K505,照射試料の誘導放射能の計算書!$B$40&照射試料の誘導放射能の計算書!$D$40),\"\")","v":""},"Au-198","(n,γ)Au-198",98.8,2.6943000000000001,"d"]
[80,null,"Hg",196,"Hg-196",0.15,"(n,γ)","Hg197","Hg",{"$f":"RIGHT(H248,3)","v":"197"},"Hg-196(n,γ)",{"$f":"IF($K248=照射試料の誘導放射能の計算書!$B$31&照射試料の誘導放射能の計算書!$D$31,COUNTIF($K248:$K506,照射試料の誘導放射能の計算書!$B$31&照射試料の誘導放射能の計算書!$D$31),\"\")","v":""},{"$f":"IF($K248=照射試料の誘導放射能の計算書!$B$32&照射試料の誘導放射能の計算書!$D$32,COUNTIF($K248:$K506,照射試料の誘導放射能の計算書!$B$32&照射試料の誘導放射能の計算書!$D$32),\"\")","v":""},{"$f":"IF($K248=照射試料の誘導放射能の計算書!$B$33&照射試料の誘導放射能の計算書!$D$33,COUNTIF($K248:$K506,照射試料の誘導放射能の計算書!$B$33&照射試料の誘導放射能の計算書!$D$33),\"\")","v":""},{"$f":"IF($K248=照射試料の誘導放射能の計算書!$B$34&照射試料の誘導放射能の計算書!$D$34,COUNTIF($K248:$K506,照射試料の誘導放射能の計算書!$B$34&照射試料の誘導放射能の計算書!$D$34),\"\")","v":""},{"$f":"IF($K248=照射試料の誘導放射能の計算書!$B$35&照射試料の誘導放射能の計算書!$D$35,COUNTIF($K248:$K506,照射試料の誘導放射能の計算書!$B$35&照射試料の誘導放射能の計算書!$D$35),\"\")","v":""},{"$f":"IF($K248=照射試料の誘導放射能の計算書!$B$36&照射試料の誘導放射能の計算書!$D$36,COUNTIF($K248:$K506,照射試料の誘導放射能の計算書!$B$36&照射試料の誘導放射能の計算書!$D$36),\"\")","v":""},{"$f":"IF($K248=照射試料の誘導放射能の計算書!$B$37&照射試料の誘導放射能の計算書!$D$37,COUNTIF($K248:$K506,照射試料の誘導放射能の計算書!$B$37&照射試料の誘導放射能の計算書!$D$37),\"\")","v":""},{"$f":"IF($K248=照射試料の誘導放射能の計算書!$B$38&照射試料の誘導放射能の計算書!$D$38,COUNTIF($K248:$K506,照射試料の誘導放射能の計算書!$B$38&照射試料の誘導放射能の計算書!$D$38),\"\")","v":""},{"$f":"IF($K248=照射試料の誘導放射能の計算書!$B$39&照射試料の誘導放射能の計算書!$D$39,COUNTIF($K248:$K506,照射試料の誘導放射能の計算書!$B$39&照射試料の誘導放射能の計算書!$D$39),\"\")","v":""},{"$f":"IF($K248=照射試料の誘導放射能の計算書!$B$40&照射試料の誘導放射能の計算書!$D$40,COUNTIF($K248:$K506,照射試料の誘導放射能の計算書!$B$40&照射試料の誘導放射能の計算書!$D$40),\"\")","v":""},"Hg-197","(n,γ)Hg-197",3080,64.099999999999994,"h"]
[80,null,"Hg",196,"Hg-196",0.15,"(n,γ)","Hg197m","Hg",{"$f":"RIGHT(H249,4)","v":"197m"},"Hg-196(n,γ)",{"$f":"IF($K249=照射試料の誘導放射能の計算書!$B$31&照射試料の誘導放射能の計算書!$D$31,COUNTIF($K249:$K507,照射試料の誘導放射能の計算書!$B$31&照射試料の誘導放射能の計算書!$D$31),\"\")","v":""},{"$f":"IF($K249=照射試料の誘導放射能の計算書!$B$32&照射試料の誘導放射能の計算書!$D$32,COUNTIF($K249:$K507,照射試料の誘導放射能の計算書!$B$32&照射試料の誘導放射能の計算書!$D$32),\"\")","v":""},{"$f":"IF($K249=照射試料の誘導放射能の計算書!$B$33&照射試料の誘導放射能の計算書!$D$33,COUNTIF($K249:$K507,照射試料の誘導放射能の計算書!$B$33&照射試料の誘導放射能の計算書!$D$33),\"\")","v":""},{"$f":"IF($K249=照射試料の誘導放射能の計算書!$B$34&照射試料の誘導放射能の計算書!$D$34,COUNTIF($K249:$K507,照射試料の誘導放射能の計算書!$B$34&照射試料の誘導放射能の計算書!$D$34),\"\")","v":""},{"$f":"IF($K249=照射試料の誘導放射能の計算書!$B$35&照射試料の誘導放射能の計算書!$D$35,COUNTIF($K249:$K507,照射試料の誘導放射能の計算書!$B$35&照射試料の誘導放射能の計算書!$D$35),\"\")","v":""},{"$f":"IF($K249=照射試料の誘導放射能の計算書!$B$36&照射試料の誘導放射能の計算書!$D$36,COUNTIF($K249:$K507,照射試料の誘導放射能の計算書!$B$36&照射試料の誘導放射能の計算書!$D$36),\"\")","v":""},{"$f":"IF($K249=照射試料の誘導放射能の計算書!$B$37&照射試料の誘導放射能の計算書!$D$37,COUNTIF($K249:$K507,照射試料の誘導放射能の計算書!$B$37&照射試料の誘導放射能の計算書!$D$37),\"\")","v":""},{"$f":"IF($K249=照射試料の誘導放射能の計算書!$B$38&照射試料の誘導放射能の計算書!$D$38,COUNTIF($K249:$K507,照射試料の誘導放射能の計算書!$B$38&照射試料の誘導放射能の計算書!$D$38),\"\")","v":""},{"$f":"IF($K249=照射試料の誘導放射能の計算書!$B$39&照射試料の誘導放射能の計算書!$D$39,COUNTIF($K249:$K507,照射試料の誘導放射能の計算書!$B$39&照射試料の誘導放射能の計算書!$D$39),\"\")","v":""},{"$f":"IF($K249=照射試料の誘導放射能の計算書!$B$40&照射試料の誘導放射能の計算書!$D$40,COUNTIF($K249:$K507,照射試料の誘導放射能の計算書!$B$40&照射試料の誘導放射能の計算書!$D$40),\"\")","v":""},"Hg-197m","(n,γ)Hg-197m",120,23.8,"h"]
[80,null,"Hg",198,"Hg-198",9.9700000000000006,"(n,γ)","Hg199m","Hg","199m","Hg-198(n,γ)",{"$f":"IF($K250=照射試料の誘導放射能の計算書!$B$31&照射試料の誘導放射能の計算書!$D$31,COUNTIF($K250:$K508,照射試料の誘導放射能の計算書!$B$31&照射試料の誘導放射能の計算書!$D$31),\"\")","v":""},{"$f":"IF($K250=照射試料の誘導放射能の計算書!$B$32&照射試料の誘導放射能の計算書!$D$32,COUNTIF($K250:$K508,照射試料の誘導放射能の計算書!$B$32&照射試料の誘導放射能の計算書!$D$32),\"\")","v":""},{"$f":"IF($K250=照射試料の誘導放射能の計算書!$B$33&照射試料の誘導放射能の計算書!$D$33,COUNTIF($K250:$K508,照射試料の誘導放射能の計算書!$B$33&照射試料の誘導放射能の計算書!$D$33),\"\")","v":""},{"$f":"IF($K250=照射試料の誘導放射能の計算書!$B$34&照射試料の誘導放射能の計算書!$D$34,COUNTIF($K250:$K508,照射試料の誘導放射能の計算書!$B$34&照射試料の誘導放射能の計算書!$D$34),\"\")","v":""},{"$f":"IF($K250=照射試料の誘導放射能の計算書!$B$35&照射試料の誘導放射能の計算書!$D$35,COUNTIF($K250:$K508,照射試料の誘導放射能の計算書!$B$35&照射試料の誘導放射能の計算書!$D$35),\"\")","v":""},{"$f":"IF($K250=照射試料の誘導放射能の計算書!$B$36&照射試料の誘導放射能の計算書!$D$36,COUNTIF($K250:$K508,照射試料の誘導放射能の計算書!$B$36&照射試料の誘導放射能の計算書!$D$36),\"\")","v":""},{"$f":"IF($K250=照射試料の誘導放射能の計算書!$B$37&照射試料の誘導放射能の計算書!$D$37,COUNTIF($K250:$K508,照射試料の誘導放射能の計算書!$B$37&照射試料の誘導放射能の計算書!$D$37),\"\")","v":""},{"$f":"IF($K250=照射試料の誘導放射能の計算書!$B$38&照射試料の誘導放射能の計算書!$D$38,COUNTIF($K250:$K508,照射試料の誘導放射能の計算書!$B$38&照射試料の誘導放射能の計算書!$D$38),\"\")","v":""},{"$f":"IF($K250=照射試料の誘導放射能の計算書!$B$39&照射試料の誘導放射能の計算書!$D$39,COUNTIF($K250:$K508,照射試料の誘導放射能の計算書!$B$39&照射試料の誘導放射能の計算書!$D$39),\"\")","v":""},{"$f":"IF($K250=照射試料の誘導放射能の計算書!$B$40&照射試料の誘導放射能の計算書!$D$40,COUNTIF($K250:$K508,照射試料の誘導放射能の計算書!$B$40&照射試料の誘導放射能の計算書!$D$40),\"\")","v":""},"Hg-199m","(n,γ)Hg-199m",1.7000000000000001E-2,42.6,"min"]
[80,null,"Hg",202,"Hg-202",29.86,"(n,γ)","Hg203","Hg",{"$f":"RIGHT(H251,3)","v":"203"},"Hg-202(n,γ)",{"$f":"IF($K251=照射試料の誘導放射能の計算書!$B$31&照射試料の誘導放射能の計算書!$D$31,COUNTIF($K251:$K509,照射試料の誘導放射能の計算書!$B$31&照射試料の誘導放射能の計算書!$D$31),\"\")","v":""},{"$f":"IF($K251=照射試料の誘導放射能の計算書!$B$32&照射試料の誘導放射能の計算書!$D$32,COUNTIF($K251:$K509,照射試料の誘導放射能の計算書!$B$32&照射試料の誘導放射能の計算書!$D$32),\"\")","v":""},{"$f":"IF($K251=照射試料の誘導放射能の計算書!$B$33&照射試料の誘導放射能の計算書!$D$33,COUNTIF($K251:$K509,照射試料の誘導放射能の計算書!$B$33&照射試料の誘導放射能の計算書!$D$33),\"\")","v":""},{"$f":"IF($K251=照射試料の誘導放射能の計算書!$B$34&照射試料の誘導放射能の計算書!$D$34,COUNTIF($K251:$K509,照射試料の誘導放射能の計算書!$B$34&照射試料の誘導放射能の計算書!$D$34),\"\")","v":""},{"$f":"IF($K251=照射試料の誘導放射能の計算書!$B$35&照射試料の誘導放射能の計算書!$D$35,COUNTIF($K251:$K509,照射試料の誘導放射能の計算書!$B$35&照射試料の誘導放射能の計算書!$D$35),\"\")","v":""},{"$f":"IF($K251=照射試料の誘導放射能の計算書!$B$36&照射試料の誘導放射能の計算書!$D$36,COUNTIF($K251:$K509,照射試料の誘導放射能の計算書!$B$36&照射試料の誘導放射能の計算書!$D$36),\"\")","v":""},{"$f":"IF($K251=照射試料の誘導放射能の計算書!$B$37&照射試料の誘導放射能の計算書!$D$37,COUNTIF($K251:$K509,照射試料の誘導放射能の計算書!$B$37&照射試料の誘導放射能の計算書!$D$37),\"\")","v":""},{"$f":"IF($K251=照射試料の誘導放射能の計算書!$B$38&照射試料の誘導放射能の計算書!$D$38,COUNTIF($K251:$K509,照射試料の誘導放射能の計算書!$B$38&照射試料の誘導放射能の計算書!$D$38),\"\")","v":""},{"$f":"IF($K251=照射試料の誘導放射能の計算書!$B$39&照射試料の誘導放射能の計算書!$D$39,COUNTIF($K251:$K509,照射試料の誘導放射能の計算書!$B$39&照射試料の誘導放射能の計算書!$D$39),\"\")","v":""},{"$f":"IF($K251=照射試料の誘導放射能の計算書!$B$40&照射試料の誘導放射能の計算書!$D$40,COUNTIF($K251:$K509,照射試料の誘導放射能の計算書!$B$40&照射試料の誘導放射能の計算書!$D$40),\"\")","v":""},"Hg-203","(n,γ)Hg-203",5,46.59,"d"]
[80,null,"Hg",204,"Hg-204",6.87,"(n,γ)","Hg205","Hg","205","Hg-204(n,γ)",{"$f":"IF($K252=照射試料の誘導放射能の計算書!$B$31&照射試料の誘導放射能の計算書!$D$31,COUNTIF($K252:$K510,照射試料の誘導放射能の計算書!$B$31&照射試料の誘導放射能の計算書!$D$31),\"\")","v":""},{"$f":"IF($K252=照射試料の誘導放射能の計算書!$B$32&照射試料の誘導放射能の計算書!$D$32,COUNTIF($K252:$K510,照射試料の誘導放射能の計算書!$B$32&照射試料の誘導放射能の計算書!$D$32),\"\")","v":""},{"$f":"IF($K252=照射試料の誘導放射能の計算書!$B$33&照射試料の誘導放射能の計算書!$D$33,COUNTIF($K252:$K510,照射試料の誘導放射能の計算書!$B$33&照射試料の誘導放射能の計算書!$D$33),\"\")","v":""},{"$f":"IF($K252=照射試料の誘導放射能の計算書!$B$34&照射試料の誘導放射能の計算書!$D$34,COUNTIF($K252:$K510,照射試料の誘導放射能の計算書!$B$34&照射試料の誘導放射能の計算書!$D$34),\"\")","v":""},{"$f":"IF($K252=照射試料の誘導放射能の計算書!$B$35&照射試料の誘導放射能の計算書!$D$35,COUNTIF($K252:$K510,照射試料の誘導放射能の計算書!$B$35&照射試料の誘導放射能の計算書!$D$35),\"\")","v":""},{"$f":"IF($K252=照射試料の誘導放射能の計算書!$B$36&照射試料の誘導放射能の計算書!$D$36,COUNTIF($K252:$K510,照射試料の誘導放射能の計算書!$B$36&照射試料の誘導放射能の計算書!$D$36),\"\")","v":""},{"$f":"IF($K252=照射試料の誘導放射能の計算書!$B$37&照射試料の誘導放射能の計算書!$D$37,COUNTIF($K252:$K510,照射試料の誘導放射能の計算書!$B$37&照射試料の誘導放射能の計算書!$D$37),\"\")","v":""},{"$f":"IF($K252=照射試料の誘導放射能の計算書!$B$38&照射試料の誘導放射能の計算書!$D$38,COUNTIF($K252:$K510,照射試料の誘導放射能の計算書!$B$38&照射試料の誘導放射能の計算書!$D$38),\"\")","v":""},{"$f":"IF($K252=照射試料の誘導放射能の計算書!$B$39&照射試料の誘導放射能の計算書!$D$39,COUNTIF($K252:$K510,照射試料の誘導放射能の計算書!$B$39&照射試料の誘導放射能の計算書!$D$39),\"\")","v":""},{"$f":"IF($K252=照射試料の誘導放射能の計算書!$B$40&照射試料の誘導放射能の計算書!$D$40,COUNTIF($K252:$K510,照射試料の誘導放射能の計算書!$B$40&照射試料の誘導放射能の計算書!$D$40),\"\")","v":""},"Hg-205","(n,γ)Hg-205",0.43,5.2,"min"]
[81,null,"Tl",203,"Tl-203",29.524000000000001,"(n,γ)","Tl204","Tl","204","Tl-203(n,γ)",{"$f":"IF($K253=照射試料の誘導放射能の計算書!$B$31&照射試料の誘導放射能の計算書!$D$31,COUNTIF($K253:$K511,照射試料の誘導放射能の計算書!$B$31&照射試料の誘導放射能の計算書!$D$31),\"\")","v":""},{"$f":"IF($K253=照射試料の誘導放射能の計算書!$B$32&照射試料の誘導放射能の計算書!$D$32,COUNTIF($K253:$K511,照射試料の誘導放射能の計算書!$B$32&照射試料の誘導放射能の計算書!$D$32),\"\")","v":""},{"$f":"IF($K253=照射試料の誘導放射能の計算書!$B$33&照射試料の誘導放射能の計算書!$D$33,COUNTIF($K253:$K511,照射試料の誘導放射能の計算書!$B$33&照射試料の誘導放射能の計算書!$D$33),\"\")","v":""},{"$f":"IF($K253=照射試料の誘導放射能の計算書!$B$34&照射試料の誘導放射能の計算書!$D$34,COUNTIF($K253:$K511,照射試料の誘導放射能の計算書!$B$34&照射試料の誘導放射能の計算書!$D$34),\"\")","v":""},{"$f":"IF($K253=照射試料の誘導放射能の計算書!$B$35&照射試料の誘導放射能の計算書!$D$35,COUNTIF($K253:$K511,照射試料の誘導放射能の計算書!$B$35&照射試料の誘導放射能の計算書!$D$35),\"\")","v":""},{"$f":"IF($K253=照射試料の誘導放射能の計算書!$B$36&照射試料の誘導放射能の計算書!$D$36,COUNTIF($K253:$K511,照射試料の誘導放射能の計算書!$B$36&照射試料の誘導放射能の計算書!$D$36),\"\")","v":""},{"$f":"IF($K253=照射試料の誘導放射能の計算書!$B$37&照射試料の誘導放射能の計算書!$D$37,COUNTIF($K253:$K511,照射試料の誘導放射能の計算書!$B$37&照射試料の誘導放射能の計算書!$D$37),\"\")","v":""},{"$f":"IF($K253=照射試料の誘導放射能の計算書!$B$38&照射試料の誘導放射能の計算書!$D$38,COUNTIF($K253:$K511,照射試料の誘導放射能の計算書!$B$38&照射試料の誘導放射能の計算書!$D$38),\"\")","v":""},{"$f":"IF($K253=照射試料の誘導放射能の計算書!$B$39&照射試料の誘導放射能の計算書!$D$39,COUNTIF($K253:$K511,照射試料の誘導放射能の計算書!$B$39&照射試料の誘導放射能の計算書!$D$39),\"\")","v":""},{"$f":"IF($K253=照射試料の誘導放射能の計算書!$B$40&照射試料の誘導放射能の計算書!$D$40,COUNTIF($K253:$K511,照射試料の誘導放射能の計算書!$B$40&照射試料の誘導放射能の計算書!$D$40),\"\")","v":""},"Tl-204","(n,γ)Tl-204",11,3.78,"y"]
[81,null,"Tl",205,"Tl-205",70.475999999999999,"(n,γ)","Tl206","Tl","206","Tl-205(n,γ)",{"$f":"IF($K254=照射試料の誘導放射能の計算書!$B$31&照射試料の誘導放射能の計算書!$D$31,COUNTIF($K254:$K512,照射試料の誘導放射能の計算書!$B$31&照射試料の誘導放射能の計算書!$D$31),\"\")","v":""},{"$f":"IF($K254=照射試料の誘導放射能の計算書!$B$32&照射試料の誘導放射能の計算書!$D$32,COUNTIF($K254:$K512,照射試料の誘導放射能の計算書!$B$32&照射試料の誘導放射能の計算書!$D$32),\"\")","v":""},{"$f":"IF($K254=照射試料の誘導放射能の計算書!$B$33&照射試料の誘導放射能の計算書!$D$33,COUNTIF($K254:$K512,照射試料の誘導放射能の計算書!$B$33&照射試料の誘導放射能の計算書!$D$33),\"\")","v":""},{"$f":"IF($K254=照射試料の誘導放射能の計算書!$B$34&照射試料の誘導放射能の計算書!$D$34,COUNTIF($K254:$K512,照射試料の誘導放射能の計算書!$B$34&照射試料の誘導放射能の計算書!$D$34),\"\")","v":""},{"$f":"IF($K254=照射試料の誘導放射能の計算書!$B$35&照射試料の誘導放射能の計算書!$D$35,COUNTIF($K254:$K512,照射試料の誘導放射能の計算書!$B$35&照射試料の誘導放射能の計算書!$D$35),\"\")","v":""},{"$f":"IF($K254=照射試料の誘導放射能の計算書!$B$36&照射試料の誘導放射能の計算書!$D$36,COUNTIF($K254:$K512,照射試料の誘導放射能の計算書!$B$36&照射試料の誘導放射能の計算書!$D$36),\"\")","v":""},{"$f":"IF($K254=照射試料の誘導放射能の計算書!$B$37&照射試料の誘導放射能の計算書!$D$37,COUNTIF($K254:$K512,照射試料の誘導放射能の計算書!$B$37&照射試料の誘導放射能の計算書!$D$37),\"\")","v":""},{"$f":"IF($K254=照射試料の誘導放射能の計算書!$B$38&照射試料の誘導放射能の計算書!$D$38,COUNTIF($K254:$K512,照射試料の誘導放射能の計算書!$B$38&照射試料の誘導放射能の計算書!$D$38),\"\")","v":""},{"$f":"IF($K254=照射試料の誘導放射能の計算書!$B$39&照射試料の誘導放射能の計算書!$D$39,COUNTIF($K254:$K512,照射試料の誘導放射能の計算書!$B$39&照射試料の誘導放射能の計算書!$D$39),\"\")","v":""},{"$f":"IF($K254=照射試料の誘導放射能の計算書!$B$40&照射試料の誘導放射能の計算書!$D$40,COUNTIF($K254:$K512,照射試料の誘導放射能の計算書!$B$40&照射試料の誘導放射能の計算書!$D$40),\"\")","v":""},"Tl-206","(n,γ)Tl-206",0.11,4.2,"min"]
[82,null,"Pb",204,"Pb-204",1.4,"(n,γ)","Pb205","Pb","205","Pb-204(n,γ)",{"$f":"IF($K255=照射試料の誘導放射能の計算書!$B$31&照射試料の誘導放射能の計算書!$D$31,COUNTIF($K255:$K513,照射試料の誘導放射能の計算書!$B$31&照射試料の誘導放射能の計算書!$D$31),\"\")","v":""},{"$f":"IF($K255=照射試料の誘導放射能の計算書!$B$32&照射試料の誘導放射能の計算書!$D$32,COUNTIF($K255:$K513,照射試料の誘導放射能の計算書!$B$32&照射試料の誘導放射能の計算書!$D$32),\"\")","v":""},{"$f":"IF($K255=照射試料の誘導放射能の計算書!$B$33&照射試料の誘導放射能の計算書!$D$33,COUNTIF($K255:$K513,照射試料の誘導放射能の計算書!$B$33&照射試料の誘導放射能の計算書!$D$33),\"\")","v":""},{"$f":"IF($K255=照射試料の誘導放射能の計算書!$B$34&照射試料の誘導放射能の計算書!$D$34,COUNTIF($K255:$K513,照射試料の誘導放射能の計算書!$B$34&照射試料の誘導放射能の計算書!$D$34),\"\")","v":""},{"$f":"IF($K255=照射試料の誘導放射能の計算書!$B$35&照射試料の誘導放射能の計算書!$D$35,COUNTIF($K255:$K513,照射試料の誘導放射能の計算書!$B$35&照射試料の誘導放射能の計算書!$D$35),\"\")","v":""},{"$f":"IF($K255=照射試料の誘導放射能の計算書!$B$36&照射試料の誘導放射能の計算書!$D$36,COUNTIF($K255:$K513,照射試料の誘導放射能の計算書!$B$36&照射試料の誘導放射能の計算書!$D$36),\"\")","v":""},{"$f":"IF($K255=照射試料の誘導放射能の計算書!$B$37&照射試料の誘導放射能の計算書!$D$37,COUNTIF($K255:$K513,照射試料の誘導放射能の計算書!$B$37&照射試料の誘導放射能の計算書!$D$37),\"\")","v":""},{"$f":"IF($K255=照射試料の誘導放射能の計算書!$B$38&照射試料の誘導放射能の計算書!$D$38,COUNTIF($K255:$K513,照射試料の誘導放射能の計算書!$B$38&照射試料の誘導放射能の計算書!$D$38),\"\")","v":""},{"$f":"IF($K255=照射試料の誘導放射能の計算書!$B$39&照射試料の誘導放射能の計算書!$D$39,COUNTIF($K255:$K513,照射試料の誘導放射能の計算書!$B$39&照射試料の誘導放射能の計算書!$D$39),\"\")","v":""},{"$f":"IF($K255=照射試料の誘導放射能の計算書!$B$40&照射試料の誘導放射能の計算書!$D$40,COUNTIF($K255:$K513,照射試料の誘導放射能の計算書!$B$40&照射試料の誘導放射能の計算書!$D$40),\"\")","v":""},"Pb-205","(n,γ)Pb-205",0.68,15000000,"y"]
[82,null,"Pb",208,"Pb-208",52.4,"(n,γ)","Pb209","Pb","209","Pb-208(n,γ)",{"$f":"IF($K256=照射試料の誘導放射能の計算書!$B$31&照射試料の誘導放射能の計算書!$D$31,COUNTIF($K256:$K514,照射試料の誘導放射能の計算書!$B$31&照射試料の誘導放射能の計算書!$D$31),\"\")","v":""},{"$f":"IF($K256=照射試料の誘導放射能の計算書!$B$32&照射試料の誘導放射能の計算書!$D$32,COUNTIF($K256:$K514,照射試料の誘導放射能の計算書!$B$32&照射試料の誘導放射能の計算書!$D$32),\"\")","v":""},{"$f":"IF($K256=照射試料の誘導放射能の計算書!$B$33&照射試料の誘導放射能の計算書!$D$33,COUNTIF($K256:$K514,照射試料の誘導放射能の計算書!$B$33&照射試料の誘導放射能の計算書!$D$33),\"\")","v":""},{"$f":"IF($K256=照射試料の誘導放射能の計算書!$B$34&照射試料の誘導放射能の計算書!$D$34,COUNTIF($K256:$K514,照射試料の誘導放射能の計算書!$B$34&照射試料の誘導放射能の計算書!$D$34),\"\")","v":""},{"$f":"IF($K256=照射試料の誘導放射能の計算書!$B$35&照射試料の誘導放射能の計算書!$D$35,COUNTIF($K256:$K514,照射試料の誘導放射能の計算書!$B$35&照射試料の誘導放射能の計算書!$D$35),\"\")","v":""},{"$f":"IF($K256=照射試料の誘導放射能の計算書!$B$36&照射試料の誘導放射能の計算書!$D$36,COUNTIF($K256:$K514,照射試料の誘導放射能の計算書!$B$36&照射試料の誘導放射能の計算書!$D$36),\"\")","v":""},{"$f":"IF($K256=照射試料の誘導放射能の計算書!$B$37&照射試料の誘導放射能の計算書!$D$37,COUNTIF($K256:$K514,照射試料の誘導放射能の計算書!$B$37&照射試料の誘導放射能の計算書!$D$37),\"\")","v":""},{"$f":"IF($K256=照射試料の誘導放射能の計算書!$B$38&照射試料の誘導放射能の計算書!$D$38,COUNTIF($K256:$K514,照射試料の誘導放射能の計算書!$B$38&照射試料の誘導放射能の計算書!$D$38),\"\")","v":""},{"$f":"IF($K256=照射試料の誘導放射能の計算書!$B$39&照射試料の誘導放射能の計算書!$D$39,COUNTIF($K256:$K514,照射試料の誘導放射能の計算書!$B$39&照射試料の誘導放射能の計算書!$D$39),\"\")","v":""},{"$f":"IF($K256=照射試料の誘導放射能の計算書!$B$40&照射試料の誘導放射能の計算書!$D$40,COUNTIF($K256:$K514,照射試料の誘導放射能の計算書!$B$40&照射試料の誘導放射能の計算書!$D$40),\"\")","v":""},"Pb-209","(n,γ)Pb-209",4.8999999999999998E-4,3.2530000000000001,"h"]
[83,null,"Bi",209,"Bi-209",100,"(n,γ)","Bi210","Bi","210","Bi-209(n,γ)",{"$f":"IF($K257=照射試料の誘導放射能の計算書!$B$31&照射試料の誘導放射能の計算書!$D$31,COUNTIF($K257:$K515,照射試料の誘導放射能の計算書!$B$31&照射試料の誘導放射能の計算書!$D$31),\"\")","v":""},{"$f":"IF($K257=照射試料の誘導放射能の計算書!$B$32&照射試料の誘導放射能の計算書!$D$32,COUNTIF($K257:$K515,照射試料の誘導放射能の計算書!$B$32&照射試料の誘導放射能の計算書!$D$32),\"\")","v":""},{"$f":"IF($K257=照射試料の誘導放射能の計算書!$B$33&照射試料の誘導放射能の計算書!$D$33,COUNTIF($K257:$K515,照射試料の誘導放射能の計算書!$B$33&照射試料の誘導放射能の計算書!$D$33),\"\")","v":""},{"$f":"IF($K257=照射試料の誘導放射能の計算書!$B$34&照射試料の誘導放射能の計算書!$D$34,COUNTIF($K257:$K515,照射試料の誘導放射能の計算書!$B$34&照射試料の誘導放射能の計算書!$D$34),\"\")","v":""},{"$f":"IF($K257=照射試料の誘導放射能の計算書!$B$35&照射試料の誘導放射能の計算書!$D$35,COUNTIF($K257:$K515,照射試料の誘導放射能の計算書!$B$35&照射試料の誘導放射能の計算書!$D$35),\"\")","v":""},{"$f":"IF($K257=照射試料の誘導放射能の計算書!$B$36&照射試料の誘導放射能の計算書!$D$36,COUNTIF($K257:$K515,照射試料の誘導放射能の計算書!$B$36&照射試料の誘導放射能の計算書!$D$36),\"\")","v":""},{"$f":"IF($K257=照射試料の誘導放射能の計算書!$B$37&照射試料の誘導放射能の計算書!$D$37,COUNTIF($K257:$K515,照射試料の誘導放射能の計算書!$B$37&照射試料の誘導放射能の計算書!$D$37),\"\")","v":""},{"$f":"IF($K257=照射試料の誘導放射能の計算書!$B$38&照射試料の誘導放射能の計算書!$D$38,COUNTIF($K257:$K515,照射試料の誘導放射能の計算書!$B$38&照射試料の誘導放射能の計算書!$D$38),\"\")","v":""},{"$f":"IF($K257=照射試料の誘導放射能の計算書!$B$39&照射試料の誘導放射能の計算書!$D$39,COUNTIF($K257:$K515,照射試料の誘導放射能の計算書!$B$39&照射試料の誘導放射能の計算書!$D$39),\"\")","v":""},{"$f":"IF($K257=照射試料の誘導放射能の計算書!$B$40&照射試料の誘導放射能の計算書!$D$40,COUNTIF($K257:$K515,照射試料の誘導放射能の計算書!$B$40&照射試料の誘導放射能の計算書!$D$40),\"\")","v":""},"Bi-210","(n,γ)Bi-210",1.9E-2,5.0129999999999999,"d"]
[83,null,"Bi",209,"Bi-209",100,"(n,γ)","Bi210m",{"$f":"LEFT(H258,2)","v":"Bi"},{"$f":"RIGHT(H258,4)","v":"210m"},"Bi-209(n,γ)",{"$f":"IF($K258=照射試料の誘導放射能の計算書!$B$31&照射試料の誘導放射能の計算書!$D$31,COUNTIF($K258:$K516,照射試料の誘導放射能の計算書!$B$31&照射試料の誘導放射能の計算書!$D$31),\"\")","v":""},{"$f":"IF($K258=照射試料の誘導放射能の計算書!$B$32&照射試料の誘導放射能の計算書!$D$32,COUNTIF($K258:$K516,照射試料の誘導放射能の計算書!$B$32&照射試料の誘導放射能の計算書!$D$32),\"\")","v":""},{"$f":"IF($K258=照射試料の誘導放射能の計算書!$B$33&照射試料の誘導放射能の計算書!$D$33,COUNTIF($K258:$K516,照射試料の誘導放射能の計算書!$B$33&照射試料の誘導放射能の計算書!$D$33),\"\")","v":""},{"$f":"IF($K258=照射試料の誘導放射能の計算書!$B$34&照射試料の誘導放射能の計算書!$D$34,COUNTIF($K258:$K516,照射試料の誘導放射能の計算書!$B$34&照射試料の誘導放射能の計算書!$D$34),\"\")","v":""},{"$f":"IF($K258=照射試料の誘導放射能の計算書!$B$35&照射試料の誘導放射能の計算書!$D$35,COUNTIF($K258:$K516,照射試料の誘導放射能の計算書!$B$35&照射試料の誘導放射能の計算書!$D$35),\"\")","v":""},{"$f":"IF($K258=照射試料の誘導放射能の計算書!$B$36&照射試料の誘導放射能の計算書!$D$36,COUNTIF($K258:$K516,照射試料の誘導放射能の計算書!$B$36&照射試料の誘導放射能の計算書!$D$36),\"\")","v":""},{"$f":"IF($K258=照射試料の誘導放射能の計算書!$B$37&照射試料の誘導放射能の計算書!$D$37,COUNTIF($K258:$K516,照射試料の誘導放射能の計算書!$B$37&照射試料の誘導放射能の計算書!$D$37),\"\")","v":""},{"$f":"IF($K258=照射試料の誘導放射能の計算書!$B$38&照射試料の誘導放射能の計算書!$D$38,COUNTIF($K258:$K516,照射試料の誘導放射能の計算書!$B$38&照射試料の誘導放射能の計算書!$D$38),\"\")","v":""},{"$f":"IF($K258=照射試料の誘導放射能の計算書!$B$39&照射試料の誘導放射能の計算書!$D$39,COUNTIF($K258:$K516,照射試料の誘導放射能の計算書!$B$39&照射試料の誘導放射能の計算書!$D$39),\"\")","v":""},{"$f":"IF($K258=照射試料の誘導放射能の計算書!$B$40&照射試料の誘導放射能の計算書!$D$40,COUNTIF($K258:$K516,照射試料の誘導放射能の計算書!$B$40&照射試料の誘導放射能の計算書!$D$40),\"\")","v":""},"Bi-210m","(n,γ)Bi-210m",1.4E-2,3000000,"y"]
[90,null,"Th",232,{"$f":"CONCATENATE(C259,\"-\",D259)","v":"Th-232"},100,"(n,γ)","Th233","Th",{"$f":"RIGHT(H259,3)","v":"233"},"Th-232(n,γ)",{"$f":"IF($K259=照射試料の誘導放射能の計算書!$B$31&照射試料の誘導放射能の計算書!$D$31,COUNTIF($K259:$K517,照射試料の誘導放射能の計算書!$B$31&照射試料の誘導放射能の計算書!$D$31),\"\")","v":""},{"$f":"IF($K259=照射試料の誘導放射能の計算書!$B$32&照射試料の誘導放射能の計算書!$D$32,COUNTIF($K259:$K517,照射試料の誘導放射能の計算書!$B$32&照射試料の誘導放射能の計算書!$D$32),\"\")","v":""},{"$f":"IF($K259=照射試料の誘導放射能の計算書!$B$33&照射試料の誘導放射能の計算書!$D$33,COUNTIF($K259:$K517,照射試料の誘導放射能の計算書!$B$33&照射試料の誘導放射能の計算書!$D$33),\"\")","v":""},{"$f":"IF($K259=照射試料の誘導放射能の計算書!$B$34&照射試料の誘導放射能の計算書!$D$34,COUNTIF($K259:$K517,照射試料の誘導放射能の計算書!$B$34&照射試料の誘導放射能の計算書!$D$34),\"\")","v":""},{"$f":"IF($K259=照射試料の誘導放射能の計算書!$B$35&照射試料の誘導放射能の計算書!$D$35,COUNTIF($K259:$K517,照射試料の誘導放射能の計算書!$B$35&照射試料の誘導放射能の計算書!$D$35),\"\")","v":""},{"$f":"IF($K259=照射試料の誘導放射能の計算書!$B$36&照射試料の誘導放射能の計算書!$D$36,COUNTIF($K259:$K517,照射試料の誘導放射能の計算書!$B$36&照射試料の誘導放射能の計算書!$D$36),\"\")","v":""},{"$f":"IF($K259=照射試料の誘導放射能の計算書!$B$37&照射試料の誘導放射能の計算書!$D$37,COUNTIF($K259:$K517,照射試料の誘導放射能の計算書!$B$37&照射試料の誘導放射能の計算書!$D$37),\"\")","v":""},{"$f":"IF($K259=照射試料の誘導放射能の計算書!$B$38&照射試料の誘導放射能の計算書!$D$38,COUNTIF($K259:$K517,照射試料の誘導放射能の計算書!$B$38&照射試料の誘導放射能の計算書!$D$38),\"\")","v":""},{"$f":"IF($K259=照射試料の誘導放射能の計算書!$B$39&照射試料の誘導放射能の計算書!$D$39,COUNTIF($K259:$K517,照射試料の誘導放射能の計算書!$B$39&照射試料の誘導放射能の計算書!$D$39),\"\")","v":""},{"$f":"IF($K259=照射試料の誘導放射能の計算書!$B$40&照射試料の誘導放射能の計算書!$D$40,COUNTIF($K259:$K517,照射試料の誘導放射能の計算書!$B$40&照射試料の誘導放射能の計算書!$D$40),\"\")","v":""},"Th-233",{"$f":"G259&V259","v":"(n,γ)Th-233"},7.37,22.3,"min"]
[92,null,"U",235,"U-235",0.72,"(n,p)","U236","U2",{"$f":"RIGHT(H260,3)","v":"236"},{"$f":"E260&G260","v":"U-235(n,p)"},{"$f":"IF($K260=照射試料の誘導放射能の計算書!$B$31&照射試料の誘導放射能の計算書!$D$31,COUNTIF($K260:$K518,照射試料の誘導放射能の計算書!$B$31&照射試料の誘導放射能の計算書!$D$31),\"\")","v":""},{"$f":"IF($K260=照射試料の誘導放射能の計算書!$B$32&照射試料の誘導放射能の計算書!$D$32,COUNTIF($K260:$K518,照射試料の誘導放射能の計算書!$B$32&照射試料の誘導放射能の計算書!$D$32),\"\")","v":""},{"$f":"IF($K260=照射試料の誘導放射能の計算書!$B$33&照射試料の誘導放射能の計算書!$D$33,COUNTIF($K260:$K518,照射試料の誘導放射能の計算書!$B$33&照射試料の誘導放射能の計算書!$D$33),\"\")","v":""},{"$f":"IF($K260=照射試料の誘導放射能の計算書!$B$34&照射試料の誘導放射能の計算書!$D$34,COUNTIF($K260:$K518,照射試料の誘導放射能の計算書!$B$34&照射試料の誘導放射能の計算書!$D$34),\"\")","v":""},{"$f":"IF($K260=照射試料の誘導放射能の計算書!$B$35&照射試料の誘導放射能の計算書!$D$35,COUNTIF($K260:$K518,照射試料の誘導放射能の計算書!$B$35&照射試料の誘導放射能の計算書!$D$35),\"\")","v":""},{"$f":"IF($K260=照射試料の誘導放射能の計算書!$B$36&照射試料の誘導放射能の計算書!$D$36,COUNTIF($K260:$K518,照射試料の誘導放射能の計算書!$B$36&照射試料の誘導放射能の計算書!$D$36),\"\")","v":""},{"$f":"IF($K260=照射試料の誘導放射能の計算書!$B$37&照射試料の誘導放射能の計算書!$D$37,COUNTIF($K260:$K518,照射試料の誘導放射能の計算書!$B$37&照射試料の誘導放射能の計算書!$D$37),\"\")","v":""},{"$f":"IF($K260=照射試料の誘導放射能の計算書!$B$38&照射試料の誘導放射能の計算書!$D$38,COUNTIF($K260:$K518,照射試料の誘導放射能の計算書!$B$38&照射試料の誘導放射能の計算書!$D$38),\"\")","v":""},{"$f":"IF($K260=照射試料の誘導放射能の計算書!$B$39&照射試料の誘導放射能の計算書!$D$39,COUNTIF($K260:$K518,照射試料の誘導放射能の計算書!$B$39&照射試料の誘導放射能の計算書!$D$39),\"\")","v":""},{"$f":"IF($K260=照射試料の誘導放射能の計算書!$B$40&照射試料の誘導放射能の計算書!$D$40,COUNTIF($K260:$K518,照射試料の誘導放射能の計算書!$B$40&照射試料の誘導放射能の計算書!$D$40),\"\")","v":""},"U2-236","(n,p)U2-236",98.6,23420000,"y"]
[92,null,"U",238,"U-238",99.274500000000003,"(n,p)","U239","U2",{"$f":"RIGHT(H261,3)","v":"239"},"U-238(n,p)",{"$f":"IF($K261=照射試料の誘導放射能の計算書!$B$31&照射試料の誘導放射能の計算書!$D$31,COUNTIF($K261:$K519,照射試料の誘導放射能の計算書!$B$31&照射試料の誘導放射能の計算書!$D$31),\"\")","v":""},{"$f":"IF($K261=照射試料の誘導放射能の計算書!$B$32&照射試料の誘導放射能の計算書!$D$32,COUNTIF($K261:$K519,照射試料の誘導放射能の計算書!$B$32&照射試料の誘導放射能の計算書!$D$32),\"\")","v":""},{"$f":"IF($K261=照射試料の誘導放射能の計算書!$B$33&照射試料の誘導放射能の計算書!$D$33,COUNTIF($K261:$K519,照射試料の誘導放射能の計算書!$B$33&照射試料の誘導放射能の計算書!$D$33),\"\")","v":""},{"$f":"IF($K261=照射試料の誘導放射能の計算書!$B$34&照射試料の誘導放射能の計算書!$D$34,COUNTIF($K261:$K519,照射試料の誘導放射能の計算書!$B$34&照射試料の誘導放射能の計算書!$D$34),\"\")","v":""},{"$f":"IF($K261=照射試料の誘導放射能の計算書!$B$35&照射試料の誘導放射能の計算書!$D$35,COUNTIF($K261:$K519,照射試料の誘導放射能の計算書!$B$35&照射試料の誘導放射能の計算書!$D$35),\"\")","v":""},{"$f":"IF($K261=照射試料の誘導放射能の計算書!$B$36&照射試料の誘導放射能の計算書!$D$36,COUNTIF($K261:$K519,照射試料の誘導放射能の計算書!$B$36&照射試料の誘導放射能の計算書!$D$36),\"\")","v":""},{"$f":"IF($K261=照射試料の誘導放射能の計算書!$B$37&照射試料の誘導放射能の計算書!$D$37,COUNTIF($K261:$K519,照射試料の誘導放射能の計算書!$B$37&照射試料の誘導放射能の計算書!$D$37),\"\")","v":""},{"$f":"IF($K261=照射試料の誘導放射能の計算書!$B$38&照射試料の誘導放射能の計算書!$D$38,COUNTIF($K261:$K519,照射試料の誘導放射能の計算書!$B$38&照射試料の誘導放射能の計算書!$D$38),\"\")","v":""},{"$f":"IF($K261=照射試料の誘導放射能の計算書!$B$39&照射試料の誘導放射能の計算書!$D$39,COUNTIF($K261:$K519,照射試料の誘導放射能の計算書!$B$39&照射試料の誘導放射能の計算書!$D$39),\"\")","v":""},{"$f":"IF($K261=照射試料の誘導放射能の計算書!$B$40&照射試料の誘導放射能の計算書!$D$40,COUNTIF($K261:$K519,照射試料の誘導放射能の計算書!$B$40&照射試料の誘導放射能の計算書!$D$40),\"\")","v":""},"U2-239","(n,p)U2-239",2.7,23.5,"min"]